Back to Multiple platform build/check report for BioC 3.14
ABCDEFGHIJKLMNOPQRS[T]UVWXYZ

This page was generated on 2021-10-22 12:05:14 -0400 (Fri, 22 Oct 2021).

BUILD results for tweeDEseq on merida1

To the developers/maintainers of the tweeDEseq package:
- Please allow up to 24 hours (and sometimes 48 hours) for your latest push to git@git.bioconductor.org:packages/tweeDEseq.git to
reflect on this report. See How and When does the builder pull? When will my changes propagate? here for more information.
- Make sure to use the following settings in order to reproduce any error or warning you see on this page.

raw results

Package 2011/2075HostnameOS / ArchINSTALLBUILDCHECKBUILD BIN
tweeDEseq 1.39.0  (landing page)
Juan R Gonzalez
Snapshot Date: 2021-10-21 14:50:08 -0400 (Thu, 21 Oct 2021)
git_url: https://git.bioconductor.org/packages/tweeDEseq
git_branch: master
git_last_commit: 5da02fe
git_last_commit_date: 2021-05-19 11:50:43 -0400 (Wed, 19 May 2021)
nebbiolo2Linux (Ubuntu 20.04.2 LTS) / x86_64  OK    OK    OK  UNNEEDED, same version is already published
riesling1Windows Server 2019 Standard / x64  OK    OK    OK    OK  UNNEEDED, same version is already published
merida1macOS 10.14.6 Mojave / x86_64  OK    OK    OK    NA  

Summary

Package: tweeDEseq
Version: 1.39.0
Command: /Library/Frameworks/R.framework/Resources/bin/R CMD build --keep-empty-dirs --no-resave-data tweeDEseq
StartedAt: 2021-10-21 23:53:06 -0400 (Thu, 21 Oct 2021)
EndedAt: 2021-10-22 00:03:02 -0400 (Fri, 22 Oct 2021)
EllapsedTime: 596.3 seconds
RetCode: 0
Status:   OK  
PackageFile: tweeDEseq_1.39.0.tar.gz
PackageFileSize: 358.9 KiB

Command output

##############################################################################
##############################################################################
###
### Running command:
###
###   /Library/Frameworks/R.framework/Resources/bin/R CMD build --keep-empty-dirs --no-resave-data tweeDEseq
###
##############################################################################
##############################################################################


* checking for file ‘tweeDEseq/DESCRIPTION’ ... OK
* preparing ‘tweeDEseq’:
* checking DESCRIPTION meta-information ... OK
* cleaning src
* installing the package to build vignettes
* creating vignettes ... OK
* cleaning src
* checking for LF line-endings in source and make files and shell scripts
* checking for empty or unneeded directories
* looking to see if a ‘data/datalist’ file should be added
* building ‘tweeDEseq_1.39.0.tar.gz’