![]() | Name | Last modified | Size | Description |
---|---|---|---|---|
![]() | Parent Directory | - | ||
![]() | buildsrc-out.txt | 04-Oct-2023 00:41 | 855 | |
![]() | buildsrc-summary.dcf | 04-Oct-2023 00:41 | 406 | |
![]() | checksrc-out.txt | 04-Oct-2023 00:41 | 6.5K | |
![]() | checksrc-summary.dcf | 04-Oct-2023 00:41 | 394 | |
![]() | install-out.txt | 04-Oct-2023 00:41 | 1.0K | |
![]() | install-summary.dcf | 04-Oct-2023 00:41 | 249 | |