![]() | Name | Last modified | Size | Description |
---|---|---|---|---|
![]() | Parent Directory | - | ||
![]() | buildsrc-out.txt | 22-Sep-2023 00:37 | 861 | |
![]() | buildsrc-summary.dcf | 22-Sep-2023 00:37 | 412 | |
![]() | checksrc-out.txt | 22-Sep-2023 00:37 | 6.4K | |
![]() | checksrc-summary.dcf | 22-Sep-2023 00:37 | 406 | |
![]() | install-out.txt | 22-Sep-2023 00:37 | 1.1K | |
![]() | install-summary.dcf | 22-Sep-2023 00:37 | 255 | |