![]() | Name | Last modified | Size | Description |
---|---|---|---|---|
![]() | Parent Directory | - | ||
![]() | buildbin-out.txt | 22-Sep-2023 00:40 | 1.3K | |
![]() | buildbin-summary.dcf | 22-Sep-2023 00:40 | 518 | |
![]() | buildsrc-out.txt | 22-Sep-2023 00:40 | 871 | |
![]() | buildsrc-summary.dcf | 22-Sep-2023 00:40 | 422 | |
![]() | checksrc-out.txt | 22-Sep-2023 00:40 | 6.6K | |
![]() | checksrc-summary.dcf | 22-Sep-2023 00:40 | 436 | |
![]() | install-out.txt | 22-Sep-2023 00:40 | 1.1K | |
![]() | install-summary.dcf | 22-Sep-2023 00:40 | 265 | |