Back to Multiple platform build/check report for BioC 3.17: simplified long |
|
This page was generated on 2023-02-04 11:05:51 -0500 (Sat, 04 Feb 2023).
Hostname | OS | Arch (*) | R version | Installed pkgs |
---|---|---|---|---|
nebbiolo1 | Linux (Ubuntu 22.04.1 LTS) | x86_64 | R Under development (unstable) (2023-01-10 r83596) -- "Unsuffered Consequences" | 4483 |
palomino3 | Windows Server 2022 Datacenter | x64 | R Under development (unstable) (2023-01-10 r83596 ucrt) -- "Unsuffered Consequences" | 4249 |
merida1 | macOS 10.14.6 Mojave | x86_64 | R Under development (unstable) (2023-01-10 r83596) -- "Unsuffered Consequences" | 4272 |
Click on any hostname to see more info about the system (e.g. compilers) (*) as reported by 'uname -p', except on Windows and Mac OS X |
To the developers/maintainers of the singscore package: - Please allow up to 24 hours (and sometimes 48 hours) for your latest push to git@git.bioconductor.org:packages/singscore.git to reflect on this report. See How and When does the builder pull? When will my changes propagate? for more information. - Make sure to use the following settings in order to reproduce any error or warning you see on this page. |
Package 1879/2164 | Hostname | OS / Arch | INSTALL | BUILD | CHECK | BUILD BIN | ||||||||
singscore 1.19.0 (landing page) Dharmesh D. Bhuva
| nebbiolo1 | Linux (Ubuntu 22.04.1 LTS) / x86_64 | OK | OK | OK | ![]() | ||||||||
palomino3 | Windows Server 2022 Datacenter / x64 | OK | OK | OK | NA | |||||||||
merida1 | macOS 10.14.6 Mojave / x86_64 | OK | OK | OK | OK | ![]() | ||||||||
Package: singscore |
Version: 1.19.0 |
Command: chmod a+r singscore -R && F:\biocbuild\bbs-3.17-bioc\R\bin\R.exe CMD build --keep-empty-dirs --no-resave-data singscore |
StartedAt: 2023-02-03 21:59:13 -0500 (Fri, 03 Feb 2023) |
EndedAt: 2023-02-03 22:00:18 -0500 (Fri, 03 Feb 2023) |
EllapsedTime: 65.2 seconds |
RetCode: 0 |
Status: OK |
PackageFile: singscore_1.19.0.tar.gz |
PackageFileSize: 2.357 MiB |
############################################################################## ############################################################################## ### ### Running command: ### ### chmod a+r singscore -R && F:\biocbuild\bbs-3.17-bioc\R\bin\R.exe CMD build --keep-empty-dirs --no-resave-data singscore ### ############################################################################## ############################################################################## * checking for file 'singscore/DESCRIPTION' ... OK * preparing 'singscore': * checking DESCRIPTION meta-information ...Warning in person1(given = given[[i]], family = family[[i]], middle = middle[[i]], : It is recommended to use 'given' instead of 'middle'. OK * installing the package to build vignettes * creating vignettes ... OK Warning in person1(given = given[[i]], family = family[[i]], middle = middle[[i]], : It is recommended to use 'given' instead of 'middle'. * checking for LF line-endings in source and make files and shell scripts * checking for empty or unneeded directories * building 'singscore_1.19.0.tar.gz'