Back to Multiple platform build/check report for BioC 3.16 |
|
This page was generated on 2022-06-24 11:07:10 -0400 (Fri, 24 Jun 2022).
Hostname | OS | Arch (*) | R version | Installed pkgs |
---|---|---|---|---|
nebbiolo2 | Linux (Ubuntu 20.04.4 LTS) | x86_64 | 4.2.0 Patched (2022-06-02 r82447) -- "Vigorous Calisthenics" | 4331 |
palomino4 | Windows Server 2022 Datacenter | x64 | 4.2.0 Patched (2022-06-02 r82447 ucrt) -- "Vigorous Calisthenics" | 4136 |
lconway | macOS 12.2.1 Monterey | x86_64 | 4.2.0 Patched (2022-05-29 r82424) -- "Vigorous Calisthenics" | 4147 |
Click on any hostname to see more info about the system (e.g. compilers) (*) as reported by 'uname -p', except on Windows and Mac OS X |
To the developers/maintainers of the scDataviz package: - Please allow up to 24 hours (and sometimes 48 hours) for your latest push to git@git.bioconductor.org:packages/scDataviz.git to reflect on this report. See How and When does the builder pull? When will my changes propagate? for more information. - Make sure to use the following settings in order to reproduce any error or warning you see on this page. |
Package 1743/2118 | Hostname | OS / Arch | INSTALL | BUILD | CHECK | BUILD BIN | ||||||||
scDataviz 1.7.0 (landing page) Kevin Blighe
| nebbiolo2 | Linux (Ubuntu 20.04.4 LTS) / x86_64 | OK | OK | OK | ![]() | ||||||||
palomino4 | Windows Server 2022 Datacenter / x64 | OK | OK | OK | OK | ![]() | ||||||||
lconway | macOS 12.2.1 Monterey / x86_64 | OK | OK | OK | OK | ![]() | ||||||||
Package: scDataviz |
Version: 1.7.0 |
Command: C:\cygwin\bin\curl.exe -O http://155.52.207.166/BBS/3.16/bioc/src/contrib/scDataviz_1.7.0.tar.gz && rm -rf scDataviz.buildbin-libdir && mkdir scDataviz.buildbin-libdir && F:\biocbuild\bbs-3.16-bioc\R\bin\R.exe CMD INSTALL --merge-multiarch --build --library=scDataviz.buildbin-libdir scDataviz_1.7.0.tar.gz && F:\biocbuild\bbs-3.16-bioc\R\bin\R.exe CMD INSTALL scDataviz_1.7.0.zip && rm scDataviz_1.7.0.tar.gz scDataviz_1.7.0.zip |
StartedAt: 2022-06-23 16:03:18 -0400 (Thu, 23 Jun 2022) |
EndedAt: 2022-06-23 16:04:01 -0400 (Thu, 23 Jun 2022) |
EllapsedTime: 43.2 seconds |
RetCode: 0 |
Status: OK |
############################################################################## ############################################################################## ### ### Running command: ### ### C:\cygwin\bin\curl.exe -O http://155.52.207.166/BBS/3.16/bioc/src/contrib/scDataviz_1.7.0.tar.gz && rm -rf scDataviz.buildbin-libdir && mkdir scDataviz.buildbin-libdir && F:\biocbuild\bbs-3.16-bioc\R\bin\R.exe CMD INSTALL --merge-multiarch --build --library=scDataviz.buildbin-libdir scDataviz_1.7.0.tar.gz && F:\biocbuild\bbs-3.16-bioc\R\bin\R.exe CMD INSTALL scDataviz_1.7.0.zip && rm scDataviz_1.7.0.tar.gz scDataviz_1.7.0.zip ### ############################################################################## ############################################################################## % Total % Received % Xferd Average Speed Time Time Time Current Dload Upload Total Spent Left Speed 0 0 0 0 0 0 0 0 --:--:-- --:--:-- --:--:-- 0 1 3770k 1 61735 0 0 1062k 0 0:00:03 --:--:-- 0:00:03 1057k 100 3770k 100 3770k 0 0 11.5M 0 --:--:-- --:--:-- --:--:-- 11.5M only one architecture so ignoring '--merge-multiarch' * installing *source* package 'scDataviz' ... ** using staged installation ** R ** inst ** byte-compile and prepare package for lazy loading ** help *** installing help indices ** building package indices ** installing vignettes ** testing if installed package can be loaded from temporary location ** testing if installed package can be loaded from final location ** testing if installed package keeps a record of temporary installation path * MD5 sums packaged installation of 'scDataviz' as scDataviz_1.7.0.zip * DONE (scDataviz) * installing to library 'F:/biocbuild/bbs-3.16-bioc/R/library' package 'scDataviz' successfully unpacked and MD5 sums checked