Back to Multiple platform build/check report for BioC 3.17:   simplified   long
ABCDEFGHIJKLMNOPQR[S]TUVWXYZ

This page was generated on 2023-03-18 11:06:24 -0400 (Sat, 18 Mar 2023).

HostnameOSArch (*)R versionInstalled pkgs
nebbiolo1Linux (Ubuntu 22.04.1 LTS)x86_64R Under development (unstable) (2023-03-16 r83996) -- "Unsuffered Consequences" 4282
palomino3Windows Server 2022 Datacenterx64R Under development (unstable) (2023-03-15 r83984 ucrt) -- "Unsuffered Consequences" 4279
merida1macOS 10.14.6 Mojavex86_64R Under development (unstable) (2023-03-16 r83985) -- "Unsuffered Consequences" 4145
Click on any hostname to see more info about the system (e.g. compilers)      (*) as reported by 'uname -p', except on Windows and Mac OS X

BUILD BIN results for scAnnotatR on merida1


To the developers/maintainers of the scAnnotatR package:
- Please allow up to 24 hours (and sometimes 48 hours) for your latest push to git@git.bioconductor.org:packages/scAnnotatR.git to
reflect on this report. See How and When does the builder pull? When will my changes propagate? for more information.
- Make sure to use the following settings in order to reproduce any error or warning you see on this page.

raw results

Package 1787/2189HostnameOS / ArchINSTALLBUILDCHECKBUILD BIN
scAnnotatR 1.5.2  (landing page)
Johannes Griss
Snapshot Date: 2023-03-17 14:27:35 -0400 (Fri, 17 Mar 2023)
git_url: https://git.bioconductor.org/packages/scAnnotatR
git_branch: master
git_last_commit: 3b93845
git_last_commit_date: 2023-03-05 16:29:31 -0400 (Sun, 05 Mar 2023)
nebbiolo1Linux (Ubuntu 22.04.1 LTS) / x86_64  OK    OK    WARNINGS  UNNEEDED, same version is already published
palomino3Windows Server 2022 Datacenter / x64  OK    OK    WARNINGS    NA  
merida1macOS 10.14.6 Mojave / x86_64  OK    OK    WARNINGS    OK  UNNEEDED, same version is already published

Summary

Package: scAnnotatR
Version: 1.5.2
Command: rm -rf scAnnotatR.buildbin-libdir && mkdir scAnnotatR.buildbin-libdir && /Users/biocbuild/BBS/utils/build-universal.sh scAnnotatR_1.5.2.tar.gz /Library/Frameworks/R.framework/Resources/bin/R scAnnotatR.buildbin-libdir
StartedAt: 2023-03-18 08:48:27 -0400 (Sat, 18 Mar 2023)
EndedAt: 2023-03-18 08:52:01 -0400 (Sat, 18 Mar 2023)
EllapsedTime: 214.1 seconds
RetCode: 0
Status:   OK  
PackageFile: scAnnotatR_1.5.2.tgz
PackageFileSize: 973.6 KiB

Command output

##############################################################################
##############################################################################
###
### Running command:
###
###   rm -rf scAnnotatR.buildbin-libdir && mkdir scAnnotatR.buildbin-libdir && /Users/biocbuild/BBS/utils/build-universal.sh scAnnotatR_1.5.2.tar.gz /Library/Frameworks/R.framework/Resources/bin/R scAnnotatR.buildbin-libdir
###
##############################################################################
##############################################################################


>>>>>>> 
>>>>>>> INSTALLATION WITH 'R CMD INSTALL --preclean --no-multiarch --library=scAnnotatR.buildbin-libdir scAnnotatR_1.5.2.tar.gz'
>>>>>>> 

* installing *source* package ‘scAnnotatR’ ...
** using staged installation
** R
** data
*** moving datasets to lazyload DB
** inst
** byte-compile and prepare package for lazy loading
Warning: replacing previous import ‘ape::where’ by ‘dplyr::where’ when loading ‘scAnnotatR’
** help
*** installing help indices
** building package indices
** installing vignettes
** testing if installed package can be loaded from temporary location
Warning: replacing previous import ‘ape::where’ by ‘dplyr::where’ when loading ‘scAnnotatR’
** testing if installed package can be loaded from final location
Warning: replacing previous import ‘ape::where’ by ‘dplyr::where’ when loading ‘scAnnotatR’
** testing if installed package keeps a record of temporary installation path
* DONE (scAnnotatR)