Back to Multiple platform build/check report for BioC 3.17:   simplified   long
ABCDEFGHIJKLMNOPQ[R]STUVWXYZ

This page was generated on 2023-02-03 11:06:18 -0500 (Fri, 03 Feb 2023).

HostnameOSArch (*)R versionInstalled pkgs
nebbiolo1Linux (Ubuntu 22.04.1 LTS)x86_64R Under development (unstable) (2023-01-10 r83596) -- "Unsuffered Consequences" 4483
palomino3Windows Server 2022 Datacenterx64R Under development (unstable) (2023-01-10 r83596 ucrt) -- "Unsuffered Consequences" 4249
merida1macOS 10.14.6 Mojavex86_64R Under development (unstable) (2023-01-10 r83596) -- "Unsuffered Consequences" 4272
Click on any hostname to see more info about the system (e.g. compilers)      (*) as reported by 'uname -p', except on Windows and Mac OS X

BUILD BIN results for rTRM on palomino3


To the developers/maintainers of the rTRM package:
- Please allow up to 24 hours (and sometimes 48 hours) for your latest push to git@git.bioconductor.org:packages/rTRM.git to
reflect on this report. See How and When does the builder pull? When will my changes propagate? for more information.
- Make sure to use the following settings in order to reproduce any error or warning you see on this page.

raw results

Package 1737/2164HostnameOS / ArchINSTALLBUILDCHECKBUILD BIN
rTRM 1.37.0  (landing page)
Diego Diez
Snapshot Date: 2023-02-02 14:00:21 -0500 (Thu, 02 Feb 2023)
git_url: https://git.bioconductor.org/packages/rTRM
git_branch: master
git_last_commit: 6f969e7
git_last_commit_date: 2022-11-01 11:08:23 -0500 (Tue, 01 Nov 2022)
nebbiolo1Linux (Ubuntu 22.04.1 LTS) / x86_64  OK    OK    OK  UNNEEDED, same version is already published
palomino3Windows Server 2022 Datacenter / x64  OK    OK    OK    OK  UNNEEDED, same version is already published
merida1macOS 10.14.6 Mojave / x86_64  OK    OK    OK    OK  UNNEEDED, same version is already published

Summary

Package: rTRM
Version: 1.37.0
Command: rm -rf rTRM.buildbin-libdir && mkdir rTRM.buildbin-libdir && F:\biocbuild\bbs-3.17-bioc\R\bin\R.exe CMD INSTALL --build --library=rTRM.buildbin-libdir rTRM_1.37.0.tar.gz
StartedAt: 2023-02-03 08:48:53 -0500 (Fri, 03 Feb 2023)
EndedAt: 2023-02-03 08:49:17 -0500 (Fri, 03 Feb 2023)
EllapsedTime: 24.5 seconds
RetCode: 0
Status:   OK  
PackageFile: rTRM_1.37.0.zip
PackageFileSize: 3.123 MiB

Command output

##############################################################################
##############################################################################
###
### Running command:
###
###   rm -rf rTRM.buildbin-libdir && mkdir rTRM.buildbin-libdir && F:\biocbuild\bbs-3.17-bioc\R\bin\R.exe CMD INSTALL --build --library=rTRM.buildbin-libdir rTRM_1.37.0.tar.gz
###
##############################################################################
##############################################################################


* installing *source* package 'rTRM' ...
** using staged installation
** R
** data
** inst
** byte-compile and prepare package for lazy loading
** help
Loading required package: igraph

Attaching package: 'igraph'

The following objects are masked from 'package:stats':

    decompose, spectrum

The following object is masked from 'package:base':

    union

*** installing help indices
** building package indices
** installing vignettes
** testing if installed package can be loaded from temporary location
** testing if installed package can be loaded from final location
** testing if installed package keeps a record of temporary installation path
* MD5 sums
packaged installation of 'rTRM' as rTRM_1.37.0.zip
* DONE (rTRM)