Back to Multiple platform build/check report for BioC 3.19: simplified long |
|
This page was generated on 2023-12-04 11:39:26 -0500 (Mon, 04 Dec 2023).
Hostname | OS | Arch (*) | R version | Installed pkgs |
---|---|---|---|---|
nebbiolo1 | Linux (Ubuntu 22.04.2 LTS) | x86_64 | R Under development (unstable) (2023-11-11 r85510) -- "Unsuffered Consequences" | 4602 |
palomino3 | Windows Server 2022 Datacenter | x64 | R Under development (unstable) (2023-11-14 r85524 ucrt) -- "Unsuffered Consequences" | 4345 |
merida1 | macOS 12.7.1 Monterey | x86_64 | R Under development (unstable) (2023-11-11 r85510) -- "Unsuffered Consequences" | 4370 |
kunpeng2 | Linux (openEuler 22.03 LTS-SP1) | aarch64 | R Under development (unstable) (2023-11-01 r85459) -- "Unsuffered Consequences" | 4255 |
Click on any hostname to see more info about the system (e.g. compilers) (*) as reported by 'uname -p', except on Windows and Mac OS X |
Package 1576/2225 | Hostname | OS / Arch | INSTALL | BUILD | CHECK | BUILD BIN | ||||||||
protGear 1.7.0 (landing page) Kennedy Mwai
| nebbiolo1 | Linux (Ubuntu 22.04.2 LTS) / x86_64 | OK | OK | OK | ![]() | ||||||||
palomino3 | Windows Server 2022 Datacenter / x64 | OK | OK | OK | OK | ![]() | ||||||||
merida1 | macOS 12.7.1 Monterey / x86_64 | OK | OK | OK | OK | ![]() | ||||||||
kunpeng2 | Linux (openEuler 22.03 LTS-SP1) / aarch64 | OK | OK | OK | ||||||||||
To the developers/maintainers of the protGear package: - Allow up to 24 hours (and sometimes 48 hours) for your latest push to git@git.bioconductor.org:packages/protGear.git to reflect on this report. See Troubleshooting Build Report for more information. - Use the following Renviron settings to reproduce errors and warnings. - If 'R CMD check' started to fail recently on the Linux builder(s) over a missing dependency, add the missing dependency to 'Suggests:' in your DESCRIPTION file. See Renviron.bioc for more information. - See Martin Grigorov's blog post for how to debug Linux ARM64 related issues on a x86_64 host. |
Package: protGear |
Version: 1.7.0 |
Command: /home/biocbuild/R/R-4.4-devel-2023.11.02/bin/R CMD INSTALL protGear |
StartedAt: 2023-12-03 21:23:35 -0000 (Sun, 03 Dec 2023) |
EndedAt: 2023-12-03 21:24:09 -0000 (Sun, 03 Dec 2023) |
EllapsedTime: 34.4 seconds |
RetCode: 0 |
Status: OK |
############################################################################## ############################################################################## ### ### Running command: ### ### /home/biocbuild/R/R-4.4-devel-2023.11.02/bin/R CMD INSTALL protGear ### ############################################################################## ############################################################################## * installing to library ‘/home/biocbuild/R/R-4.4-devel-2023.11.02/site-library’ * installing *source* package ‘protGear’ ... ** using staged installation ** R ** inst ** byte-compile and prepare package for lazy loading Warning in normalizePath(tools::R_user_dir("R.cache", which = "cache")) : path[1]="/home/biocbuild/.cache/R/R.cache": No such file or directory Warning in normalizePath(tools::R_user_dir("R.cache", which = "cache")) : path[1]="/home/biocbuild/.cache/R/R.cache": No such file or directory Warning in normalizePath(tools::R_user_dir("R.cache", which = "cache")) : path[1]="/home/biocbuild/.cache/R/R.cache": No such file or directory ** help *** installing help indices *** copying figures ** building package indices ** installing vignettes ** testing if installed package can be loaded from temporary location Warning in normalizePath(tools::R_user_dir("R.cache", which = "cache")) : path[1]="/home/biocbuild/.cache/R/R.cache": No such file or directory Warning in normalizePath(tools::R_user_dir("R.cache", which = "cache")) : path[1]="/home/biocbuild/.cache/R/R.cache": No such file or directory Warning in normalizePath(tools::R_user_dir("R.cache", which = "cache")) : path[1]="/home/biocbuild/.cache/R/R.cache": No such file or directory ** testing if installed package can be loaded from final location Warning in normalizePath(tools::R_user_dir("R.cache", which = "cache")) : path[1]="/home/biocbuild/.cache/R/R.cache": No such file or directory Warning in normalizePath(tools::R_user_dir("R.cache", which = "cache")) : path[1]="/home/biocbuild/.cache/R/R.cache": No such file or directory Warning in normalizePath(tools::R_user_dir("R.cache", which = "cache")) : path[1]="/home/biocbuild/.cache/R/R.cache": No such file or directory ** testing if installed package keeps a record of temporary installation path * DONE (protGear)