Index of /checkResults/devel/bioc-LATEST/phyloseq/raw-results
Name
Last modified
Size
Description
Parent Directory
-
info.dcf
08-Dec-2023 01:39
1.0K
kunpeng2/
08-Dec-2023 01:39
-
merida1/
08-Dec-2023 01:38
-
nebbiolo1/
08-Dec-2023 01:36
-
palomino3/
08-Dec-2023 01:37
-