Index of /checkResults/devel/bioc-LATEST/phyloseq/raw-results/kunpeng2

[ICO]NameLast modifiedSizeDescription

[DIR]Parent Directory  -  
[TXT]buildsrc-out.txt08-Dec-2023 01:39 882  
[   ]buildsrc-summary.dcf08-Dec-2023 01:39 430  
[TXT]checksrc-out.txt08-Dec-2023 01:39 12K 
[   ]checksrc-summary.dcf08-Dec-2023 01:39 457  
[TXT]install-out.txt08-Dec-2023 01:39 1.0K 
[   ]install-summary.dcf08-Dec-2023 01:39 270