Index of /checkResults/devel/bioc-LATEST/phyloseq/raw-results/palomino3

[ICO]NameLast modifiedSizeDescription

[DIR]Parent Directory  -  
[TXT]buildbin-out.txt29-Feb-2024 01:38 1.1K 
[   ]buildbin-summary.dcf29-Feb-2024 01:38 521  
[TXT]buildsrc-out.txt29-Feb-2024 01:38 904  
[   ]buildsrc-summary.dcf29-Feb-2024 01:38 457  
[TXT]checksrc-out.txt29-Feb-2024 01:38 11K 
[   ]checksrc-summary.dcf29-Feb-2024 01:38 457  
[TXT]install-out.txt29-Feb-2024 01:38 1.0K 
[   ]install-summary.dcf29-Feb-2024 01:38 271