Index of /checkResults/devel/bioc-LATEST/phyloseq/raw-results/nebbiolo1

[ICO]NameLast modifiedSizeDescription

[DIR]Parent Directory  -  
[TXT]buildsrc-out.txt29-Feb-2024 01:36 873  
[   ]buildsrc-summary.dcf29-Feb-2024 01:36 421  
[TXT]checksrc-out.txt29-Feb-2024 01:36 12K 
[   ]checksrc-summary.dcf29-Feb-2024 01:36 424  
[TXT]install-out.txt29-Feb-2024 01:36 963  
[   ]install-summary.dcf29-Feb-2024 01:36 261