Back to Multiple platform build/check report for BioC 3.18:   simplified   long
ABCDEFGHIJKLMNO[P]QRSTUVWXYZ

This page was generated on 2023-10-02 11:37:54 -0400 (Mon, 02 Oct 2023).

HostnameOSArch (*)R versionInstalled pkgs
nebbiolo2Linux (Ubuntu 22.04.2 LTS)x86_644.3.1 (2023-06-16) -- "Beagle Scouts" 4660
palomino4Windows Server 2022 Datacenterx644.3.1 (2023-06-16 ucrt) -- "Beagle Scouts" 4396
lconwaymacOS 12.6.5 Montereyx86_644.3.1 Patched (2023-06-17 r84564) -- "Beagle Scouts" 4416
kunpeng2Linux (openEuler 22.03 LTS-SP1)aarch644.3.1 (2023-06-16) -- "Beagle Scouts" 4401
Click on any hostname to see more info about the system (e.g. compilers)      (*) as reported by 'uname -p', except on Windows and Mac OS X

Package 1492/2233HostnameOS / ArchINSTALLBUILDCHECKBUILD BIN
paxtoolsr 1.35.0  (landing page)
Augustin Luna
Snapshot Date: 2023-10-01 14:05:07 -0400 (Sun, 01 Oct 2023)
git_url: https://git.bioconductor.org/packages/paxtoolsr
git_branch: devel
git_last_commit: 059017a
git_last_commit_date: 2023-04-25 10:35:26 -0400 (Tue, 25 Apr 2023)
nebbiolo2Linux (Ubuntu 22.04.2 LTS) / x86_64  OK    OK    OK  UNNEEDED, same version is already published
palomino4Windows Server 2022 Datacenter / x64  OK    OK    ERROR    OK  
lconwaymacOS 12.6.5 Monterey / x86_64  OK    OK    ERROR    OK  
kunpeng2Linux (openEuler 22.03 LTS-SP1) / aarch64  OK    OK    ERROR  

BUILD results for paxtoolsr on palomino4


To the developers/maintainers of the paxtoolsr package:
- Allow up to 24 hours (and sometimes 48 hours) for your latest push to git@git.bioconductor.org:packages/paxtoolsr.git to reflect on this report. See Troubleshooting Build Report for more information.
- Use the following Renviron settings to reproduce errors and warnings.
- If 'R CMD check' started to fail recently on the Linux builder(s) over a missing dependency, add the missing dependency to 'Suggests:' in your DESCRIPTION file. See Renviron.bioc for more information.

raw results


Summary

Package: paxtoolsr
Version: 1.35.0
Command: chmod a+r paxtoolsr -R && F:\biocbuild\bbs-3.18-bioc\R\bin\R.exe CMD build --keep-empty-dirs --no-resave-data paxtoolsr
StartedAt: 2023-10-01 20:33:21 -0400 (Sun, 01 Oct 2023)
EndedAt: 2023-10-01 20:34:28 -0400 (Sun, 01 Oct 2023)
EllapsedTime: 67.0 seconds
RetCode: 0
Status:   OK  
PackageFile: paxtoolsr_1.35.0.tar.gz
PackageFileSize: 24.71 MiB

Command output

##############################################################################
##############################################################################
###
### Running command:
###
###   chmod a+r paxtoolsr -R && F:\biocbuild\bbs-3.18-bioc\R\bin\R.exe CMD build --keep-empty-dirs --no-resave-data paxtoolsr
###
##############################################################################
##############################################################################


* checking for file 'paxtoolsr/DESCRIPTION' ... OK
* preparing 'paxtoolsr':
* checking DESCRIPTION meta-information ... OK
* installing the package to build vignettes
* creating vignettes ... OK
* checking for LF line-endings in source and make files and shell scripts
* checking for empty or unneeded directories
Omitted 'LazyData' from DESCRIPTION
* building 'paxtoolsr_1.35.0.tar.gz'