Back to Multiple platform build/check report for BioC 3.19: simplified long |
|
This page was generated on 2024-03-28 11:36:51 -0400 (Thu, 28 Mar 2024).
Hostname | OS | Arch (*) | R version | Installed pkgs |
---|---|---|---|---|
nebbiolo1 | Linux (Ubuntu 22.04.3 LTS) | x86_64 | R Under development (unstable) (2024-03-18 r86148) -- "Unsuffered Consequences" | 4708 |
palomino3 | Windows Server 2022 Datacenter | x64 | R Under development (unstable) (2024-03-16 r86144 ucrt) -- "Unsuffered Consequences" | 4446 |
lconway | macOS 12.7.1 Monterey | x86_64 | R Under development (unstable) (2024-03-18 r86148) -- "Unsuffered Consequences" | 4471 |
kunpeng2 | Linux (openEuler 22.03 LTS-SP1) | aarch64 | R Under development (unstable) (2024-03-19 r86153) -- "Unsuffered Consequences" | 4426 |
Click on any hostname to see more info about the system (e.g. compilers) (*) as reported by 'uname -p', except on Windows and Mac OS X |
Package 1508/2270 | Hostname | OS / Arch | INSTALL | BUILD | CHECK | BUILD BIN | ||||||||
paxtoolsr 1.37.0 (landing page) Augustin Luna
| nebbiolo1 | Linux (Ubuntu 22.04.3 LTS) / x86_64 | OK | OK | OK | |||||||||
palomino3 | Windows Server 2022 Datacenter / x64 | OK | OK | ERROR | OK | |||||||||
lconway | macOS 12.7.1 Monterey / x86_64 | OK | OK | ERROR | OK | |||||||||
kunpeng2 | Linux (openEuler 22.03 LTS-SP1) / aarch64 | OK | OK | ERROR | ||||||||||
To the developers/maintainers of the paxtoolsr package: - Allow up to 24 hours (and sometimes 48 hours) for your latest push to git@git.bioconductor.org:packages/paxtoolsr.git to reflect on this report. See Troubleshooting Build Report for more information. - Use the following Renviron settings to reproduce errors and warnings. - If 'R CMD check' started to fail recently on the Linux builder(s) over a missing dependency, add the missing dependency to 'Suggests:' in your DESCRIPTION file. See Renviron.bioc for more information. |
Package: paxtoolsr |
Version: 1.37.0 |
Command: /home/biocbuild/bbs-3.19-bioc/R/bin/R CMD check --install=check:paxtoolsr.install-out.txt --library=/home/biocbuild/bbs-3.19-bioc/R/site-library --timings paxtoolsr_1.37.0.tar.gz |
StartedAt: 2024-03-28 01:17:53 -0400 (Thu, 28 Mar 2024) |
EndedAt: 2024-03-28 01:20:28 -0400 (Thu, 28 Mar 2024) |
EllapsedTime: 154.2 seconds |
RetCode: 0 |
Status: OK |
CheckDir: paxtoolsr.Rcheck |
Warnings: 0 |
############################################################################## ############################################################################## ### ### Running command: ### ### /home/biocbuild/bbs-3.19-bioc/R/bin/R CMD check --install=check:paxtoolsr.install-out.txt --library=/home/biocbuild/bbs-3.19-bioc/R/site-library --timings paxtoolsr_1.37.0.tar.gz ### ############################################################################## ############################################################################## * using log directory ‘/home/biocbuild/bbs-3.19-bioc/meat/paxtoolsr.Rcheck’ * using R Under development (unstable) (2024-03-18 r86148) * using platform: x86_64-pc-linux-gnu * R was compiled by gcc (Ubuntu 11.4.0-1ubuntu1~22.04) 11.4.0 GNU Fortran (Ubuntu 11.4.0-1ubuntu1~22.04) 11.4.0 * running under: Ubuntu 22.04.4 LTS * using session charset: UTF-8 * checking for file ‘paxtoolsr/DESCRIPTION’ ... OK * checking extension type ... Package * this is package ‘paxtoolsr’ version ‘1.37.0’ * package encoding: UTF-8 * checking package namespace information ... OK * checking package dependencies ... OK * checking if this is a source package ... OK * checking if there is a namespace ... OK * checking for hidden files and directories ... OK * checking for portable file names ... OK * checking for sufficient/correct file permissions ... OK * checking whether package ‘paxtoolsr’ can be installed ... OK * checking installed package size ... NOTE installed size is 26.8Mb sub-directories of 1Mb or more: extdata 3.0Mb java 23.5Mb * checking package directory ... OK * checking ‘build’ directory ... OK * checking DESCRIPTION meta-information ... OK * checking top-level files ... OK * checking for left-over files ... OK * checking index information ... OK * checking package subdirectories ... OK * checking code files for non-ASCII characters ... OK * checking R files for syntax errors ... OK * checking whether the package can be loaded ... OK * checking whether the package can be loaded with stated dependencies ... OK * checking whether the package can be unloaded cleanly ... OK * checking whether the namespace can be loaded with stated dependencies ... OK * checking whether the namespace can be unloaded cleanly ... OK * checking loading without being on the library search path ... OK * checking whether startup messages can be suppressed ... OK * checking dependencies in R code ... OK * checking S3 generic/method consistency ... OK * checking replacement functions ... OK * checking foreign function calls ... OK * checking R code for possible problems ... NOTE splitSifnxByPathway: no visible global function definition for ‘%dopar%’ Undefined global functions or variables: %dopar% * checking Rd files ... OK * checking Rd metadata ... OK * checking Rd cross-references ... OK * checking for missing documentation entries ... OK * checking for code/documentation mismatches ... OK * checking Rd \usage sections ... OK * checking Rd contents ... OK * checking for unstated dependencies in examples ... OK * checking files in ‘vignettes’ ... OK * checking examples ... OK Examples with CPU (user + system) or elapsed time > 5s user system elapsed readPcPathwaysInfo 32.359 0.742 33.025 * checking for unstated dependencies in ‘tests’ ... OK * checking tests ... Running ‘testthat.R’ OK * checking for unstated dependencies in vignettes ... OK * checking package vignettes ... OK * checking re-building of vignette outputs ... OK * checking PDF version of manual ... OK * DONE Status: 2 NOTEs See ‘/home/biocbuild/bbs-3.19-bioc/meat/paxtoolsr.Rcheck/00check.log’ for details.
paxtoolsr.Rcheck/00install.out
############################################################################## ############################################################################## ### ### Running command: ### ### /home/biocbuild/bbs-3.19-bioc/R/bin/R CMD INSTALL paxtoolsr ### ############################################################################## ############################################################################## * installing to library ‘/home/biocbuild/bbs-3.19-bioc/R/site-library’ * installing *source* package ‘paxtoolsr’ ... ** using staged installation ** R ** inst ** byte-compile and prepare package for lazy loading ** help *** installing help indices ** building package indices ** installing vignettes ** testing if installed package can be loaded from temporary location ** testing if installed package can be loaded from final location ** testing if installed package keeps a record of temporary installation path * DONE (paxtoolsr)
paxtoolsr.Rcheck/tests/testthat.Rout
R Under development (unstable) (2024-03-18 r86148) -- "Unsuffered Consequences" Copyright (C) 2024 The R Foundation for Statistical Computing Platform: x86_64-pc-linux-gnu R is free software and comes with ABSOLUTELY NO WARRANTY. You are welcome to redistribute it under certain conditions. Type 'license()' or 'licence()' for distribution details. R is a collaborative project with many contributors. Type 'contributors()' for more information and 'citation()' on how to cite R or R packages in publications. Type 'demo()' for some demos, 'help()' for on-line help, or 'help.start()' for an HTML browser interface to help. Type 'q()' to quit R. > library(testthat) > library(paxtoolsr) Loading required package: rJava Loading required package: XML Consider citing this package: Luna A, et al. PaxtoolsR: pathway analysis in R using Pathway Commons. PMID: 26685306; citation("paxtoolsr") > > test_check("paxtoolsr") URL: http://www.pathwaycommons.org/pc2/get?uri=http%3A%2F%2Fidentifiers.org%2Funiprot%2FQ06609&uri=http%3A%2F%2Fidentifiers.org%2Funiprot%2FQ96EB6&format=BIOPAX 2024-03-28 01:19:35,983 347 [main] INFO org.biopax.paxtools.PaxtoolsMain - Collecting proteins for a pathway, the converter will also consider its sub-pathways, their sub-pathways, etc. 2024-03-28 01:19:35,992 356 [pool-1-thread-1] INFO org.biopax.paxtools.io.gsea.GSEAConverter - Begin converting Glycolysis Pathway pathway, uri=http://www.biopax.org/examples/myExamplePathway50 2024-03-28 01:19:35,997 361 [pool-1-thread-1] INFO org.biopax.paxtools.io.gsea.GSEAConverter - - fetched PRs: 2 2024-03-28 01:19:35,997 361 [pool-1-thread-1] INFO org.biopax.paxtools.io.gsea.GSEAConverter - - grouping the PRs by organism... 2024-03-28 01:19:36,004 368 [pool-1-thread-1] INFO org.biopax.paxtools.io.gsea.GSEAConverter - - creating GSEA/GMT entries... 2024-03-28 01:19:36,005 369 [pool-2-thread-1] INFO org.biopax.paxtools.io.gsea.GSEAConverter - adding uniprot IDs of proteins (PRs) from 'Glycolysis Pathway', amaze;kegg pathway... 2024-03-28 01:19:36,007 371 [pool-1-thread-1] INFO org.biopax.paxtools.io.gsea.GSEAConverter - - collected 1entries. 2024-03-28 01:19:36,007 371 [main] INFO org.biopax.paxtools.io.gsea.GSEAConverter - Creating entries for the rest fo (unused) PRs... 2024-03-28 01:19:36,293 657 [main] INFO org.biopax.paxtools.client.BiopaxValidatorClient - BioPAX Validator location: http://biopax.baderlab.org/check.html 2024-03-28 01:19:36,936 1300 [main] INFO org.biopax.paxtools.client.BiopaxValidatorClient - BioPAX Validator location: http://biopax.baderlab.org/check.html 2024-03-28 01:19:37,588 1952 [main] INFO org.biopax.paxtools.PaxtoolsMain - Elements in the result model: 240 SBGN-PD Layout is running... success ratio: 1.0 enhanced ratio: 1.0 Total execution time: 46 miliseconds. WARNING: An illegal reflective access operation has occurred WARNING: Illegal reflective access by com.sun.xml.bind.v2.runtime.reflect.opt.Injector$1 (file:/home/biocbuild/bbs-3.19-bioc/R/site-library/paxtoolsr/java/paxtools-4.3.1.jar) to method java.lang.ClassLoader.defineClass(java.lang.String,byte[],int,int) WARNING: Please consider reporting this to the maintainers of com.sun.xml.bind.v2.runtime.reflect.opt.Injector$1 WARNING: Use --illegal-access=warn to enable warnings of further illegal reflective access operations WARNING: All illegal access operations will be denied in a future release 2024-03-28 01:19:37,974 2338 [main] INFO org.biopax.paxtools.PaxtoolsMain - toSifnx: not blacklisting ubiquitous molecules (no blacklist.txt found) 2024-03-28 01:19:38,475 2839 [main] INFO org.biopax.paxtools.PaxtoolsMain - toSif: not blacklisting ubiquitous molecules (no blacklist.txt found) 2024-03-28 01:19:38,865 3229 [main] INFO org.biopax.paxtools.PaxtoolsMain - toSif: not blacklisting ubiquitous molecules (no blacklist.txt found) [ FAIL 0 | WARN 1 | SKIP 10 | PASS 40 ] ══ Skipped tests (10) ══════════════════════════════════════════════════════════ • On Bioconductor (7): 'test_pathwayCommons.R:38:5', 'test_pathwayCommons.R:63:5', 'test_pathwayCommons.R:77:5', 'test_pathwayCommons.R:131:5', 'test_pathwayCommons.R:169:5', 'test_pathwayCommons.R:185:5', 'test_pathwayCommons.R:260:5' • empty test (3): 'test_pathwayCommons.R:266:1', 'test_pathwayCommons.R:285:1', 'test_pathwayCommons.R:286:1' [ FAIL 0 | WARN 1 | SKIP 10 | PASS 40 ] > > proc.time() user system elapsed 18.317 0.680 12.938
paxtoolsr.Rcheck/paxtoolsr-Ex.timings
name | user | system | elapsed | |
addAttributeList | 0.079 | 0.004 | 0.083 | |
convertDataFrameListsToVectors | 0.001 | 0.000 | 0.001 | |
convertSifToGmt | 0.184 | 0.004 | 0.203 | |
downloadFile | 0.121 | 0.012 | 0.270 | |
downloadPc2 | 0 | 0 | 0 | |
downloadSignedPC | 0 | 0 | 0 | |
fetch | 3.615 | 0.132 | 0.633 | |
filterSif | 0.244 | 0.012 | 0.065 | |
getCacheFiles | 0 | 0 | 0 | |
getErrorMessage | 0.001 | 0.000 | 0.001 | |
getNeighbors | 0.803 | 0.008 | 0.087 | |
getPc | 0 | 0 | 0 | |
getPcDatabaseNames | 0.385 | 0.001 | 0.201 | |
getPcUrl | 0 | 0 | 0 | |
getShortestPathSif | 0.046 | 0.000 | 0.046 | |
getSifInteractionCategories | 0.001 | 0.000 | 0.001 | |
graphPc | 0.000 | 0.000 | 0.001 | |
integrateBiopax | 2.603 | 0.158 | 0.483 | |
loadSifInIgraph | 0.023 | 0.000 | 0.011 | |
mapValues | 0.001 | 0.000 | 0.000 | |
mergeBiopax | 0.784 | 0.104 | 0.363 | |
pcDirections | 0 | 0 | 0 | |
pcFormats | 0.001 | 0.000 | 0.000 | |
pcGraphQueries | 0.001 | 0.000 | 0.000 | |
processPcRequest | 0.008 | 0.000 | 0.005 | |
readBiopax | 0.002 | 0.004 | 0.003 | |
readGmt | 0.032 | 0.000 | 0.017 | |
readPcPathwaysInfo | 32.359 | 0.742 | 33.025 | |
readSbgn | 0.000 | 0.002 | 0.002 | |
readSif | 0.007 | 0.001 | 0.008 | |
readSifnx | 0.015 | 0.000 | 0.015 | |
searchListOfVectors | 0.001 | 0.000 | 0.001 | |
searchPc | 0 | 0 | 0 | |
summarize | 0.082 | 0.016 | 0.059 | |
summarizeSif | 0.024 | 0.000 | 0.009 | |
toCytoscape | 0.035 | 0.004 | 0.025 | |
toGSEA | 0.099 | 0.000 | 0.034 | |
toLevel3 | 0.138 | 0.008 | 0.047 | |
toSBGN | 1.345 | 0.044 | 0.348 | |
toSif | 2.319 | 0.078 | 0.403 | |
toSifnx | 2.963 | 0.088 | 0.345 | |
topPathways | 0 | 0 | 0 | |
traverse | 0 | 0 | 0 | |
validate | 1.839 | 0.051 | 1.075 | |