Back to Multiple platform build/check report for BioC 3.17:   simplified   long
ABCDEFGHIJKLMNO[P]QRSTUVWXYZ

This page was generated on 2023-02-06 11:06:53 -0500 (Mon, 06 Feb 2023).

HostnameOSArch (*)R versionInstalled pkgs
nebbiolo1Linux (Ubuntu 22.04.1 LTS)x86_64R Under development (unstable) (2023-01-10 r83596) -- "Unsuffered Consequences" 4483
palomino3Windows Server 2022 Datacenterx64R Under development (unstable) (2023-01-10 r83596 ucrt) -- "Unsuffered Consequences" 4249
merida1macOS 10.14.6 Mojavex86_64R Under development (unstable) (2023-01-10 r83596) -- "Unsuffered Consequences" 4272
Click on any hostname to see more info about the system (e.g. compilers)      (*) as reported by 'uname -p', except on Windows and Mac OS X

CHECK results for pathRender on merida1


To the developers/maintainers of the pathRender package:
- Please allow up to 24 hours (and sometimes 48 hours) for your latest push to git@git.bioconductor.org:packages/pathRender.git to
reflect on this report. See How and When does the builder pull? When will my changes propagate? for more information.
- Make sure to use the following settings in order to reproduce any error or warning you see on this page.

raw results

Package 1433/2164HostnameOS / ArchINSTALLBUILDCHECKBUILD BIN
pathRender 1.67.0  (landing page)
Vince Carey
Snapshot Date: 2023-02-05 14:00:11 -0500 (Sun, 05 Feb 2023)
git_url: https://git.bioconductor.org/packages/pathRender
git_branch: master
git_last_commit: 2709b3b
git_last_commit_date: 2022-11-01 10:40:23 -0500 (Tue, 01 Nov 2022)
nebbiolo1Linux (Ubuntu 22.04.1 LTS) / x86_64  OK    OK    OK  UNNEEDED, same version is already published
palomino3Windows Server 2022 Datacenter / x64  OK    OK    OK    OK  UNNEEDED, same version is already published
merida1macOS 10.14.6 Mojave / x86_64  OK    OK    OK    OK  UNNEEDED, same version is already published

Summary

Package: pathRender
Version: 1.67.0
Command: /Library/Frameworks/R.framework/Resources/bin/R CMD check --install=check:pathRender.install-out.txt --library=/Library/Frameworks/R.framework/Resources/library --no-vignettes --timings pathRender_1.67.0.tar.gz
StartedAt: 2023-02-06 04:37:59 -0500 (Mon, 06 Feb 2023)
EndedAt: 2023-02-06 04:42:43 -0500 (Mon, 06 Feb 2023)
EllapsedTime: 284.8 seconds
RetCode: 0
Status:   OK  
CheckDir: pathRender.Rcheck
Warnings: 0

Command output

##############################################################################
##############################################################################
###
### Running command:
###
###   /Library/Frameworks/R.framework/Resources/bin/R CMD check --install=check:pathRender.install-out.txt --library=/Library/Frameworks/R.framework/Resources/library --no-vignettes --timings pathRender_1.67.0.tar.gz
###
##############################################################################
##############################################################################


* using log directory ‘/Users/biocbuild/bbs-3.17-bioc/meat/pathRender.Rcheck’
* using R Under development (unstable) (2023-01-10 r83596)
* using platform: x86_64-apple-darwin17.0 (64-bit)
* R was compiled by
    Apple clang version 12.0.0 (clang-1200.0.32.29)
    GNU Fortran (GCC) 8.2.0
* running under: macOS Mojave 10.14.6
* using session charset: UTF-8
* using option ‘--no-vignettes’
* checking for file ‘pathRender/DESCRIPTION’ ... OK
* this is package ‘pathRender’ version ‘1.67.0’
* checking package namespace information ... OK
* checking package dependencies ... NOTE
Depends: includes the non-default packages:
  'graph', 'Rgraphviz', 'RColorBrewer', 'cMAP', 'AnnotationDbi',
  'stats4'
Adding so many packages to the search path is excessive and importing
selectively is preferable.
* checking if this is a source package ... OK
* checking if there is a namespace ... OK
* checking for hidden files and directories ... OK
* checking for portable file names ... OK
* checking for sufficient/correct file permissions ... OK
* checking whether package ‘pathRender’ can be installed ... OK
* checking installed package size ... OK
* checking package directory ... OK
* checking ‘build’ directory ... OK
* checking DESCRIPTION meta-information ... OK
* checking top-level files ... OK
* checking for left-over files ... OK
* checking index information ... OK
* checking package subdirectories ... OK
* checking R files for non-ASCII characters ... OK
* checking R files for syntax errors ... OK
* checking whether the package can be loaded ... OK
* checking whether the package can be loaded with stated dependencies ... OK
* checking whether the package can be unloaded cleanly ... OK
* checking whether the namespace can be loaded with stated dependencies ... OK
* checking whether the namespace can be unloaded cleanly ... OK
* checking dependencies in R code ... OK
* checking S3 generic/method consistency ... OK
* checking replacement functions ... OK
* checking foreign function calls ... OK
* checking R code for possible problems ... NOTE
graphcMAP: no visible binding for global variable ‘cMAPKEGGPATHWAY’
graphcMAP: no visible binding for global variable ‘cMAPCARTAPATHWAY’
graphcMAP: no visible binding for global variable ‘cMAPKEGGINTERACTION’
graphcMAP: no visible binding for global variable ‘cMAPKEGGMOLECULE’
graphcMAP: no visible binding for global variable
  ‘cMAPCARTAINTERACTION’
graphcMAP: no visible binding for global variable ‘cMAPCARTAMOLECULE’
plotExGraph: no visible global function definition for
  ‘colorRampPalette’
plotExGraph: no visible global function definition for ‘exprs’
quantizeByRow : <anonymous>: no visible global function definition for
  ‘quantile’
quantizeByRow: no visible global function definition for ‘featureNames’
quantizeByRow: no visible global function definition for ‘exprs<-’
quantizeByRow: no visible global function definition for ‘exprs’
quantizeByRow: no visible global function definition for
  ‘featureNames<-’
reduceES: no visible global function definition for ‘na.omit’
reduceES: no visible global function definition for ‘featureData<-’
reduceES: no visible global function definition for ‘exprs’
reduceES: no visible global function definition for ‘phenoData’
rendercMAPPathway: no visible binding for global variable
  ‘cMAPKEGGPATHWAY’
rendercMAPPathway: no visible binding for global variable
  ‘cMAPCARTAPATHWAY’
rendercMAPPathway: no visible binding for global variable
  ‘cMAPKEGGINTERACTION’
rendercMAPPathway: no visible binding for global variable
  ‘cMAPKEGGMOLECULE’
rendercMAPPathway: no visible binding for global variable
  ‘cMAPCARTAINTERACTION’
rendercMAPPathway: no visible binding for global variable
  ‘cMAPCARTAMOLECULE’
plot,coloredGraph-ANY: no visible global function definition for
  ‘palette’
Undefined global functions or variables:
  cMAPCARTAINTERACTION cMAPCARTAMOLECULE cMAPCARTAPATHWAY
  cMAPKEGGINTERACTION cMAPKEGGMOLECULE cMAPKEGGPATHWAY colorRampPalette
  exprs exprs<- featureData<- featureNames featureNames<- na.omit
  palette phenoData quantile
Consider adding
  importFrom("grDevices", "colorRampPalette", "palette")
  importFrom("stats", "na.omit", "quantile")
to your NAMESPACE file.
* checking Rd files ... OK
* checking Rd metadata ... OK
* checking Rd cross-references ... OK
* checking for missing documentation entries ... OK
* checking for code/documentation mismatches ... OK
* checking Rd \usage sections ... OK
* checking Rd contents ... OK
* checking for unstated dependencies in examples ... OK
* checking sizes of PDF files under ‘inst/doc’ ... OK
* checking files in ‘vignettes’ ... OK
* checking examples ... OK
* checking for unstated dependencies in vignettes ... OK
* checking package vignettes in ‘inst/doc’ ... OK
* checking running R code from vignettes ... SKIPPED
* checking re-building of vignette outputs ... SKIPPED
* checking PDF version of manual ... OK
* DONE

Status: 2 NOTEs
See
  ‘/Users/biocbuild/bbs-3.17-bioc/meat/pathRender.Rcheck/00check.log’
for details.



Installation output

pathRender.Rcheck/00install.out

##############################################################################
##############################################################################
###
### Running command:
###
###   /Library/Frameworks/R.framework/Resources/bin/R CMD INSTALL pathRender
###
##############################################################################
##############################################################################


* installing to library ‘/Library/Frameworks/R.framework/Versions/4.3/Resources/library’
* installing *source* package ‘pathRender’ ...
** using staged installation
** R
** inst
** byte-compile and prepare package for lazy loading
** help
*** installing help indices
** building package indices
** installing vignettes
** testing if installed package can be loaded from temporary location
** testing if installed package can be loaded from final location
** testing if installed package keeps a record of temporary installation path
* DONE (pathRender)

Tests output


Example timings

pathRender.Rcheck/pathRender-Ex.timings

nameusersystemelapsed
colorNodes0.3040.0170.402
coloredGraph-class0.1850.0050.232
graphcMAP1.0000.0141.276
plotExGraph3.1620.1364.229
pwayGraph-class0.1130.0120.151
reduceES2.2930.0512.988
rendercMAP0.6360.0220.877