Back to Multiple platform build/check report for BioC 3.17:   simplified   long
ABCDEFGHIJKLMN[O]PQRSTUVWXYZ

This page was generated on 2023-03-29 11:04:59 -0400 (Wed, 29 Mar 2023).

HostnameOSArch (*)R versionInstalled pkgs
nebbiolo1Linux (Ubuntu 22.04.1 LTS)x86_64R Under development (unstable) (2023-03-16 r83996) -- "Unsuffered Consequences" 4547
palomino3Windows Server 2022 Datacenterx64R Under development (unstable) (2023-03-15 r83984 ucrt) -- "Unsuffered Consequences" 4308
merida1macOS 10.14.6 Mojavex86_64R Under development (unstable) (2023-03-16 r83985) -- "Unsuffered Consequences" 4301
Click on any hostname to see more info about the system (e.g. compilers)      (*) as reported by 'uname -p', except on Windows and Mac OS X

BUILD results for omicRexposome on nebbiolo1


To the developers/maintainers of the omicRexposome package:
- Please allow up to 24 hours (and sometimes 48 hours) for your latest push to git@git.bioconductor.org:packages/omicRexposome.git to
reflect on this report. See How and When does the builder pull? When will my changes propagate? for more information.
- Make sure to use the following settings in order to reproduce any error or warning you see on this page.

raw results

Package 1401/2195HostnameOS / ArchINSTALLBUILDCHECKBUILD BIN
omicRexposome 1.21.0  (landing page)
Xavier Escribà Montagut
Snapshot Date: 2023-03-28 14:00:22 -0400 (Tue, 28 Mar 2023)
git_url: https://git.bioconductor.org/packages/omicRexposome
git_branch: devel
git_last_commit: c36ffc1
git_last_commit_date: 2022-11-01 11:16:28 -0400 (Tue, 01 Nov 2022)
nebbiolo1Linux (Ubuntu 22.04.1 LTS) / x86_64  ERROR    ERROR  skipped
palomino3Windows Server 2022 Datacenter / x64  ERROR    ERROR  skippedskipped
merida1macOS 10.14.6 Mojave / x86_64  ERROR    ERROR  skippedskipped

Summary

Package: omicRexposome
Version: 1.21.0
Command: /home/biocbuild/bbs-3.17-bioc/R/bin/R CMD build --keep-empty-dirs --no-resave-data omicRexposome
StartedAt: 2023-03-28 17:06:34 -0400 (Tue, 28 Mar 2023)
EndedAt: 2023-03-28 17:06:55 -0400 (Tue, 28 Mar 2023)
EllapsedTime: 21.3 seconds
RetCode: 1
Status:   ERROR  
PackageFile: None
PackageFileSize: NA

Command output

##############################################################################
##############################################################################
###
### Running command:
###
###   /home/biocbuild/bbs-3.17-bioc/R/bin/R CMD build --keep-empty-dirs --no-resave-data omicRexposome
###
##############################################################################
##############################################################################


* checking for file ‘omicRexposome/DESCRIPTION’ ... OK
* preparing ‘omicRexposome’:
* checking DESCRIPTION meta-information ... OK
* installing the package to build vignettes
      -----------------------------------
* installing *source* package ‘omicRexposome’ ...
** using staged installation
** R
** data
*** moving datasets to lazyload DB
Warning: namespace ‘omicRexposome’ is not available and has been replaced
by .GlobalEnv when processing object ‘asr’
Warning: namespace ‘omicRexposome’ is not available and has been replaced
by .GlobalEnv when processing object ‘asr’
** inst
** byte-compile and prepare package for lazy loading
Error: objects ‘rowSums’, ‘colSums’, ‘rowMeans’, ‘colMeans’ are not exported by 'namespace:BiocGenerics'
Execution halted
ERROR: lazy loading failed for package ‘omicRexposome’
* removing ‘/tmp/RtmpE1uXVv/Rinst1d1b0466c63bcf/omicRexposome’
      -----------------------------------
ERROR: package installation failed