Back to Multiple platform build/check report for BioC 3.18: simplified long |
|
This page was generated on 2023-09-28 11:38:13 -0400 (Thu, 28 Sep 2023).
Hostname | OS | Arch (*) | R version | Installed pkgs |
---|---|---|---|---|
nebbiolo2 | Linux (Ubuntu 22.04.2 LTS) | x86_64 | 4.3.1 (2023-06-16) -- "Beagle Scouts" | 4660 |
palomino4 | Windows Server 2022 Datacenter | x64 | 4.3.1 (2023-06-16 ucrt) -- "Beagle Scouts" | 4395 |
lconway | macOS 12.6.5 Monterey | x86_64 | 4.3.1 Patched (2023-06-17 r84564) -- "Beagle Scouts" | 4409 |
kunpeng2 | Linux (openEuler 22.03 LTS-SP1) | aarch64 | 4.3.1 (2023-06-16) -- "Beagle Scouts" | 4400 |
Click on any hostname to see more info about the system (e.g. compilers) (*) as reported by 'uname -p', except on Windows and Mac OS X |
Package 1415/2233 | Hostname | OS / Arch | INSTALL | BUILD | CHECK | BUILD BIN | ||||||||
octad 1.3.0 (landing page) E. Chekalin
| nebbiolo2 | Linux (Ubuntu 22.04.2 LTS) / x86_64 | OK | OK | OK | ![]() | ||||||||
palomino4 | Windows Server 2022 Datacenter / x64 | OK | OK | OK | OK | ![]() | ||||||||
lconway | macOS 12.6.5 Monterey / x86_64 | OK | OK | OK | OK | ![]() | ||||||||
kunpeng2 | Linux (openEuler 22.03 LTS-SP1) / aarch64 | OK | ERROR | skipped | ||||||||||
To the developers/maintainers of the octad package: - Allow up to 24 hours (and sometimes 48 hours) for your latest push to git@git.bioconductor.org:packages/octad.git to reflect on this report. See Troubleshooting Build Report for more information. - Use the following Renviron settings to reproduce errors and warnings. - If 'R CMD check' started to fail recently on the Linux builder(s) over a missing dependency, add the missing dependency to 'Suggests:' in your DESCRIPTION file. See Renviron.bioc for more information. |
Package: octad |
Version: 1.3.0 |
Command: F:\biocbuild\bbs-3.18-bioc\R\bin\R.exe CMD check --no-multiarch --install=check:octad.install-out.txt --library=F:\biocbuild\bbs-3.18-bioc\R\library --no-vignettes --timings octad_1.3.0.tar.gz |
StartedAt: 2023-09-28 04:22:34 -0400 (Thu, 28 Sep 2023) |
EndedAt: 2023-09-28 04:31:32 -0400 (Thu, 28 Sep 2023) |
EllapsedTime: 538.1 seconds |
RetCode: 0 |
Status: OK |
CheckDir: octad.Rcheck |
Warnings: 0 |
############################################################################## ############################################################################## ### ### Running command: ### ### F:\biocbuild\bbs-3.18-bioc\R\bin\R.exe CMD check --no-multiarch --install=check:octad.install-out.txt --library=F:\biocbuild\bbs-3.18-bioc\R\library --no-vignettes --timings octad_1.3.0.tar.gz ### ############################################################################## ############################################################################## * using log directory 'F:/biocbuild/bbs-3.18-bioc/meat/octad.Rcheck' * using R version 4.3.1 (2023-06-16 ucrt) * using platform: x86_64-w64-mingw32 (64-bit) * R was compiled by gcc.exe (GCC) 12.2.0 GNU Fortran (GCC) 12.2.0 * running under: Windows Server 2022 x64 (build 20348) * using session charset: UTF-8 * using option '--no-vignettes' * checking for file 'octad/DESCRIPTION' ... OK * this is package 'octad' version '1.3.0' * package encoding: UTF-8 * checking package namespace information ... OK * checking package dependencies ... NOTE Depends: includes the non-default packages: 'magrittr', 'dplyr', 'ggplot2', 'edgeR', 'RUVSeq', 'DESeq2', 'limma', 'rhdf5', 'foreach', 'Rfast', 'octad.db', 'httr', 'ExperimentHub', 'AnnotationHub', 'Biobase', 'S4Vectors' Adding so many packages to the search path is excessive and importing selectively is preferable. * checking if this is a source package ... OK * checking if there is a namespace ... OK * checking for hidden files and directories ... NOTE Found the following hidden files and directories: .BBSoptions These were most likely included in error. See section 'Package structure' in the 'Writing R Extensions' manual. * checking for portable file names ... OK * checking whether package 'octad' can be installed ... OK * checking installed package size ... OK * checking package directory ... OK * checking 'build' directory ... OK * checking DESCRIPTION meta-information ... OK * checking top-level files ... OK * checking for left-over files ... OK * checking index information ... OK * checking package subdirectories ... OK * checking R files for non-ASCII characters ... OK * checking R files for syntax errors ... OK * checking whether the package can be loaded ... OK * checking whether the package can be loaded with stated dependencies ... OK * checking whether the package can be unloaded cleanly ... OK * checking whether the namespace can be loaded with stated dependencies ... OK * checking whether the namespace can be unloaded cleanly ... OK * checking dependencies in R code ... NOTE Package in Depends field not imported from: 'httr' These packages need to be imported from (in the NAMESPACE file) for when this namespace is loaded but not attached. * checking S3 generic/method consistency ... OK * checking replacement functions ... OK * checking foreign function calls ... OK * checking R code for possible problems ... NOTE diffExp: no visible binding for global variable 'case' diffExp: no visible binding for global variable 'control' runsRGES: no visible binding for global variable 'RGES' topLineEval: no visible binding for global variable 'sRGES' topLineEval: no visible binding for global variable 'medauc' Undefined global functions or variables: RGES case control medauc sRGES * checking Rd files ... OK * checking Rd metadata ... OK * checking Rd cross-references ... OK * checking for missing documentation entries ... OK * checking for code/documentation mismatches ... OK * checking Rd \usage sections ... OK * checking Rd contents ... OK * checking for unstated dependencies in examples ... OK * checking contents of 'data' directory ... OK * checking data for non-ASCII characters ... OK * checking data for ASCII and uncompressed saves ... OK * checking files in 'vignettes' ... OK * checking examples ... OK Examples with CPU (user + system) or elapsed time > 5s user system elapsed computeCellLine 44.68 4.74 78.14 octadDrugEnrichment 34.34 1.50 40.11 diffExp 33.65 1.08 35.78 topLineEval 30.78 1.54 33.59 computeRefTissue 4.08 0.68 5.58 * checking for unstated dependencies in vignettes ... OK * checking package vignettes in 'inst/doc' ... OK * checking running R code from vignettes ... SKIPPED * checking re-building of vignette outputs ... SKIPPED * checking PDF version of manual ... OK * DONE Status: 4 NOTEs See 'F:/biocbuild/bbs-3.18-bioc/meat/octad.Rcheck/00check.log' for details.
octad.Rcheck/00install.out
############################################################################## ############################################################################## ### ### Running command: ### ### F:\biocbuild\bbs-3.18-bioc\R\bin\R.exe CMD INSTALL octad ### ############################################################################## ############################################################################## * installing to library 'F:/biocbuild/bbs-3.18-bioc/R/library' * installing *source* package 'octad' ... ** using staged installation ** R ** data ** inst ** byte-compile and prepare package for lazy loading ** help *** installing help indices ** building package indices ** installing vignettes ** testing if installed package can be loaded from temporary location ** testing if installed package can be loaded from final location ** testing if installed package keeps a record of temporary installation path * DONE (octad)
octad.Rcheck/octad-Ex.timings
name | user | system | elapsed | |
computeCellLine | 44.68 | 4.74 | 78.14 | |
computeRefTissue | 4.08 | 0.68 | 5.58 | |
diffExp | 33.65 | 1.08 | 35.78 | |
loadOctadCounts | 2.21 | 0.24 | 2.67 | |
octadDrugEnrichment | 34.34 | 1.50 | 40.11 | |
runsRGES | 0.17 | 0.00 | 0.18 | |
topLineEval | 30.78 | 1.54 | 33.59 | |