Back to Multiple platform build/check report for BioC 3.20:   simplified   long
ABCDEFGHIJKL[M]NOPQRSTUVWXYZ

This page was generated on 2024-05-17 11:38:34 -0400 (Fri, 17 May 2024).

HostnameOSArch (*)R versionInstalled pkgs
nebbiolo2Linux (Ubuntu 22.04.3 LTS)x86_644.4.0 RC (2024-04-16 r86468) -- "Puppy Cup" 4663
palomino4Windows Server 2022 Datacenterx644.4.0 RC (2024-04-16 r86468 ucrt) -- "Puppy Cup" 4398
merida1macOS 12.7.4 Montereyx86_644.4.0 Patched (2024-04-24 r86482) -- "Puppy Cup" 4425
Click on any hostname to see more info about the system (e.g. compilers)      (*) as reported by 'uname -p', except on Windows and Mac OS X

Package 1354/2230HostnameOS / ArchINSTALLBUILDCHECKBUILD BIN
myvariant 1.35.0  (landing page)
Adam Mark, Chunlei Wu
Snapshot Date: 2024-05-15 14:05:05 -0400 (Wed, 15 May 2024)
git_url: https://git.bioconductor.org/packages/myvariant
git_branch: devel
git_last_commit: ff9a783
git_last_commit_date: 2024-04-30 10:45:18 -0400 (Tue, 30 Apr 2024)
nebbiolo2Linux (Ubuntu 22.04.3 LTS) / x86_64  OK    OK    OK  UNNEEDED, same version is already published
palomino4Windows Server 2022 Datacenter / x64  OK    OK    OK    OK  YES
merida1macOS 12.7.4 Monterey / x86_64  OK    OK    OK    OK  UNNEEDED, same version is already published
kjohnson1macOS 13.6.6 Ventura / arm64see weekly results here

CHECK results for myvariant on merida1


To the developers/maintainers of the myvariant package:
- Allow up to 24 hours (and sometimes 48 hours) for your latest push to git@git.bioconductor.org:packages/myvariant.git to reflect on this report. See Troubleshooting Build Report for more information.
- Use the following Renviron settings to reproduce errors and warnings.
- If 'R CMD check' started to fail recently on the Linux builder(s) over a missing dependency, add the missing dependency to 'Suggests:' in your DESCRIPTION file. See Renviron.bioc for more information.

raw results


Summary

Package: myvariant
Version: 1.35.0
Command: /Library/Frameworks/R.framework/Resources/bin/R CMD check --install=check:myvariant.install-out.txt --library=/Library/Frameworks/R.framework/Resources/library --no-vignettes --timings myvariant_1.35.0.tar.gz
StartedAt: 2024-05-16 08:40:58 -0400 (Thu, 16 May 2024)
EndedAt: 2024-05-16 08:51:41 -0400 (Thu, 16 May 2024)
EllapsedTime: 643.4 seconds
RetCode: 0
Status:   OK  
CheckDir: myvariant.Rcheck
Warnings: 0

Command output

##############################################################################
##############################################################################
###
### Running command:
###
###   /Library/Frameworks/R.framework/Resources/bin/R CMD check --install=check:myvariant.install-out.txt --library=/Library/Frameworks/R.framework/Resources/library --no-vignettes --timings myvariant_1.35.0.tar.gz
###
##############################################################################
##############################################################################


* using log directory ‘/Users/biocbuild/bbs-3.20-bioc/meat/myvariant.Rcheck’
* using R version 4.4.0 Patched (2024-04-24 r86482)
* using platform: x86_64-apple-darwin20
* R was compiled by
    Apple clang version 14.0.0 (clang-1400.0.29.202)
    GNU Fortran (GCC) 12.2.0
* running under: macOS Monterey 12.7.4
* using session charset: UTF-8
* using option ‘--no-vignettes’
* checking for file ‘myvariant/DESCRIPTION’ ... OK
* checking extension type ... Package
* this is package ‘myvariant’ version ‘1.35.0’
* checking package namespace information ... NOTE
Found export directives that require package ‘methods’:
  ‘exportClasses’ ‘exportMethods’
Remove all such namespace directives (if obsolete) or ensure that the
DESCRIPTION Depends or Imports field contains ‘methods’.
* checking package dependencies ... OK
* checking if this is a source package ... OK
* checking if there is a namespace ... OK
* checking for hidden files and directories ... OK
* checking for portable file names ... OK
* checking for sufficient/correct file permissions ... OK
* checking whether package ‘myvariant’ can be installed ... OK
* checking installed package size ... OK
* checking package directory ... OK
* checking ‘build’ directory ... OK
* checking DESCRIPTION meta-information ... NOTE
Malformed Description field: should contain one or more complete sentences.
* checking top-level files ... OK
* checking for left-over files ... OK
* checking index information ... OK
* checking package subdirectories ... OK
* checking code files for non-ASCII characters ... OK
* checking R files for syntax errors ... OK
* checking whether the package can be loaded ... OK
* checking whether the package can be loaded with stated dependencies ... OK
* checking whether the package can be unloaded cleanly ... OK
* checking whether the namespace can be loaded with stated dependencies ... OK
* checking whether the namespace can be unloaded cleanly ... OK
* checking dependencies in R code ... NOTE
package 'methods' is used but not declared
* checking S3 generic/method consistency ... OK
* checking replacement functions ... OK
* checking foreign function calls ... OK
* checking R code for possible problems ... NOTE
.convertColumn4csv: no visible binding for global variable ‘is’
.df2DF: no visible binding for global variable ‘as’
.getIndels: no visible binding for global variable ‘REF’
.getIndels: no visible binding for global variable ‘ALT’
.unnest.df : <anonymous>: no visible global function definition for
  ‘is’
.unnest.df : <anonymous>: no visible global function definition for
  ‘setNames’
MyVariant: no visible global function definition for ‘new’
formatHgvs: no visible global function definition for
  ‘seqlevelsStyle<-’
validMyVariantObject: no visible global function definition for ‘slot’
.request.get,MyVariant: no visible global function definition for
  ‘capture.output’
.request.post,MyVariant: no visible global function definition for
  ‘capture.output’
Undefined global functions or variables:
  ALT REF as capture.output is new seqlevelsStyle<- setNames slot
Consider adding
  importFrom("methods", "as", "is", "new", "slot")
  importFrom("stats", "setNames")
  importFrom("utils", "capture.output")
to your NAMESPACE file (and ensure that your DESCRIPTION Imports field
contains 'methods').
* checking Rd files ... OK
* checking Rd metadata ... OK
* checking Rd cross-references ... OK
* checking for missing documentation entries ... OK
* checking for code/documentation mismatches ... OK
* checking Rd \usage sections ... OK
* checking Rd contents ... NOTE
Argument items with no description in Rd file 'getVariant.Rd':
  ‘...’
Argument items with no description in Rd file 'getVariants.Rd':
  ‘...’
* checking for unstated dependencies in examples ... OK
* checking sizes of PDF files under ‘inst/doc’ ... OK
* checking files in ‘vignettes’ ... OK
* checking examples ... OK
Examples with CPU (user + system) or elapsed time > 5s
            user system elapsed
getVariant 0.095  0.062   6.601
* checking for unstated dependencies in vignettes ... OK
* checking package vignettes ... OK
* checking running R code from vignettes ... SKIPPED
* checking re-building of vignette outputs ... SKIPPED
* checking PDF version of manual ... OK
* DONE

Status: 5 NOTEs
See
  ‘/Users/biocbuild/bbs-3.20-bioc/meat/myvariant.Rcheck/00check.log’
for details.


Installation output

myvariant.Rcheck/00install.out

##############################################################################
##############################################################################
###
### Running command:
###
###   /Library/Frameworks/R.framework/Resources/bin/R CMD INSTALL myvariant
###
##############################################################################
##############################################################################


* installing to library ‘/Library/Frameworks/R.framework/Versions/4.4-x86_64/Resources/library’
* installing *source* package ‘myvariant’ ...
** using staged installation
** R
** inst
** byte-compile and prepare package for lazy loading
** help
*** installing help indices
** building package indices
** installing vignettes
** testing if installed package can be loaded from temporary location
** testing if installed package can be loaded from final location
** testing if installed package keeps a record of temporary installation path
* DONE (myvariant)

Tests output


Example timings

myvariant.Rcheck/myvariant-Ex.timings

nameusersystemelapsed
MyVariant-class0.0020.0010.003
MyVariant0.0040.0010.007
formatHgvs2.0320.1682.591
formatSingleHgvs0.0010.0010.004
getVariant0.0950.0626.601
getVariants0.1080.0160.227
metadata0.0310.0220.140
queryVariant0.0880.0250.292
queryVariants0.0000.0010.001