Back to Multiple platform build/check report for BioC 3.17:   simplified   long
ABCDEFGHIJKL[M]NOPQRSTUVWXYZ

This page was generated on 2023-03-29 11:06:23 -0400 (Wed, 29 Mar 2023).

HostnameOSArch (*)R versionInstalled pkgs
nebbiolo1Linux (Ubuntu 22.04.1 LTS)x86_64R Under development (unstable) (2023-03-16 r83996) -- "Unsuffered Consequences" 4547
palomino3Windows Server 2022 Datacenterx64R Under development (unstable) (2023-03-15 r83984 ucrt) -- "Unsuffered Consequences" 4308
merida1macOS 10.14.6 Mojavex86_64R Under development (unstable) (2023-03-16 r83985) -- "Unsuffered Consequences" 4301
Click on any hostname to see more info about the system (e.g. compilers)      (*) as reported by 'uname -p', except on Windows and Mac OS X

BUILD BIN results for miRNAmeConverter on merida1


To the developers/maintainers of the miRNAmeConverter package:
- Please allow up to 24 hours (and sometimes 48 hours) for your latest push to git@git.bioconductor.org:packages/miRNAmeConverter.git to
reflect on this report. See How and When does the builder pull? When will my changes propagate? for more information.
- Make sure to use the following settings in order to reproduce any error or warning you see on this page.

raw results

Package 1230/2195HostnameOS / ArchINSTALLBUILDCHECKBUILD BIN
miRNAmeConverter 1.27.0  (landing page)
Stefan J. Haunsberger
Snapshot Date: 2023-03-28 14:00:22 -0400 (Tue, 28 Mar 2023)
git_url: https://git.bioconductor.org/packages/miRNAmeConverter
git_branch: devel
git_last_commit: cf15169
git_last_commit_date: 2022-11-01 11:13:07 -0400 (Tue, 01 Nov 2022)
nebbiolo1Linux (Ubuntu 22.04.1 LTS) / x86_64  OK    OK    WARNINGS  UNNEEDED, same version is already published
palomino3Windows Server 2022 Datacenter / x64  OK    OK    WARNINGS    OK  UNNEEDED, same version is already published
merida1macOS 10.14.6 Mojave / x86_64  OK    OK    WARNINGS    OK  UNNEEDED, same version is already published

Summary

Package: miRNAmeConverter
Version: 1.27.0
Command: rm -rf miRNAmeConverter.buildbin-libdir && mkdir miRNAmeConverter.buildbin-libdir && /Users/biocbuild/BBS/utils/build-universal.sh miRNAmeConverter_1.27.0.tar.gz /Library/Frameworks/R.framework/Resources/bin/R miRNAmeConverter.buildbin-libdir
StartedAt: 2023-03-29 07:30:57 -0400 (Wed, 29 Mar 2023)
EndedAt: 2023-03-29 07:31:53 -0400 (Wed, 29 Mar 2023)
EllapsedTime: 55.4 seconds
RetCode: 0
Status:   OK  
PackageFile: miRNAmeConverter_1.27.0.tgz
PackageFileSize: 580.7 KiB

Command output

##############################################################################
##############################################################################
###
### Running command:
###
###   rm -rf miRNAmeConverter.buildbin-libdir && mkdir miRNAmeConverter.buildbin-libdir && /Users/biocbuild/BBS/utils/build-universal.sh miRNAmeConverter_1.27.0.tar.gz /Library/Frameworks/R.framework/Resources/bin/R miRNAmeConverter.buildbin-libdir
###
##############################################################################
##############################################################################


>>>>>>> 
>>>>>>> INSTALLATION WITH 'R CMD INSTALL --preclean --no-multiarch --library=miRNAmeConverter.buildbin-libdir miRNAmeConverter_1.27.0.tar.gz'
>>>>>>> 

* installing *source* package ‘miRNAmeConverter’ ...
** using staged installation
Warning in person1(given = given[[i]], family = family[[i]], middle = middle[[i]],  :
  It is recommended to use ‘given’ instead of ‘middle’.
** R
** data
*** moving datasets to lazyload DB
** inst
** byte-compile and prepare package for lazy loading
Creating a generic function from function ‘MiRNANameConverter’ in package ‘miRNAmeConverter’
** help
*** installing help indices
** building package indices
** testing if installed package can be loaded from temporary location
** testing if installed package can be loaded from final location
** testing if installed package keeps a record of temporary installation path
* DONE (miRNAmeConverter)