Index of /checkResults/devel/bioc-LATEST/methInheritSim/raw-results

[ICO]NameLast modifiedSizeDescription

[DIR]Parent Directory  -  
[   ]info.dcf07-Feb-2023 01:06 287  
[DIR]merida1/07-Feb-2023 01:06 -  
[DIR]nebbiolo1/07-Feb-2023 01:05 -  
[DIR]palomino3/07-Feb-2023 01:05 -