Back to Multiple platform build/check report for BioC 3.18:   simplified   long
ABCDEFGHIJK[L]MNOPQRSTUVWXYZ

This page was generated on 2023-09-30 11:37:35 -0400 (Sat, 30 Sep 2023).

HostnameOSArch (*)R versionInstalled pkgs
nebbiolo2Linux (Ubuntu 22.04.2 LTS)x86_644.3.1 (2023-06-16) -- "Beagle Scouts" 4660
palomino4Windows Server 2022 Datacenterx644.3.1 (2023-06-16 ucrt) -- "Beagle Scouts" 4396
lconwaymacOS 12.6.5 Montereyx86_644.3.1 Patched (2023-06-17 r84564) -- "Beagle Scouts" 4416
kunpeng2Linux (openEuler 22.03 LTS-SP1)aarch644.3.1 (2023-06-16) -- "Beagle Scouts" 4401
Click on any hostname to see more info about the system (e.g. compilers)      (*) as reported by 'uname -p', except on Windows and Mac OS X

Package 1100/2233HostnameOS / ArchINSTALLBUILDCHECKBUILD BIN
lpsymphony 1.29.1  (landing page)
Vladislav Kim
Snapshot Date: 2023-09-29 14:05:07 -0400 (Fri, 29 Sep 2023)
git_url: https://git.bioconductor.org/packages/lpsymphony
git_branch: devel
git_last_commit: 650f4b2
git_last_commit_date: 2023-06-06 03:39:06 -0400 (Tue, 06 Jun 2023)
nebbiolo2Linux (Ubuntu 22.04.2 LTS) / x86_64  OK    OK    WARNINGS  UNNEEDED, same version is already published
palomino4Windows Server 2022 Datacenter / x64  OK    OK    WARNINGS    OK  UNNEEDED, same version is already published
lconwaymacOS 12.6.5 Monterey / x86_64  OK    OK    WARNINGS    OK  UNNEEDED, same version is already published
kunpeng2Linux (openEuler 22.03 LTS-SP1) / aarch64  ERROR    ERROR  skipped

BUILD results for lpsymphony on palomino4


To the developers/maintainers of the lpsymphony package:
- Allow up to 24 hours (and sometimes 48 hours) for your latest push to git@git.bioconductor.org:packages/lpsymphony.git to reflect on this report. See Troubleshooting Build Report for more information.
- Use the following Renviron settings to reproduce errors and warnings.
- If 'R CMD check' started to fail recently on the Linux builder(s) over a missing dependency, add the missing dependency to 'Suggests:' in your DESCRIPTION file. See Renviron.bioc for more information.

raw results


Summary

Package: lpsymphony
Version: 1.29.1
Command: chmod a+r lpsymphony -R && F:\biocbuild\bbs-3.18-bioc\R\bin\R.exe CMD build --keep-empty-dirs --no-resave-data lpsymphony
StartedAt: 2023-09-29 19:30:39 -0400 (Fri, 29 Sep 2023)
EndedAt: 2023-09-29 19:31:32 -0400 (Fri, 29 Sep 2023)
EllapsedTime: 53.3 seconds
RetCode: 0
Status:   OK  
PackageFile: lpsymphony_1.29.1.tar.gz
PackageFileSize: 11.84 MiB

Command output

##############################################################################
##############################################################################
###
### Running command:
###
###   chmod a+r lpsymphony -R && F:\biocbuild\bbs-3.18-bioc\R\bin\R.exe CMD build --keep-empty-dirs --no-resave-data lpsymphony
###
##############################################################################
##############################################################################


* checking for file 'lpsymphony/DESCRIPTION' ... OK
* preparing 'lpsymphony':
* checking DESCRIPTION meta-information ... OK
* cleaning src
* installing the package to build vignettes
* creating vignettes ... OK
* cleaning src
* checking for LF line-endings in source and make files and shell scripts
* checking for empty or unneeded directories
* building 'lpsymphony_1.29.1.tar.gz'
Warning: file 'lpsymphony/cleanup' did not have execute permissions: corrected
Warning: file 'lpsymphony/configure' did not have execute permissions: corrected
Warning: file 'lpsymphony/src/SYMPHONY/Cgl/configure' did not have execute permissions: corrected
Warning: file 'lpsymphony/src/SYMPHONY/Clp/configure' did not have execute permissions: corrected
Warning: file 'lpsymphony/src/SYMPHONY/CoinUtils/configure' did not have execute permissions: corrected
Warning: file 'lpsymphony/src/SYMPHONY/Osi/configure' did not have execute permissions: corrected
Warning: file 'lpsymphony/src/SYMPHONY/SYMPHONY/configure' did not have execute permissions: corrected
Warning: file 'lpsymphony/src/SYMPHONY/ThirdParty/Blas/configure' did not have execute permissions: corrected
Warning: file 'lpsymphony/src/SYMPHONY/ThirdParty/Glpk/configure' did not have execute permissions: corrected
Warning: file 'lpsymphony/src/SYMPHONY/ThirdParty/Lapack/configure' did not have execute permissions: corrected
Warning: file 'lpsymphony/src/SYMPHONY/configure' did not have execute permissions: corrected