Back to Multiple platform build/check report for BioC 3.19: simplified long |
|
This page was generated on 2024-03-28 11:37:57 -0400 (Thu, 28 Mar 2024).
Hostname | OS | Arch (*) | R version | Installed pkgs |
---|---|---|---|---|
nebbiolo1 | Linux (Ubuntu 22.04.3 LTS) | x86_64 | R Under development (unstable) (2024-03-18 r86148) -- "Unsuffered Consequences" | 4708 |
palomino3 | Windows Server 2022 Datacenter | x64 | R Under development (unstable) (2024-03-16 r86144 ucrt) -- "Unsuffered Consequences" | 4446 |
lconway | macOS 12.7.1 Monterey | x86_64 | R Under development (unstable) (2024-03-18 r86148) -- "Unsuffered Consequences" | 4471 |
kunpeng2 | Linux (openEuler 22.03 LTS-SP1) | aarch64 | R Under development (unstable) (2024-03-19 r86153) -- "Unsuffered Consequences" | 4426 |
Click on any hostname to see more info about the system (e.g. compilers) (*) as reported by 'uname -p', except on Windows and Mac OS X |
Package 1114/2270 | Hostname | OS / Arch | INSTALL | BUILD | CHECK | BUILD BIN | ||||||||
lpsymphony 1.31.0 (landing page) Vladislav Kim
| nebbiolo1 | Linux (Ubuntu 22.04.3 LTS) / x86_64 | OK | OK | WARNINGS | |||||||||
palomino3 | Windows Server 2022 Datacenter / x64 | OK | OK | WARNINGS | OK | |||||||||
lconway | macOS 12.7.1 Monterey / x86_64 | OK | OK | WARNINGS | OK | |||||||||
kunpeng2 | Linux (openEuler 22.03 LTS-SP1) / aarch64 | ERROR | ERROR | skipped | ||||||||||
To the developers/maintainers of the lpsymphony package: - Allow up to 24 hours (and sometimes 48 hours) for your latest push to git@git.bioconductor.org:packages/lpsymphony.git to reflect on this report. See Troubleshooting Build Report for more information. - Use the following Renviron settings to reproduce errors and warnings. - If 'R CMD check' started to fail recently on the Linux builder(s) over a missing dependency, add the missing dependency to 'Suggests:' in your DESCRIPTION file. See Renviron.bioc for more information. |
Package: lpsymphony |
Version: 1.31.0 |
Command: chmod a+r lpsymphony -R && F:\biocbuild\bbs-3.19-bioc\R\bin\R.exe CMD build --keep-empty-dirs --no-resave-data lpsymphony |
StartedAt: 2024-03-27 20:10:24 -0400 (Wed, 27 Mar 2024) |
EndedAt: 2024-03-27 20:11:32 -0400 (Wed, 27 Mar 2024) |
EllapsedTime: 68.6 seconds |
RetCode: 0 |
Status: OK |
PackageFile: lpsymphony_1.31.0.tar.gz |
PackageFileSize: 11.84 MiB |
############################################################################## ############################################################################## ### ### Running command: ### ### chmod a+r lpsymphony -R && F:\biocbuild\bbs-3.19-bioc\R\bin\R.exe CMD build --keep-empty-dirs --no-resave-data lpsymphony ### ############################################################################## ############################################################################## * checking for file 'lpsymphony/DESCRIPTION' ... OK * preparing 'lpsymphony': * checking DESCRIPTION meta-information ... OK * cleaning src * installing the package to build vignettes * creating vignettes ... OK * cleaning src * checking for LF line-endings in source and make files and shell scripts * checking for empty or unneeded directories * building 'lpsymphony_1.31.0.tar.gz' Warning: file 'lpsymphony/cleanup' did not have execute permissions: corrected Warning: file 'lpsymphony/configure' did not have execute permissions: corrected Warning: file 'lpsymphony/src/SYMPHONY/Cgl/configure' did not have execute permissions: corrected Warning: file 'lpsymphony/src/SYMPHONY/Clp/configure' did not have execute permissions: corrected Warning: file 'lpsymphony/src/SYMPHONY/CoinUtils/configure' did not have execute permissions: corrected Warning: file 'lpsymphony/src/SYMPHONY/Osi/configure' did not have execute permissions: corrected Warning: file 'lpsymphony/src/SYMPHONY/SYMPHONY/configure' did not have execute permissions: corrected Warning: file 'lpsymphony/src/SYMPHONY/ThirdParty/Blas/configure' did not have execute permissions: corrected Warning: file 'lpsymphony/src/SYMPHONY/ThirdParty/Glpk/configure' did not have execute permissions: corrected Warning: file 'lpsymphony/src/SYMPHONY/ThirdParty/Lapack/configure' did not have execute permissions: corrected Warning: file 'lpsymphony/src/SYMPHONY/configure' did not have execute permissions: corrected