Back to Multiple platform build/check report for BioC 3.17:   simplified   long
ABCDEFGHIJK[L]MNOPQRSTUVWXYZ

This page was generated on 2023-02-07 11:06:03 -0500 (Tue, 07 Feb 2023).

HostnameOSArch (*)R versionInstalled pkgs
nebbiolo1Linux (Ubuntu 22.04.1 LTS)x86_64R Under development (unstable) (2023-01-10 r83596) -- "Unsuffered Consequences" 4483
palomino3Windows Server 2022 Datacenterx64R Under development (unstable) (2023-01-10 r83596 ucrt) -- "Unsuffered Consequences" 4249
merida1macOS 10.14.6 Mojavex86_64R Under development (unstable) (2023-01-10 r83596) -- "Unsuffered Consequences" 4272
Click on any hostname to see more info about the system (e.g. compilers)      (*) as reported by 'uname -p', except on Windows and Mac OS X

BUILD BIN results for lapmix on palomino3


To the developers/maintainers of the lapmix package:
- Please allow up to 24 hours (and sometimes 48 hours) for your latest push to git@git.bioconductor.org:packages/lapmix.git to
reflect on this report. See How and When does the builder pull? When will my changes propagate? for more information.
- Make sure to use the following settings in order to reproduce any error or warning you see on this page.

raw results

Package 1018/2164HostnameOS / ArchINSTALLBUILDCHECKBUILD BIN
lapmix 1.65.0  (landing page)
Yann Ruffieux
Snapshot Date: 2023-02-06 14:00:21 -0500 (Mon, 06 Feb 2023)
git_url: https://git.bioconductor.org/packages/lapmix
git_branch: master
git_last_commit: 909d3db
git_last_commit_date: 2022-11-01 10:41:59 -0500 (Tue, 01 Nov 2022)
nebbiolo1Linux (Ubuntu 22.04.1 LTS) / x86_64  OK    OK    OK  UNNEEDED, same version is already published
palomino3Windows Server 2022 Datacenter / x64  OK    OK    OK    OK  UNNEEDED, same version is already published
merida1macOS 10.14.6 Mojave / x86_64  OK    OK    OK    OK  UNNEEDED, same version is already published

Summary

Package: lapmix
Version: 1.65.0
Command: rm -rf lapmix.buildbin-libdir && mkdir lapmix.buildbin-libdir && F:\biocbuild\bbs-3.17-bioc\R\bin\R.exe CMD INSTALL --build --library=lapmix.buildbin-libdir lapmix_1.65.0.tar.gz
StartedAt: 2023-02-07 08:33:30 -0500 (Tue, 07 Feb 2023)
EndedAt: 2023-02-07 08:33:46 -0500 (Tue, 07 Feb 2023)
EllapsedTime: 16.3 seconds
RetCode: 0
Status:   OK  
PackageFile: lapmix_1.65.0.zip
PackageFileSize: 276.1 KiB

Command output

##############################################################################
##############################################################################
###
### Running command:
###
###   rm -rf lapmix.buildbin-libdir && mkdir lapmix.buildbin-libdir && F:\biocbuild\bbs-3.17-bioc\R\bin\R.exe CMD INSTALL --build --library=lapmix.buildbin-libdir lapmix_1.65.0.tar.gz
###
##############################################################################
##############################################################################


* installing *source* package 'lapmix' ...
** using staged installation
** R
** inst
** byte-compile and prepare package for lazy loading
** help
*** installing help indices
** building package indices
** installing vignettes
** testing if installed package can be loaded from temporary location
** testing if installed package can be loaded from final location
** testing if installed package keeps a record of temporary installation path
* MD5 sums
packaged installation of 'lapmix' as lapmix_1.65.0.zip
* DONE (lapmix)