Back to Multiple platform build/check report for BioC 3.14
ABCDEF[G]HIJKLMNOPQRSTUVWXYZ

This page was generated on 2021-10-20 12:05:41 -0400 (Wed, 20 Oct 2021).

BUILD results for genefu on merida1

To the developers/maintainers of the genefu package:
- Please allow up to 24 hours (and sometimes 48 hours) for your latest push to git@git.bioconductor.org:packages/genefu.git to
reflect on this report. See How and When does the builder pull? When will my changes propagate? here for more information.
- Make sure to use the following settings in order to reproduce any error or warning you see on this page.

raw results

Package 719/2072HostnameOS / ArchINSTALLBUILDCHECKBUILD BIN
genefu 2.25.1  (landing page)
Benjamin Haibe-Kains
Snapshot Date: 2021-10-19 14:50:04 -0400 (Tue, 19 Oct 2021)
git_url: https://git.bioconductor.org/packages/genefu
git_branch: master
git_last_commit: 8fce049
git_last_commit_date: 2021-05-21 19:08:16 -0400 (Fri, 21 May 2021)
nebbiolo2Linux (Ubuntu 20.04.2 LTS) / x86_64  OK    OK    OK  UNNEEDED, same version is already published
riesling1Windows Server 2019 Standard / x64  OK    OK    OK    OK  UNNEEDED, same version is already published
merida1macOS 10.14.6 Mojave / x86_64  OK    OK    OK    OK  UNNEEDED, same version is already published

Summary

Package: genefu
Version: 2.25.1
Command: /Library/Frameworks/R.framework/Resources/bin/R CMD build --keep-empty-dirs --no-resave-data genefu
StartedAt: 2021-10-19 20:11:11 -0400 (Tue, 19 Oct 2021)
EndedAt: 2021-10-19 20:12:46 -0400 (Tue, 19 Oct 2021)
EllapsedTime: 95.4 seconds
RetCode: 0
Status:   OK  
PackageFile: genefu_2.25.1.tar.gz
PackageFileSize: 4.838 MiB

Command output

##############################################################################
##############################################################################
###
### Running command:
###
###   /Library/Frameworks/R.framework/Resources/bin/R CMD build --keep-empty-dirs --no-resave-data genefu
###
##############################################################################
##############################################################################


* checking for file ‘genefu/DESCRIPTION’ ... OK
* preparing ‘genefu’:
* checking DESCRIPTION meta-information ... OK
* installing the package to build vignettes
* creating vignettes ... OK
* checking for LF line-endings in source and make files and shell scripts
* checking for empty or unneeded directories
* looking to see if a ‘data/datalist’ file should be added
* building ‘genefu_2.25.1.tar.gz’