Back to Multiple platform build/check report for BioC 3.17
ABCDE[F]GHIJKLMNOPQRSTUVWXYZ

This page was generated on 2022-12-09 11:05:46 -0500 (Fri, 09 Dec 2022).

HostnameOSArch (*)R versionInstalled pkgs
nebbiolo1Linux (Ubuntu 22.04.1 LTS)x86_64R Under development (unstable) (2022-11-30 r83393) -- "Unsuffered Consequences" 4449
palomino3Windows Server 2022 Datacenterx64R Under development (unstable) (2022-11-30 r83393 ucrt) -- "Unsuffered Consequences" 4194
merida1macOS 10.14.6 Mojavex86_64R Under development (unstable) (2022-11-30 r83393) -- "Unsuffered Consequences" 4237
Click on any hostname to see more info about the system (e.g. compilers)      (*) as reported by 'uname -p', except on Windows and Mac OS X

BUILD results for fmrs on nebbiolo1


To the developers/maintainers of the fmrs package:
- Please allow up to 24 hours (and sometimes 48 hours) for your latest push to git@git.bioconductor.org:packages/fmrs.git to
reflect on this report. See How and When does the builder pull? When will my changes propagate? for more information.
- Make sure to use the following settings in order to reproduce any error or warning you see on this page.

raw results

Package 702/2155HostnameOS / ArchINSTALLBUILDCHECKBUILD BIN
fmrs 1.9.0  (landing page)
Farhad Shokoohi
Snapshot Date: 2022-12-08 14:00:20 -0500 (Thu, 08 Dec 2022)
git_url: https://git.bioconductor.org/packages/fmrs
git_branch: master
git_last_commit: d536b74
git_last_commit_date: 2022-11-01 11:22:20 -0500 (Tue, 01 Nov 2022)
nebbiolo1Linux (Ubuntu 22.04.1 LTS) / x86_64  OK    OK    OK  UNNEEDED, same version is already published
palomino3Windows Server 2022 Datacenter / x64  OK    OK    OK    OK  UNNEEDED, same version is already published
merida1macOS 10.14.6 Mojave / x86_64  OK    OK    OK    OK  UNNEEDED, same version is already published

Summary

Package: fmrs
Version: 1.9.0
Command: /home/biocbuild/bbs-3.17-bioc/R/bin/R CMD build --keep-empty-dirs --no-resave-data fmrs
StartedAt: 2022-12-08 16:33:58 -0500 (Thu, 08 Dec 2022)
EndedAt: 2022-12-08 16:34:10 -0500 (Thu, 08 Dec 2022)
EllapsedTime: 11.5 seconds
RetCode: 0
Status:   OK  
PackageFile: fmrs_1.9.0.tar.gz
PackageFileSize: 40.02 KiB

Command output

##############################################################################
##############################################################################
###
### Running command:
###
###   /home/biocbuild/bbs-3.17-bioc/R/bin/R CMD build --keep-empty-dirs --no-resave-data fmrs
###
##############################################################################
##############################################################################


* checking for file ‘fmrs/DESCRIPTION’ ... OK
* preparing ‘fmrs’:
* checking DESCRIPTION meta-information ... OK
* cleaning src
* installing the package to build vignettes
* creating vignettes ... OK
* cleaning src
* checking for LF line-endings in source and make files and shell scripts
* checking for empty or unneeded directories
* building ‘fmrs_1.9.0.tar.gz’