Back to Multiple platform build/check report for BioC 3.14
ABC[D]EFGHIJKLMNOPQRSTUVWXYZ

This page was generated on 2021-10-22 12:04:56 -0400 (Fri, 22 Oct 2021).

BUILD BIN results for doseR on merida1

To the developers/maintainers of the doseR package:
- Please allow up to 24 hours (and sometimes 48 hours) for your latest push to git@git.bioconductor.org:packages/doseR.git to
reflect on this report. See How and When does the builder pull? When will my changes propagate? here for more information.
- Make sure to use the following settings in order to reproduce any error or warning you see on this page.

raw results

Package 535/2075HostnameOS / ArchINSTALLBUILDCHECKBUILD BIN
doseR 1.9.0  (landing page)
ake.vastermark
Snapshot Date: 2021-10-21 14:50:08 -0400 (Thu, 21 Oct 2021)
git_url: https://git.bioconductor.org/packages/doseR
git_branch: master
git_last_commit: 8ccc422
git_last_commit_date: 2021-05-19 12:41:19 -0400 (Wed, 19 May 2021)
nebbiolo2Linux (Ubuntu 20.04.2 LTS) / x86_64  OK    OK    OK  UNNEEDED, same version is already published
riesling1Windows Server 2019 Standard / x64  OK    OK    OK    OK  UNNEEDED, same version is already published
merida1macOS 10.14.6 Mojave / x86_64  OK    OK    OK    OK  UNNEEDED, same version is already published

Summary

Package: doseR
Version: 1.9.0
Command: rm -rf doseR.buildbin-libdir && mkdir doseR.buildbin-libdir && /Users/biocbuild/BBS/utils/build-universal.sh doseR_1.9.0.tar.gz /Library/Frameworks/R.framework/Resources/bin/R doseR.buildbin-libdir
StartedAt: 2021-10-22 11:58:22 -0400 (Fri, 22 Oct 2021)
EndedAt: 2021-10-22 11:59:04 -0400 (Fri, 22 Oct 2021)
EllapsedTime: 42.0 seconds
RetCode: 0
Status:   OK  
PackageFile: doseR_1.9.0.tgz
PackageFileSize: 1.488 MiB

Command output

##############################################################################
##############################################################################
###
### Running command:
###
###   rm -rf doseR.buildbin-libdir && mkdir doseR.buildbin-libdir && /Users/biocbuild/BBS/utils/build-universal.sh doseR_1.9.0.tar.gz /Library/Frameworks/R.framework/Resources/bin/R doseR.buildbin-libdir
###
##############################################################################
##############################################################################


>>>>>>> 
>>>>>>> INSTALLATION WITH 'R CMD INSTALL --preclean --no-multiarch --library=doseR.buildbin-libdir doseR_1.9.0.tar.gz'
>>>>>>> 

* installing *source* package ‘doseR’ ...
** using staged installation
** R
** data
** inst
** byte-compile and prepare package for lazy loading
** help
*** installing help indices
** building package indices
** installing vignettes
** testing if installed package can be loaded from temporary location
** testing if installed package can be loaded from final location
** testing if installed package keeps a record of temporary installation path
* DONE (doseR)