Back to Multiple platform build/check report for BioC 3.19:   simplified   long
ABC[D]EFGHIJKLMNOPQRSTUVWXYZ

This page was generated on 2023-12-02 11:38:40 -0500 (Sat, 02 Dec 2023).

HostnameOSArch (*)R versionInstalled pkgs
nebbiolo1Linux (Ubuntu 22.04.2 LTS)x86_64R Under development (unstable) (2023-11-11 r85510) -- "Unsuffered Consequences" 4601
palomino3Windows Server 2022 Datacenterx64R Under development (unstable) (2023-11-14 r85524 ucrt) -- "Unsuffered Consequences" 4344
merida1macOS 12.7.1 Montereyx86_64R Under development (unstable) (2023-11-11 r85510) -- "Unsuffered Consequences" 4369
kunpeng2Linux (openEuler 22.03 LTS-SP1)aarch64R Under development (unstable) (2023-11-01 r85459) -- "Unsuffered Consequences" 4254
Click on any hostname to see more info about the system (e.g. compilers)      (*) as reported by 'uname -p', except on Windows and Mac OS X

Package 539/2225HostnameOS / ArchINSTALLBUILDCHECKBUILD BIN
derfinderPlot 1.37.0  (landing page)
Leonardo Collado-Torres
Snapshot Date: 2023-12-01 14:00:13 -0500 (Fri, 01 Dec 2023)
git_url: https://git.bioconductor.org/packages/derfinderPlot
git_branch: devel
git_last_commit: 65847f5
git_last_commit_date: 2023-10-24 10:38:59 -0500 (Tue, 24 Oct 2023)
nebbiolo1Linux (Ubuntu 22.04.2 LTS) / x86_64  OK    OK    OK  UNNEEDED, same version is already published
palomino3Windows Server 2022 Datacenter / x64  OK    OK    OK    OK  UNNEEDED, same version is already published
merida1macOS 12.7.1 Monterey / x86_64  OK    OK    OK    OK  UNNEEDED, same version is already published
kunpeng2Linux (openEuler 22.03 LTS-SP1) / aarch64  OK    OK    OK  

BUILD results for derfinderPlot on kunpeng2


To the developers/maintainers of the derfinderPlot package:
- Allow up to 24 hours (and sometimes 48 hours) for your latest push to git@git.bioconductor.org:packages/derfinderPlot.git to reflect on this report. See Troubleshooting Build Report for more information.
- Use the following Renviron settings to reproduce errors and warnings.
- If 'R CMD check' started to fail recently on the Linux builder(s) over a missing dependency, add the missing dependency to 'Suggests:' in your DESCRIPTION file. See Renviron.bioc for more information.
- See Martin Grigorov's blog post for how to debug Linux ARM64 related issues on a x86_64 host.

raw results


Summary

Package: derfinderPlot
Version: 1.37.0
Command: /home/biocbuild/R/R-4.4-devel-2023.11.02/bin/R CMD build --keep-empty-dirs --no-resave-data derfinderPlot
StartedAt: 2023-12-01 22:29:39 -0000 (Fri, 01 Dec 2023)
EndedAt: 2023-12-01 22:33:46 -0000 (Fri, 01 Dec 2023)
EllapsedTime: 246.3 seconds
RetCode: 0
Status:   OK  
PackageFile: derfinderPlot_1.37.0.tar.gz
PackageFileSize: 2.314 MiB

Command output

##############################################################################
##############################################################################
###
### Running command:
###
###   /home/biocbuild/R/R-4.4-devel-2023.11.02/bin/R CMD build --keep-empty-dirs --no-resave-data derfinderPlot
###
##############################################################################
##############################################################################


* checking for file ‘derfinderPlot/DESCRIPTION’ ... OK
* preparing ‘derfinderPlot’:
* checking DESCRIPTION meta-information ... OK
* installing the package to build vignettes
* creating vignettes ... OK
* checking for LF line-endings in source and make files and shell scripts
* checking for empty or unneeded directories
Omitted ‘LazyData’ from DESCRIPTION
* building ‘derfinderPlot_1.37.0.tar.gz’