Back to Multiple platform build/check report for BioC 3.19: simplified long |
|
This page was generated on 2024-03-28 11:40:35 -0400 (Thu, 28 Mar 2024).
Hostname | OS | Arch (*) | R version | Installed pkgs |
---|---|---|---|---|
nebbiolo1 | Linux (Ubuntu 22.04.3 LTS) | x86_64 | R Under development (unstable) (2024-03-18 r86148) -- "Unsuffered Consequences" | 4708 |
palomino3 | Windows Server 2022 Datacenter | x64 | R Under development (unstable) (2024-03-16 r86144 ucrt) -- "Unsuffered Consequences" | 4446 |
lconway | macOS 12.7.1 Monterey | x86_64 | R Under development (unstable) (2024-03-18 r86148) -- "Unsuffered Consequences" | 4471 |
kunpeng2 | Linux (openEuler 22.03 LTS-SP1) | aarch64 | R Under development (unstable) (2024-03-19 r86153) -- "Unsuffered Consequences" | 4426 |
Click on any hostname to see more info about the system (e.g. compilers) (*) as reported by 'uname -p', except on Windows and Mac OS X |
Package 440/2270 | Hostname | OS / Arch | INSTALL | BUILD | CHECK | BUILD BIN | ||||||||
corral 1.13.0 (landing page) Lauren Hsu
| nebbiolo1 | Linux (Ubuntu 22.04.3 LTS) / x86_64 | OK | ERROR | skipped | |||||||||
palomino3 | Windows Server 2022 Datacenter / x64 | OK | OK | OK | OK | |||||||||
lconway | macOS 12.7.1 Monterey / x86_64 | OK | OK | OK | OK | |||||||||
kunpeng2 | Linux (openEuler 22.03 LTS-SP1) / aarch64 | OK | OK | OK | ||||||||||
To the developers/maintainers of the corral package: - Allow up to 24 hours (and sometimes 48 hours) for your latest push to git@git.bioconductor.org:packages/corral.git to reflect on this report. See Troubleshooting Build Report for more information. - Use the following Renviron settings to reproduce errors and warnings. - If 'R CMD check' started to fail recently on the Linux builder(s) over a missing dependency, add the missing dependency to 'Suggests:' in your DESCRIPTION file. See Renviron.bioc for more information. - See Martin Grigorov's blog post for how to debug Linux ARM64 related issues on a x86_64 host. |
Package: corral |
Version: 1.13.0 |
Command: /home/biocbuild/R/R-4.4-devel-2024.03.20/bin/R CMD check --install=check:corral.install-out.txt --library=/home/biocbuild/R/R-4.4-devel-2024.03.20/site-library --no-vignettes --timings corral_1.13.0.tar.gz |
StartedAt: 2024-03-28 04:11:36 -0000 (Thu, 28 Mar 2024) |
EndedAt: 2024-03-28 04:18:15 -0000 (Thu, 28 Mar 2024) |
EllapsedTime: 398.7 seconds |
RetCode: 0 |
Status: OK |
CheckDir: corral.Rcheck |
Warnings: 0 |
############################################################################## ############################################################################## ### ### Running command: ### ### /home/biocbuild/R/R-4.4-devel-2024.03.20/bin/R CMD check --install=check:corral.install-out.txt --library=/home/biocbuild/R/R-4.4-devel-2024.03.20/site-library --no-vignettes --timings corral_1.13.0.tar.gz ### ############################################################################## ############################################################################## * using log directory ‘/home/biocbuild/bbs-3.19-bioc/meat/corral.Rcheck’ * using R Under development (unstable) (2024-03-19 r86153) * using platform: aarch64-unknown-linux-gnu * R was compiled by gcc (GCC) 10.3.1 GNU Fortran (GCC) 10.3.1 * running under: openEuler 22.03 (LTS-SP1) * using session charset: UTF-8 * using option ‘--no-vignettes’ * checking for file ‘corral/DESCRIPTION’ ... OK * this is package ‘corral’ version ‘1.13.0’ * package encoding: UTF-8 * checking package namespace information ... OK * checking package dependencies ... OK * checking if this is a source package ... OK * checking if there is a namespace ... OK * checking for hidden files and directories ... OK * checking for portable file names ... OK * checking for sufficient/correct file permissions ... OK * checking whether package ‘corral’ can be installed ... OK * checking installed package size ... OK * checking package directory ... OK * checking ‘build’ directory ... OK * checking DESCRIPTION meta-information ... OK * checking top-level files ... OK * checking for left-over files ... OK * checking index information ... OK * checking package subdirectories ... OK * checking code files for non-ASCII characters ... OK * checking R files for syntax errors ... OK * checking whether the package can be loaded ... OK * checking whether the package can be loaded with stated dependencies ... OK * checking whether the package can be unloaded cleanly ... OK * checking whether the namespace can be loaded with stated dependencies ... OK * checking whether the namespace can be unloaded cleanly ... OK * checking loading without being on the library search path ... OK * checking dependencies in R code ... NOTE Unexported object imported by a ':::' call: ‘ggthemes:::check_pal_n’ See the note in ?`:::` about the use of this operator. * checking S3 generic/method consistency ... OK * checking replacement functions ... OK * checking foreign function calls ... OK * checking R code for possible problems ... NOTE biplot_corral: no visible binding for global variable ‘Name’ plot_embedding: no visible binding for global variable ‘Xdim’ plot_embedding: no visible binding for global variable ‘Ydim’ scal_var: no visible binding for global variable ‘PC_ind’ scal_var: no visible binding for global variable ‘sv’ scal_var: no visible binding for global variable ‘Batch’ Undefined global functions or variables: Batch Name PC_ind Xdim Ydim sv * checking Rd files ... NOTE prepare_Rd: corral_preproc.Rd:41-43: Dropping empty section \details * checking Rd metadata ... OK * checking Rd cross-references ... OK * checking for missing documentation entries ... OK * checking for code/documentation mismatches ... OK * checking Rd \usage sections ... OK * checking Rd contents ... OK * checking for unstated dependencies in examples ... OK * checking files in ‘vignettes’ ... OK * checking examples ... OK Examples with CPU (user + system) or elapsed time > 5s user system elapsed biplot_corral 96.184 1.752 99.572 add_embeddings2scelist 20.870 0.910 26.813 corral 11.337 0.499 14.797 corralm 11.110 0.435 14.482 plot_embedding_sce 7.442 0.299 9.186 sce2matlist 5.930 0.307 7.666 * checking for unstated dependencies in ‘tests’ ... OK * checking tests ... Running ‘testthat.R’ OK * checking for unstated dependencies in vignettes ... OK * checking package vignettes ... OK * checking running R code from vignettes ... SKIPPED * checking re-building of vignette outputs ... SKIPPED * checking PDF version of manual ... OK * DONE Status: 3 NOTEs See ‘/home/biocbuild/bbs-3.19-bioc/meat/corral.Rcheck/00check.log’ for details.
corral.Rcheck/00install.out
############################################################################## ############################################################################## ### ### Running command: ### ### /home/biocbuild/R/R-4.4-devel-2024.03.20/bin/R CMD INSTALL corral ### ############################################################################## ############################################################################## * installing to library ‘/home/biocbuild/R/R-4.4-devel-2024.03.20/site-library’ * installing *source* package ‘corral’ ... ** using staged installation ** R ** inst ** byte-compile and prepare package for lazy loading ** help *** installing help indices ** building package indices ** installing vignettes ** testing if installed package can be loaded from temporary location ** testing if installed package can be loaded from final location ** testing if installed package keeps a record of temporary installation path * DONE (corral)
corral.Rcheck/tests/testthat.Rout
R Under development (unstable) (2024-03-19 r86153) -- "Unsuffered Consequences" Copyright (C) 2024 The R Foundation for Statistical Computing Platform: aarch64-unknown-linux-gnu R is free software and comes with ABSOLUTELY NO WARRANTY. You are welcome to redistribute it under certain conditions. Type 'license()' or 'licence()' for distribution details. R is a collaborative project with many contributors. Type 'contributors()' for more information and 'citation()' on how to cite R or R packages in publications. Type 'demo()' for some demos, 'help()' for on-line help, or 'help.start()' for an HTML browser interface to help. Type 'q()' to quit R. > > proc.time() user system elapsed 0.201 0.019 0.206
corral.Rcheck/corral-Ex.timings
name | user | system | elapsed | |
add_embeddings2scelist | 20.870 | 0.910 | 26.813 | |
all_are | 0.001 | 0.000 | 0.001 | |
biplot_corral | 96.184 | 1.752 | 99.572 | |
compsvd | 0.004 | 0.000 | 0.005 | |
corral | 11.337 | 0.499 | 14.797 | |
corral_preproc | 0.013 | 0.000 | 0.013 | |
corralm | 11.110 | 0.435 | 14.482 | |
earthmover_dist | 0.031 | 0.000 | 0.031 | |
get_pct_var_exp_svd | 0.001 | 0.000 | 0.001 | |
get_weights | 0.001 | 0.000 | 0.001 | |
list2mat | 0.001 | 0.000 | 0.001 | |
na2zero | 0.017 | 0.008 | 0.024 | |
pairwise_rv | 0.001 | 0.000 | 0.002 | |
plot_embedding | 0.810 | 0.004 | 0.816 | |
plot_embedding_sce | 7.442 | 0.299 | 9.186 | |
rv | 0 | 0 | 0 | |
scal_var | 0.300 | 0.000 | 0.301 | |
scal_var_mat | 0.027 | 0.000 | 0.028 | |
sce2matlist | 5.930 | 0.307 | 7.666 | |
trim_matdist | 0.051 | 0.004 | 0.055 | |
var_stabilize | 0 | 0 | 0 | |