Back to Multiple platform build/check report for BioC 3.14
AB[C]DEFGHIJKLMNOPQRSTUVWXYZ

This page was generated on 2021-10-22 12:04:53 -0400 (Fri, 22 Oct 2021).

BUILD results for clusterExperiment on merida1

To the developers/maintainers of the clusterExperiment package:
- Please allow up to 24 hours (and sometimes 48 hours) for your latest push to git@git.bioconductor.org:packages/clusterExperiment.git to
reflect on this report. See How and When does the builder pull? When will my changes propagate? here for more information.
- Make sure to use the following settings in order to reproduce any error or warning you see on this page.

raw results

Package 335/2075HostnameOS / ArchINSTALLBUILDCHECKBUILD BIN
clusterExperiment 2.13.2  (landing page)
Elizabeth Purdom
Snapshot Date: 2021-10-21 14:50:08 -0400 (Thu, 21 Oct 2021)
git_url: https://git.bioconductor.org/packages/clusterExperiment
git_branch: master
git_last_commit: 932770f
git_last_commit_date: 2021-09-16 12:01:53 -0400 (Thu, 16 Sep 2021)
nebbiolo2Linux (Ubuntu 20.04.2 LTS) / x86_64  OK    OK    WARNINGS  UNNEEDED, same version is already published
riesling1Windows Server 2019 Standard / x64  OK    OK    WARNINGS    OK  UNNEEDED, same version is already published
merida1macOS 10.14.6 Mojave / x86_64  OK    OK    TIMEOUT    OK  

Summary

Package: clusterExperiment
Version: 2.13.2
Command: /Library/Frameworks/R.framework/Resources/bin/R CMD build --keep-empty-dirs --no-resave-data clusterExperiment
StartedAt: 2021-10-21 19:17:35 -0400 (Thu, 21 Oct 2021)
EndedAt: 2021-10-21 19:27:45 -0400 (Thu, 21 Oct 2021)
EllapsedTime: 610.4 seconds
RetCode: 0
Status:   OK  
PackageFile: clusterExperiment_2.13.2.tar.gz
PackageFileSize: 10.37 MiB

Command output

##############################################################################
##############################################################################
###
### Running command:
###
###   /Library/Frameworks/R.framework/Resources/bin/R CMD build --keep-empty-dirs --no-resave-data clusterExperiment
###
##############################################################################
##############################################################################


* checking for file ‘clusterExperiment/DESCRIPTION’ ... OK
* preparing ‘clusterExperiment’:
* checking DESCRIPTION meta-information ... OK
* cleaning src
* installing the package to build vignettes
* creating vignettes ... OK
* cleaning src
* checking for LF line-endings in source and make files and shell scripts
* checking for empty or unneeded directories
* looking to see if a ‘data/datalist’ file should be added
* building ‘clusterExperiment_2.13.2.tar.gz’