Back to Multiple platform build/check report for BioC 3.17:   simplified   long
A[B]CDEFGHIJKLMNOPQRSTUVWXYZ

This page was generated on 2023-03-24 11:06:36 -0400 (Fri, 24 Mar 2023).

HostnameOSArch (*)R versionInstalled pkgs
nebbiolo1Linux (Ubuntu 22.04.1 LTS)x86_64R Under development (unstable) (2023-03-16 r83996) -- "Unsuffered Consequences" 4546
palomino3Windows Server 2022 Datacenterx64R Under development (unstable) (2023-03-15 r83984 ucrt) -- "Unsuffered Consequences" 4307
merida1macOS 10.14.6 Mojavex86_64R Under development (unstable) (2023-03-16 r83985) -- "Unsuffered Consequences" 4299
Click on any hostname to see more info about the system (e.g. compilers)      (*) as reported by 'uname -p', except on Windows and Mac OS X

CHECK results for biomaRt on merida1


To the developers/maintainers of the biomaRt package:
- Please allow up to 24 hours (and sometimes 48 hours) for your latest push to git@git.bioconductor.org:packages/biomaRt.git to
reflect on this report. See How and When does the builder pull? When will my changes propagate? for more information.
- Make sure to use the following settings in order to reproduce any error or warning you see on this page.

raw results

Package 203/2195HostnameOS / ArchINSTALLBUILDCHECKBUILD BIN
biomaRt 2.55.3  (landing page)
Mike Smith
Snapshot Date: 2023-03-23 14:00:15 -0400 (Thu, 23 Mar 2023)
git_url: https://git.bioconductor.org/packages/biomaRt
git_branch: devel
git_last_commit: 52114c8
git_last_commit_date: 2023-03-23 10:21:02 -0400 (Thu, 23 Mar 2023)
nebbiolo1Linux (Ubuntu 22.04.1 LTS) / x86_64  OK    ERROR  skipped
palomino3Windows Server 2022 Datacenter / x64  OK    OK    ERROR    OK  
merida1macOS 10.14.6 Mojave / x86_64  OK    OK    ERROR    OK  

Summary

Package: biomaRt
Version: 2.55.3
Command: /Library/Frameworks/R.framework/Resources/bin/R CMD check --install=check:biomaRt.install-out.txt --library=/Library/Frameworks/R.framework/Resources/library --no-vignettes --timings biomaRt_2.55.3.tar.gz
StartedAt: 2023-03-23 22:59:14 -0400 (Thu, 23 Mar 2023)
EndedAt: 2023-03-23 23:04:44 -0400 (Thu, 23 Mar 2023)
EllapsedTime: 330.2 seconds
RetCode: 1
Status:   ERROR  
CheckDir: biomaRt.Rcheck
Warnings: NA

Command output

##############################################################################
##############################################################################
###
### Running command:
###
###   /Library/Frameworks/R.framework/Resources/bin/R CMD check --install=check:biomaRt.install-out.txt --library=/Library/Frameworks/R.framework/Resources/library --no-vignettes --timings biomaRt_2.55.3.tar.gz
###
##############################################################################
##############################################################################


* using log directory ‘/Users/biocbuild/bbs-3.17-bioc/meat/biomaRt.Rcheck’
* using R Under development (unstable) (2023-03-16 r83985)
* using platform: x86_64-apple-darwin17.0 (64-bit)
* R was compiled by
    Apple clang version 12.0.0 (clang-1200.0.32.29)
    GNU Fortran (GCC) 8.2.0
* running under: macOS Mojave 10.14.6
* using session charset: UTF-8
* using option ‘--no-vignettes’
* checking for file ‘biomaRt/DESCRIPTION’ ... OK
* this is package ‘biomaRt’ version ‘2.55.3’
* package encoding: UTF-8
* checking package namespace information ... OK
* checking package dependencies ... OK
* checking if this is a source package ... OK
* checking if there is a namespace ... OK
* checking for hidden files and directories ... OK
* checking for portable file names ... OK
* checking for sufficient/correct file permissions ... OK
* checking whether package ‘biomaRt’ can be installed ... OK
* checking installed package size ... OK
* checking package directory ... OK
* checking ‘build’ directory ... OK
* checking DESCRIPTION meta-information ... OK
* checking top-level files ... OK
* checking for left-over files ... OK
* checking index information ... OK
* checking package subdirectories ... OK
* checking R files for non-ASCII characters ... OK
* checking R files for syntax errors ... OK
* checking whether the package can be loaded ... OK
* checking whether the package can be loaded with stated dependencies ... OK
* checking whether the package can be unloaded cleanly ... OK
* checking whether the namespace can be loaded with stated dependencies ... OK
* checking whether the namespace can be unloaded cleanly ... OK
* checking dependencies in R code ... NOTE
Unexported object imported by a ':::' call: ‘AnnotationDbi:::smartKeys’
  See the note in ?`:::` about the use of this operator.
There are ::: calls to the package's namespace in its code. A package
  almost never needs to use ::: for its own objects:
  ‘.biomartCacheLocation’
* checking S3 generic/method consistency ... OK
* checking replacement functions ... OK
* checking foreign function calls ... OK
* checking R code for possible problems ... OK
* checking Rd files ... NOTE
checkRd: (-1) getBM.Rd:16: Escaped LaTeX specials: \_
checkRd: (-1) getGene.Rd:9: Escaped LaTeX specials: \_ \_ \_ \_ \_ \_ \_ \_ \_
* checking Rd metadata ... OK
* checking Rd cross-references ... OK
* checking for missing documentation entries ... OK
* checking for code/documentation mismatches ... OK
* checking Rd \usage sections ... OK
* checking Rd contents ... OK
* checking for unstated dependencies in examples ... OK
* checking files in ‘vignettes’ ... OK
* checking examples ... OK
* checking for unstated dependencies in ‘tests’ ... OK
* checking tests ...
  Running ‘testthat.R’
 ERROR
Running the tests in ‘tests/testthat.R’ failed.
Last 13 lines of output:
    1. ├─testthat::expect_silent(...) at test_utilityFunctions.R:112:2
    2. │ └─testthat:::quasi_capture(enquo(object), NULL, evaluate_promise)
    3. │   ├─testthat (local) .capture(...)
    4. │   │ ├─withr::with_output_sink(...)
    5. │   │ │ └─base::force(code)
    6. │   │ ├─base::withCallingHandlers(...)
    7. │   │ └─base::withVisible(code)
    8. │   └─rlang::eval_bare(quo_get_expr(.quo), quo_get_env(.quo))
    9. └─biomaRt:::.fetchHTMLresults(host, query, httr_config = httr_config)
   10.   └─base::gsub(...)
   11.     └─base::is.factor(x)
  
  [ FAIL 1 | WARN 0 | SKIP 0 | PASS 147 ]
  Error: Test failures
  Execution halted
* checking for unstated dependencies in vignettes ... OK
* checking package vignettes in ‘inst/doc’ ... OK
* checking running R code from vignettes ... SKIPPED
* checking re-building of vignette outputs ... SKIPPED
* checking PDF version of manual ... OK
* DONE

Status: 1 ERROR, 2 NOTEs
See
  ‘/Users/biocbuild/bbs-3.17-bioc/meat/biomaRt.Rcheck/00check.log’
for details.


Installation output

biomaRt.Rcheck/00install.out

##############################################################################
##############################################################################
###
### Running command:
###
###   /Library/Frameworks/R.framework/Resources/bin/R CMD INSTALL biomaRt
###
##############################################################################
##############################################################################


* installing to library ‘/Library/Frameworks/R.framework/Versions/4.3/Resources/library’
* installing *source* package ‘biomaRt’ ...
** using staged installation
** R
** inst
** byte-compile and prepare package for lazy loading
** help
*** installing help indices
** building package indices
** installing vignettes
** testing if installed package can be loaded from temporary location
** testing if installed package can be loaded from final location
** testing if installed package keeps a record of temporary installation path
* DONE (biomaRt)

Tests output

biomaRt.Rcheck/tests/testthat.Rout.fail


R Under development (unstable) (2023-03-16 r83985) -- "Unsuffered Consequences"
Copyright (C) 2023 The R Foundation for Statistical Computing
Platform: x86_64-apple-darwin17.0 (64-bit)

R is free software and comes with ABSOLUTELY NO WARRANTY.
You are welcome to redistribute it under certain conditions.
Type 'license()' or 'licence()' for distribution details.

R is a collaborative project with many contributors.
Type 'contributors()' for more information and
'citation()' on how to cite R or R packages in publications.

Type 'demo()' for some demos, 'help()' for on-line help, or
'help.start()' for an HTML browser interface to help.
Type 'q()' to quit R.

> library(testthat)
> library(mockery)
> library(biomaRt)
> 
> test_check("biomaRt", encoding = "UTF-8")
[ FAIL 1 | WARN 0 | SKIP 0 | PASS 147 ]

══ Failed tests ════════════════════════════════════════════════════════════════
── Error ('test_utilityFunctions.R:112:3'): TSV and HTML result tables match ───
Error in `eval(code, test_env)`: object 'query' not found
Backtrace:
     ▆
  1. ├─testthat::expect_silent(...) at test_utilityFunctions.R:112:2
  2. │ └─testthat:::quasi_capture(enquo(object), NULL, evaluate_promise)
  3. │   ├─testthat (local) .capture(...)
  4. │   │ ├─withr::with_output_sink(...)
  5. │   │ │ └─base::force(code)
  6. │   │ ├─base::withCallingHandlers(...)
  7. │   │ └─base::withVisible(code)
  8. │   └─rlang::eval_bare(quo_get_expr(.quo), quo_get_env(.quo))
  9. └─biomaRt:::.fetchHTMLresults(host, query, httr_config = httr_config)
 10.   └─base::gsub(...)
 11.     └─base::is.factor(x)

[ FAIL 1 | WARN 0 | SKIP 0 | PASS 147 ]
Error: Test failures
Execution halted

Example timings

biomaRt.Rcheck/biomaRt-Ex.timings

nameusersystemelapsed
NP2009code000
attributePages0.0000.0000.001
exportFASTA0.0010.0000.001
filterType000
getBM0.0000.0000.001
getGene0.0010.0000.001
getLDS0.0000.0000.001
getSequence0.0010.0000.002
listAttributes0.0010.0010.002
listDatasets0.0010.0000.001
listEnsembl0.0000.0000.001
listEnsemblArchives2.2320.2233.541
listFilterValues0.0010.0000.001
listFilters0.0010.0010.001
listMarts0.0000.0000.001
select0.0020.0000.002
useDataset0.0000.0010.001
useEnsembl0.0000.0000.001
useMart000