![]() | Name | Last modified | Size | Description |
---|---|---|---|---|
![]() | Parent Directory | - | ||
![]() | buildsrc-out.txt | 24-Sep-2023 00:40 | 812 | |
![]() | buildsrc-summary.dcf | 24-Sep-2023 00:40 | 420 | |
![]() | checksrc-out.txt | 24-Sep-2023 00:40 | 3.4K | |
![]() | checksrc-summary.dcf | 24-Sep-2023 00:40 | 414 | |
![]() | install-out.txt | 24-Sep-2023 00:40 | 949 | |
![]() | install-summary.dcf | 24-Sep-2023 00:40 | 259 | |