![]() | Name | Last modified | Size | Description |
---|---|---|---|---|
![]() | Parent Directory | - | ||
![]() | buildbin-out.txt | 30-Sep-2023 01:05 | 1.2K | |
![]() | buildbin-summary.dcf | 30-Sep-2023 01:05 | 548 | |
![]() | buildsrc-out.txt | 30-Sep-2023 01:05 | 828 | |
![]() | buildsrc-summary.dcf | 30-Sep-2023 01:05 | 436 | |
![]() | checksrc-out.txt | 30-Sep-2023 01:05 | 3.2K | |
![]() | checksrc-summary.dcf | 30-Sep-2023 01:05 | 456 | |
![]() | install-out.txt | 30-Sep-2023 01:05 | 1.0K | |
![]() | install-summary.dcf | 30-Sep-2023 01:05 | 275 | |