Index of /checkResults/devel/bioc-LATEST/UniProt.ws/raw-results
Name
Last modified
Size
Description
Parent Directory
-
nebbiolo1/
01-Dec-2023 01:36
-
palomino3/
01-Dec-2023 01:37
-
merida1/
01-Dec-2023 01:39
-
info.dcf
01-Dec-2023 01:40
1.1K
kunpeng2/
01-Dec-2023 01:40
-