Index of /checkResults/devel/bioc-LATEST/TrajectoryUtils/raw-results

[ICO]NameLast modifiedSizeDescription

[DIR]Parent Directory  -  
[   ]info.dcf18-Aug-2022 00:08 298  
[DIR]kjohnson/12-Jul-2022 00:06 -  
[DIR]lconway/18-Aug-2022 00:08 -  
[DIR]nebbiolo2/18-Aug-2022 00:06 -  
[DIR]palomino4/18-Aug-2022 00:07 -