Index of /checkResults/devel/bioc-LATEST/TrajectoryUtils/raw-results/palomino4

[ICO]NameLast modifiedSizeDescription

[DIR]Parent Directory  -  
[TXT]buildbin-out.txt16-Aug-2022 00:07 1.2K 
[   ]buildbin-summary.dcf16-Aug-2022 00:07 578  
[TXT]buildsrc-out.txt16-Aug-2022 00:07 878  
[   ]buildsrc-summary.dcf16-Aug-2022 00:07 482  
[TXT]checksrc-out.txt16-Aug-2022 00:07 3.0K 
[   ]checksrc-summary.dcf16-Aug-2022 00:07 480  
[TXT]install-out.txt16-Aug-2022 00:07 1.9K 
[   ]install-summary.dcf16-Aug-2022 00:07 694