Index of /checkResults/devel/bioc-LATEST/TrajectoryUtils/raw-results/kjohnson3

[ICO]NameLast modifiedSizeDescription

[DIR]Parent Directory  -  
[TXT]buildbin-out.txt17-Jul-2024 00:44 1.2K 
[   ]buildbin-summary.dcf17-Jul-2024 00:44 578  
[TXT]buildsrc-out.txt17-Jul-2024 00:44 848  
[   ]buildsrc-summary.dcf17-Jul-2024 00:44 451  
[TXT]checksrc-out.txt17-Jul-2024 00:44 3.1K 
[   ]checksrc-summary.dcf17-Jul-2024 00:44 475  
[TXT]install-out.txt17-Jul-2024 00:44 1.0K 
[   ]install-summary.dcf17-Jul-2024 00:44 284