Index of /checkResults/devel/bioc-LATEST/TrajectoryUtils/raw-results/nebbiolo2

[ICO]NameLast modifiedSizeDescription

[DIR]Parent Directory  -  
[TXT]buildsrc-out.txt16-Aug-2022 00:05 837  
[   ]buildsrc-summary.dcf16-Aug-2022 00:05 439  
[TXT]checksrc-out.txt16-Aug-2022 00:05 3.0K 
[   ]checksrc-summary.dcf16-Aug-2022 00:05 454  
[TXT]install-out.txt16-Aug-2022 00:05 963  
[   ]install-summary.dcf16-Aug-2022 00:05 274