Index of /checkResults/devel/bioc-LATEST/TrajectoryUtils/raw-results/lconway

[ICO]NameLast modifiedSizeDescription

[DIR]Parent Directory  -  
[TXT]buildbin-out.txt16-Aug-2022 00:08 1.2K 
[   ]buildbin-summary.dcf16-Aug-2022 00:08 573  
[TXT]buildsrc-out.txt16-Aug-2022 00:08 847  
[   ]buildsrc-summary.dcf16-Aug-2022 00:08 447  
[TXT]checksrc-out.txt16-Aug-2022 00:08 3.0K 
[   ]checksrc-summary.dcf16-Aug-2022 00:08 474  
[TXT]install-out.txt16-Aug-2022 00:08 1.0K 
[   ]install-summary.dcf16-Aug-2022 00:08 284