Back to Multiple platform build/check report for BioC 3.19: simplified long |
|
This page was generated on 2024-04-29 11:41:29 -0400 (Mon, 29 Apr 2024).
Hostname | OS | Arch (*) | R version | Installed pkgs |
---|---|---|---|---|
nebbiolo1 | Linux (Ubuntu 22.04.3 LTS) | x86_64 | 4.4.0 beta (2024-04-15 r86425) -- "Puppy Cup" | 4752 |
palomino3 | Windows Server 2022 Datacenter | x64 | 4.4.0 beta (2024-04-15 r86425 ucrt) -- "Puppy Cup" | 4486 |
lconway | macOS 12.7.1 Monterey | x86_64 | 4.4.0 beta (2024-04-14 r86421) -- "Puppy Cup" | 4518 |
kunpeng2 | Linux (openEuler 22.03 LTS-SP1) | aarch64 | 4.4.0 beta (2024-04-15 r86425) -- "Puppy Cup" | 4475 |
Click on any hostname to see more info about the system (e.g. compilers) (*) as reported by 'uname -p', except on Windows and Mac OS X |
Package 2135/2300 | Hostname | OS / Arch | INSTALL | BUILD | CHECK | BUILD BIN | ||||||||
TargetSearch 2.5.3 (landing page) Alvaro Cuadros-Inostroza
| nebbiolo1 | Linux (Ubuntu 22.04.3 LTS) / x86_64 | OK | OK | OK | |||||||||
palomino3 | Windows Server 2022 Datacenter / x64 | OK | OK | OK | OK | |||||||||
lconway | macOS 12.7.1 Monterey / x86_64 | OK | OK | OK | OK | |||||||||
kunpeng2 | Linux (openEuler 22.03 LTS-SP1) / aarch64 | OK | OK | OK | ||||||||||
kjohnson3 | macOS 13.6.5 Ventura / arm64 | see weekly results here | ||||||||||||
To the developers/maintainers of the TargetSearch package: - Allow up to 24 hours (and sometimes 48 hours) for your latest push to git@git.bioconductor.org:packages/TargetSearch.git to reflect on this report. See Troubleshooting Build Report for more information. - Use the following Renviron settings to reproduce errors and warnings. - If 'R CMD check' started to fail recently on the Linux builder(s) over a missing dependency, add the missing dependency to 'Suggests:' in your DESCRIPTION file. See Renviron.bioc for more information. - See Martin Grigorov's blog post for how to debug Linux ARM64 related issues on a x86_64 host. |
Package: TargetSearch |
Version: 2.5.3 |
Command: /home/biocbuild/R/R-beta-2024-04-15_r86425/bin/R CMD check --install=check:TargetSearch.install-out.txt --library=/home/biocbuild/R/R-beta-2024-04-15_r86425/site-library --no-vignettes --timings TargetSearch_2.5.3.tar.gz |
StartedAt: 2024-04-29 11:15:14 -0000 (Mon, 29 Apr 2024) |
EndedAt: 2024-04-29 11:17:39 -0000 (Mon, 29 Apr 2024) |
EllapsedTime: 144.2 seconds |
RetCode: 0 |
Status: OK |
CheckDir: TargetSearch.Rcheck |
Warnings: 0 |
############################################################################## ############################################################################## ### ### Running command: ### ### /home/biocbuild/R/R-beta-2024-04-15_r86425/bin/R CMD check --install=check:TargetSearch.install-out.txt --library=/home/biocbuild/R/R-beta-2024-04-15_r86425/site-library --no-vignettes --timings TargetSearch_2.5.3.tar.gz ### ############################################################################## ############################################################################## * using log directory ‘/home/biocbuild/bbs-3.19-bioc/meat/TargetSearch.Rcheck’ * using R version 4.4.0 beta (2024-04-15 r86425) * using platform: aarch64-unknown-linux-gnu * R was compiled by gcc (GCC) 10.3.1 GNU Fortran (GCC) 10.3.1 * running under: openEuler 22.03 (LTS-SP1) * using session charset: UTF-8 * using option ‘--no-vignettes’ * checking for file ‘TargetSearch/DESCRIPTION’ ... OK * checking extension type ... Package * this is package ‘TargetSearch’ version ‘2.5.3’ * checking package namespace information ... OK * checking package dependencies ... OK * checking if this is a source package ... OK * checking if there is a namespace ... OK * checking for hidden files and directories ... OK * checking for portable file names ... OK * checking for sufficient/correct file permissions ... OK * checking whether package ‘TargetSearch’ can be installed ... OK * used C compiler: ‘gcc (GCC) 10.3.1’ * checking installed package size ... OK * checking package directory ... OK * checking ‘build’ directory ... OK * checking DESCRIPTION meta-information ... OK * checking top-level files ... OK * checking for left-over files ... OK * checking index information ... OK * checking package subdirectories ... OK * checking code files for non-ASCII characters ... OK * checking R files for syntax errors ... OK * checking whether the package can be loaded ... OK * checking whether the package can be loaded with stated dependencies ... OK * checking whether the package can be unloaded cleanly ... OK * checking whether the namespace can be loaded with stated dependencies ... OK * checking whether the namespace can be unloaded cleanly ... OK * checking loading without being on the library search path ... OK * checking dependencies in R code ... OK * checking S3 generic/method consistency ... OK * checking replacement functions ... OK * checking foreign function calls ... OK * checking R code for possible problems ... OK * checking Rd files ... OK * checking Rd metadata ... OK * checking Rd cross-references ... OK * checking for missing documentation entries ... OK * checking for code/documentation mismatches ... OK * checking Rd \usage sections ... OK * checking Rd contents ... OK * checking for unstated dependencies in examples ... OK * checking contents of ‘data’ directory ... OK * checking data for non-ASCII characters ... OK * checking data for ASCII and uncompressed saves ... OK * checking line endings in C/C++/Fortran sources/headers ... OK * checking compiled code ... NOTE Note: information on .o files is not available * checking installed files from ‘inst/doc’ ... OK * checking files in ‘vignettes’ ... OK * checking examples ... OK Examples with CPU (user + system) or elapsed time > 5s user system elapsed RIcorrect 10.985 0.451 11.674 * checking for unstated dependencies in ‘tests’ ... OK * checking tests ... Running ‘tinytest.R’ OK * checking for unstated dependencies in vignettes ... OK * checking package vignettes ... OK * checking running R code from vignettes ... SKIPPED * checking re-building of vignette outputs ... SKIPPED * checking PDF version of manual ... OK * DONE Status: 1 NOTE See ‘/home/biocbuild/bbs-3.19-bioc/meat/TargetSearch.Rcheck/00check.log’ for details.
TargetSearch.Rcheck/00install.out
############################################################################## ############################################################################## ### ### Running command: ### ### /home/biocbuild/R/R-beta-2024-04-15_r86425/bin/R CMD INSTALL TargetSearch ### ############################################################################## ############################################################################## * installing to library ‘/home/biocbuild/R/R-beta-2024-04-15_r86425/site-library’ * installing *source* package ‘TargetSearch’ ... ** using staged installation ** libs using C compiler: ‘gcc (GCC) 10.3.1’ gcc -I"/home/biocbuild/R/R-beta-2024-04-15_r86425/include" -DNDEBUG -I/usr/local/include -fPIC -g -O2 -Wall -c Rinit.c -o Rinit.o gcc -I"/home/biocbuild/R/R-beta-2024-04-15_r86425/include" -DNDEBUG -I/usr/local/include -fPIC -g -O2 -Wall -c baseline.c -o baseline.o gcc -I"/home/biocbuild/R/R-beta-2024-04-15_r86425/include" -DNDEBUG -I/usr/local/include -fPIC -g -O2 -Wall -c detection.c -o detection.o gcc -I"/home/biocbuild/R/R-beta-2024-04-15_r86425/include" -DNDEBUG -I/usr/local/include -fPIC -g -O2 -Wall -c file.c -o file.o gcc -I"/home/biocbuild/R/R-beta-2024-04-15_r86425/include" -DNDEBUG -I/usr/local/include -fPIC -g -O2 -Wall -c find.c -o find.o gcc -I"/home/biocbuild/R/R-beta-2024-04-15_r86425/include" -DNDEBUG -I/usr/local/include -fPIC -g -O2 -Wall -c get_line.c -o get_line.o gcc -I"/home/biocbuild/R/R-beta-2024-04-15_r86425/include" -DNDEBUG -I/usr/local/include -fPIC -g -O2 -Wall -c hpf.c -o hpf.o gcc -I"/home/biocbuild/R/R-beta-2024-04-15_r86425/include" -DNDEBUG -I/usr/local/include -fPIC -g -O2 -Wall -c matrix.c -o matrix.o gcc -I"/home/biocbuild/R/R-beta-2024-04-15_r86425/include" -DNDEBUG -I/usr/local/include -fPIC -g -O2 -Wall -c ncdf.c -o ncdf.o gcc -I"/home/biocbuild/R/R-beta-2024-04-15_r86425/include" -DNDEBUG -I/usr/local/include -fPIC -g -O2 -Wall -c peak.c -o peak.o gcc -I"/home/biocbuild/R/R-beta-2024-04-15_r86425/include" -DNDEBUG -I/usr/local/include -fPIC -g -O2 -Wall -c spectrum.c -o spectrum.o gcc -I"/home/biocbuild/R/R-beta-2024-04-15_r86425/include" -DNDEBUG -I/usr/local/include -fPIC -g -O2 -Wall -c strutils.c -o strutils.o gcc -I"/home/biocbuild/R/R-beta-2024-04-15_r86425/include" -DNDEBUG -I/usr/local/include -fPIC -g -O2 -Wall -c utils.c -o utils.o gcc -shared -L/home/biocbuild/R/R-beta-2024-04-15_r86425/lib -L/usr/local/lib -o TargetSearch.so Rinit.o baseline.o detection.o file.o find.o get_line.o hpf.o matrix.o ncdf.o peak.o spectrum.o strutils.o utils.o -L/home/biocbuild/R/R-beta-2024-04-15_r86425/lib -lR installing to /home/biocbuild/R/R-beta-2024-04-15_r86425/site-library/00LOCK-TargetSearch/00new/TargetSearch/libs ** R ** data ** inst ** byte-compile and prepare package for lazy loading ** help *** installing help indices ** building package indices ** installing vignettes ** testing if installed package can be loaded from temporary location ** checking absolute paths in shared objects and dynamic libraries ** testing if installed package can be loaded from final location ** testing if installed package keeps a record of temporary installation path * DONE (TargetSearch)
TargetSearch.Rcheck/tests/tinytest.Rout
R version 4.4.0 beta (2024-04-15 r86425) -- "Puppy Cup" Copyright (C) 2024 The R Foundation for Statistical Computing Platform: aarch64-unknown-linux-gnu R is free software and comes with ABSOLUTELY NO WARRANTY. You are welcome to redistribute it under certain conditions. Type 'license()' or 'licence()' for distribution details. R is a collaborative project with many contributors. Type 'contributors()' for more information and 'citation()' on how to cite R or R packages in publications. Type 'demo()' for some demos, 'help()' for on-line help, or 'help.start()' for an HTML browser interface to help. Type 'q()' to quit R. > if ( requireNamespace("tinytest", quietly=TRUE) && requireNamespace("TargetSearchData", quietly=TRUE)) { + tinytest::test_package("TargetSearch", color=FALSE, verbose=1) + } Loading required package: TargetSearchData test_FindAllPeaks.R........... 19 tests OK 1.0s test_file.R................... 4 tests OK 59ms test_import_fame.R............ 14 tests OK 23ms test_import_library.R......... 15 tests OK 0.1s test_ncdf4_plot_peak.R........ 7 tests OK 0.6s test_quantMatrix.R............ 8 tests OK 51ms test_ri_data_extract.R........ 6 tests OK 4.9s test_ri_plot_peak.R........... 22 tests OK 0.2s test_tsLib.R.................. 17 tests OK 55ms test_tsProfile.R.............. 12 tests OK 21ms test_tsRim.R.................. 6 tests OK 6ms test_tsSample.R............... 9 tests OK 13ms test_write_ri_file.R.......... 6 tests OK 13ms All ok, 145 results (7.0s) > > proc.time() user system elapsed 7.209 0.147 7.364
TargetSearch.Rcheck/TargetSearch-Ex.timings
name | user | system | elapsed | |
FAMEoutliers | 0.070 | 0.008 | 0.079 | |
FindAllPeaks | 0.661 | 0.013 | 0.697 | |
FindPeaks | 0.120 | 0.003 | 0.124 | |
ImportFameSettings | 0.012 | 0.000 | 0.013 | |
ImportLibrary | 0.026 | 0.000 | 0.026 | |
ImportSamples | 0.015 | 0.000 | 0.015 | |
NetCDFPeakFinding | 0.145 | 0.019 | 0.180 | |
Profile | 0.653 | 0.008 | 0.662 | |
ProfileCleanUp | 0.497 | 0.004 | 0.502 | |
RIcorrect | 10.985 | 0.451 | 11.674 | |
TSExample | 2.343 | 0.040 | 2.756 | |
Write.Results | 0.067 | 0.000 | 0.071 | |
baseline | 0.255 | 0.004 | 0.259 | |
baselineCorrection | 0.260 | 0.004 | 0.264 | |
baselineCorrectionQuant | 0.304 | 0.016 | 0.321 | |
checkRimLim | 0.670 | 0.052 | 0.724 | |
file | 0.054 | 0.005 | 0.061 | |
fixRI | 0.876 | 0.021 | 0.899 | |
medianRILib | 0.257 | 0.004 | 0.262 | |
ncdf4Convert-method | 0.096 | 0.000 | 0.096 | |
ncdf4_convert | 0.027 | 0.003 | 0.030 | |
ncdf4_convert_from_path | 1.699 | 0.108 | 1.811 | |
ncdf4_data_extract | 0.345 | 0.016 | 0.362 | |
ncdf4_plot_peak | 0.926 | 0.040 | 0.968 | |
ncdf4_update_ri | 0.231 | 0.004 | 0.235 | |
peakCDFextraction | 0.375 | 0.024 | 0.400 | |
peakFind | 0.134 | 0.008 | 0.142 | |
plotFAME | 0.009 | 0.000 | 0.009 | |
plotPeak | 0.148 | 0.004 | 0.152 | |
plotPeakRI | 0.478 | 0.012 | 0.491 | |
plotPeakSimple | 0.265 | 0.004 | 0.270 | |
plotRIdev | 0.307 | 0.020 | 0.328 | |
plotRefSpectra | 0.131 | 0.000 | 0.132 | |
plotSpectra | 0.139 | 0.000 | 0.140 | |
quantMatrix | 0.489 | 0.004 | 0.494 | |
ri2rt | 0.005 | 0.000 | 0.005 | |
riMatrix | 0.788 | 0.040 | 0.831 | |
ri_data_extract | 0.027 | 0.002 | 0.030 | |
ri_plot_peak | 0.683 | 0.011 | 0.694 | |
rt2ri | 0.004 | 0.000 | 0.004 | |
sampleRI | 0.258 | 0.008 | 0.266 | |
tsLib-class | 0.029 | 0.000 | 0.029 | |
tsMSdata-class | 0.011 | 0.000 | 0.011 | |
tsProfile-class | 0.009 | 0.000 | 0.009 | |
tsRim-class | 0.003 | 0.000 | 0.003 | |
tsSample-class | 0.028 | 0.000 | 0.027 | |
tsUpdate-method | 0 | 0 | 0 | |
updateRI | 1.200 | 0.024 | 1.228 | |
writeLibText | 0.024 | 0.000 | 0.024 | |
writeMSP | 0.02 | 0.00 | 0.02 | |