Back to Multiple platform build/check report for BioC 3.17:   simplified   long
ABCDEFGHIJKLMNOPQRS[T]UVWXYZ

This page was generated on 2023-03-21 11:05:41 -0400 (Tue, 21 Mar 2023).

HostnameOSArch (*)R versionInstalled pkgs
nebbiolo1Linux (Ubuntu 22.04.1 LTS)x86_64R Under development (unstable) (2023-03-16 r83996) -- "Unsuffered Consequences" 4305
palomino3Windows Server 2022 Datacenterx64R Under development (unstable) (2023-03-15 r83984 ucrt) -- "Unsuffered Consequences" 4287
merida1macOS 10.14.6 Mojavex86_64R Under development (unstable) (2023-03-16 r83985) -- "Unsuffered Consequences" 4286
Click on any hostname to see more info about the system (e.g. compilers)      (*) as reported by 'uname -p', except on Windows and Mac OS X

CHECK results for TFutils on nebbiolo1


To the developers/maintainers of the TFutils package:
- Please allow up to 24 hours (and sometimes 48 hours) for your latest push to git@git.bioconductor.org:packages/TFutils.git to
reflect on this report. See How and When does the builder pull? When will my changes propagate? for more information.
- Make sure to use the following settings in order to reproduce any error or warning you see on this page.

raw results

Package 2052/2189HostnameOS / ArchINSTALLBUILDCHECKBUILD BIN
TFutils 1.19.0  (landing page)
Vincent Carey
Snapshot Date: 2023-03-20 14:00:22 -0400 (Mon, 20 Mar 2023)
git_url: https://git.bioconductor.org/packages/TFutils
git_branch: master
git_last_commit: e1ba0dc
git_last_commit_date: 2022-11-01 11:17:33 -0400 (Tue, 01 Nov 2022)
nebbiolo1Linux (Ubuntu 22.04.1 LTS) / x86_64  OK    OK    OK  UNNEEDED, same version is already published
palomino3Windows Server 2022 Datacenter / x64  OK    OK    OK    OK  UNNEEDED, same version is already published
merida1macOS 10.14.6 Mojave / x86_64  OK    OK    OK    OK  UNNEEDED, same version is already published

Summary

Package: TFutils
Version: 1.19.0
Command: /home/biocbuild/bbs-3.17-bioc/R/bin/R CMD check --install=check:TFutils.install-out.txt --library=/home/biocbuild/bbs-3.17-bioc/R/site-library --timings TFutils_1.19.0.tar.gz
StartedAt: 2023-03-21 00:31:26 -0400 (Tue, 21 Mar 2023)
EndedAt: 2023-03-21 00:37:09 -0400 (Tue, 21 Mar 2023)
EllapsedTime: 343.0 seconds
RetCode: 0
Status:   OK  
CheckDir: TFutils.Rcheck
Warnings: 0

Command output

##############################################################################
##############################################################################
###
### Running command:
###
###   /home/biocbuild/bbs-3.17-bioc/R/bin/R CMD check --install=check:TFutils.install-out.txt --library=/home/biocbuild/bbs-3.17-bioc/R/site-library --timings TFutils_1.19.0.tar.gz
###
##############################################################################
##############################################################################


* using log directory ‘/home/biocbuild/bbs-3.17-bioc/meat/TFutils.Rcheck’
* using R Under development (unstable) (2023-03-16 r83996)
* using platform: x86_64-pc-linux-gnu (64-bit)
* R was compiled by
    gcc (Ubuntu 11.3.0-1ubuntu1~22.04) 11.3.0
    GNU Fortran (Ubuntu 11.3.0-1ubuntu1~22.04) 11.3.0
* running under: Ubuntu 22.04.2 LTS
* using session charset: UTF-8
* checking for file ‘TFutils/DESCRIPTION’ ... OK
* this is package ‘TFutils’ version ‘1.19.0’
* package encoding: UTF-8
* checking package namespace information ... OK
* checking package dependencies ... OK
* checking if this is a source package ... OK
* checking if there is a namespace ... OK
* checking for hidden files and directories ... OK
* checking for portable file names ... OK
* checking for sufficient/correct file permissions ... OK
* checking whether package ‘TFutils’ can be installed ... OK
* checking installed package size ... NOTE
  installed size is  5.4Mb
  sub-directories of 1Mb or more:
    data      3.5Mb
    lambert   1.4Mb
* checking package directory ... OK
* checking ‘build’ directory ... OK
* checking DESCRIPTION meta-information ... OK
* checking top-level files ... OK
* checking for left-over files ... OK
* checking index information ... OK
* checking package subdirectories ... OK
* checking R files for non-ASCII characters ... OK
* checking R files for syntax errors ... OK
* checking whether the package can be loaded ... OK
* checking whether the package can be loaded with stated dependencies ... OK
* checking whether the package can be unloaded cleanly ... OK
* checking whether the namespace can be loaded with stated dependencies ... OK
* checking whether the namespace can be unloaded cleanly ... OK
* checking loading without being on the library search path ... OK
* checking dependencies in R code ... OK
* checking S3 generic/method consistency ... OK
* checking replacement functions ... OK
* checking foreign function calls ... OK
* checking R code for possible problems ... NOTE
fimo_granges : proctext: warning in read.delim(con, h = FALSE,
  stringsAsFactors = FALSE, sep = "\t"): partial argument match of 'h'
  to 'header'
setupHIZE: warning in read.delim(txtfn, sep = "\t", skip = 3, h =
  FALSE, stringsAsFactors = FALSE): partial argument match of 'h' to
  'header'
directHitsInCISBP: no visible binding for global variable
  ‘DISEASE.TRAIT’
directHitsInCISBP: no visible binding for global variable ‘MAPPED_GENE’
directHitsInCISBP: no visible binding for global variable ‘cisbpTFcat’
directHitsInCISBP: no visible binding for global variable ‘HGNC’
directHitsInCISBP: no visible binding for global variable ‘Family_Name’
fimo_granges: no visible global function definition for ‘rowRanges<-’
fimo_granges: no visible global function definition for ‘reduceByRange’
fimo_granges : <anonymous>: no visible global function definition for
  ‘seqinfo<-’
tffamCirc.prep: no visible binding for global variable ‘TF family’
tffamCirc.prep: no visible binding for global variable ‘TFfamily’
tffamCirc.prep: no visible binding for global variable ‘Transcription
  factor’
topTraitsOfTargets: no visible global function definition for ‘mcols’
topTraitsOfTargets: no visible binding for global variable
  ‘DISEASE.TRAIT’
Undefined global functions or variables:
  DISEASE.TRAIT Family_Name HGNC MAPPED_GENE TF family TFfamily
  Transcription factor cisbpTFcat mcols reduceByRange rowRanges<-
  seqinfo<-
Consider adding
  importFrom("base", "factor")
  importFrom("stats", "family")
to your NAMESPACE file.
* checking Rd files ... OK
* checking Rd metadata ... OK
* checking Rd cross-references ... OK
* checking for missing documentation entries ... OK
* checking for code/documentation mismatches ... OK
* checking Rd \usage sections ... OK
* checking Rd contents ... OK
* checking for unstated dependencies in examples ... OK
* checking contents of ‘data’ directory ... OK
* checking data for non-ASCII characters ... NOTE
  Note: found 62 marked UTF-8 strings
* checking LazyData ... OK
* checking data for ASCII and uncompressed saves ... OK
* checking line endings in Makefiles ... OK
* checking for GNU extensions in Makefiles ... OK
* checking include directives in Makefiles ... OK
* checking files in ‘vignettes’ ... OK
* checking examples ... OK
Examples with CPU (user + system) or elapsed time > 5s
                     user system elapsed
tffamCirc.plot     15.894  0.324  16.208
topTraitsOfTargets 12.660  0.300  12.960
fimo16              8.151  0.336   8.486
tffamCirc.prep      6.943  0.076   7.019
genemodForGviz      5.984  0.316   6.311
* checking for unstated dependencies in ‘tests’ ... OK
* checking tests ...
  Running ‘testthat.R’
 OK
* checking for unstated dependencies in vignettes ... OK
* checking package vignettes in ‘inst/doc’ ... OK
* checking running R code from vignettes ...
  ‘TFutils.Rmd’ using ‘UTF-8’... OK
  ‘fimo16.Rmd’ using ‘UTF-8’... OK
 NONE
* checking re-building of vignette outputs ... OK
* checking PDF version of manual ... OK
* DONE

Status: 3 NOTEs
See
  ‘/home/biocbuild/bbs-3.17-bioc/meat/TFutils.Rcheck/00check.log’
for details.



Installation output

TFutils.Rcheck/00install.out

##############################################################################
##############################################################################
###
### Running command:
###
###   /home/biocbuild/bbs-3.17-bioc/R/bin/R CMD INSTALL TFutils
###
##############################################################################
##############################################################################


* installing to library ‘/home/biocbuild/bbs-3.17-bioc/R/site-library’
* installing *source* package ‘TFutils’ ...
** using staged installation
** R
** data
*** moving datasets to lazyload DB
** inst
** byte-compile and prepare package for lazy loading
** help
*** installing help indices
** building package indices
** installing vignettes
** testing if installed package can be loaded from temporary location
** testing if installed package can be loaded from final location
** testing if installed package keeps a record of temporary installation path
* DONE (TFutils)

Tests output

TFutils.Rcheck/tests/testthat.Rout


R Under development (unstable) (2023-03-16 r83996) -- "Unsuffered Consequences"
Copyright (C) 2023 The R Foundation for Statistical Computing
Platform: x86_64-pc-linux-gnu (64-bit)

R is free software and comes with ABSOLUTELY NO WARRANTY.
You are welcome to redistribute it under certain conditions.
Type 'license()' or 'licence()' for distribution details.

R is a collaborative project with many contributors.
Type 'contributors()' for more information and
'citation()' on how to cite R or R packages in publications.

Type 'demo()' for some demos, 'help()' for on-line help, or
'help.start()' for an HTML browser interface to help.
Type 'q()' to quit R.

> library(testthat)
> library(TFutils)

> 
> test_check("TFutils")
[ FAIL 0 | WARN 0 | SKIP 0 | PASS 5 ]
> 
> 
> proc.time()
   user  system elapsed 
 14.504   0.770  15.265 

Example timings

TFutils.Rcheck/TFutils-Ex.timings

nameusersystemelapsed
HGNCmap0.0000.0000.001
TFCatalog0.1580.0160.174
TFtargs000
URL_s3_tf0.0000.0000.001
anchor_pmids0.0040.0000.004
browse_gotf_main000
browse_humantfs_main000
browse_lambert_gwaslinks000
browse_lambert_main000
cisbpTFcat0.0280.0070.037
cisbpTFcat_2.00.0500.0000.051
defaultCircosParms0.0030.0030.007
demo_fimo_granges0.0070.0010.006
directHitsInCISBP0.1940.0110.205
encode6900.0580.0010.057
fimo168.1510.3368.486
fimoMap0.0020.0000.002
fimo_granges000
genemodForGviz5.9840.3166.311
genemodelDF0.0860.0020.089
get_rslocs_38000
grabTab0.2210.0410.261
gwascat_hg19_chr170.0480.0000.047
hocomoco.mono0.0050.0000.005
hocomoco.mono.sep20180.0010.0040.005
importFIMO0.0360.0040.041
importFIMO_local_split0.0100.0040.014
lambert_snps0.2100.0160.226
metadata_tf0.0010.0120.013
named_tf0.0080.0120.019
retrieve_gotf_main000
retrieve_humantfs_main000
retrieve_lambert_main000
seqinfo_hg19_chr170.0020.0020.004
tffamCirc.plot15.894 0.32416.208
tffamCirc.prep6.9430.0767.019
tfhash0.3700.7921.162
tftColl0.1240.0000.124
tftCollMap0.0010.0000.001
topTraitsOfTargets12.66 0.3012.96