Back to Multiple platform build/check report for BioC 3.19:   simplified   long
ABCDEFGHIJKLMNOPQR[S]TUVWXYZ

This page was generated on 2023-12-05 11:39:33 -0500 (Tue, 05 Dec 2023).

HostnameOSArch (*)R versionInstalled pkgs
nebbiolo1Linux (Ubuntu 22.04.2 LTS)x86_64R Under development (unstable) (2023-11-11 r85510) -- "Unsuffered Consequences" 4605
palomino3Windows Server 2022 Datacenterx64R Under development (unstable) (2023-11-14 r85524 ucrt) -- "Unsuffered Consequences" 4346
merida1macOS 12.7.1 Montereyx86_64R Under development (unstable) (2023-11-11 r85510) -- "Unsuffered Consequences" 4371
kunpeng2Linux (openEuler 22.03 LTS-SP1)aarch64R Under development (unstable) (2023-11-01 r85459) -- "Unsuffered Consequences" 4258
Click on any hostname to see more info about the system (e.g. compilers)      (*) as reported by 'uname -p', except on Windows and Mac OS X

Package 2020/2226HostnameOS / ArchINSTALLBUILDCHECKBUILD BIN
STATegRa 1.39.0  (landing page)
David Gomez-Cabrero , Núria Planell
Snapshot Date: 2023-12-04 14:00:14 -0500 (Mon, 04 Dec 2023)
git_url: https://git.bioconductor.org/packages/STATegRa
git_branch: devel
git_last_commit: 0f1f293
git_last_commit_date: 2023-10-24 10:39:39 -0500 (Tue, 24 Oct 2023)
nebbiolo1Linux (Ubuntu 22.04.2 LTS) / x86_64  OK    OK    OK  UNNEEDED, same version is already published
palomino3Windows Server 2022 Datacenter / x64  OK    OK    OK    OK  UNNEEDED, same version is already published
merida1macOS 12.7.1 Monterey / x86_64  OK    OK    OK    NA  
kunpeng2Linux (openEuler 22.03 LTS-SP1) / aarch64  OK    OK    OK  

CHECK results for STATegRa on kunpeng2


To the developers/maintainers of the STATegRa package:
- Allow up to 24 hours (and sometimes 48 hours) for your latest push to git@git.bioconductor.org:packages/STATegRa.git to reflect on this report. See Troubleshooting Build Report for more information.
- Use the following Renviron settings to reproduce errors and warnings.
- If 'R CMD check' started to fail recently on the Linux builder(s) over a missing dependency, add the missing dependency to 'Suggests:' in your DESCRIPTION file. See Renviron.bioc for more information.
- See Martin Grigorov's blog post for how to debug Linux ARM64 related issues on a x86_64 host.

raw results


Summary

Package: STATegRa
Version: 1.39.0
Command: /home/biocbuild/R/R-4.4-devel-2023.11.02/bin/R CMD check --install=check:STATegRa.install-out.txt --library=/home/biocbuild/R/R-4.4-devel-2023.11.02/site-library --no-vignettes --timings STATegRa_1.39.0.tar.gz
StartedAt: 2023-12-05 08:18:07 -0000 (Tue, 05 Dec 2023)
EndedAt: 2023-12-05 08:22:40 -0000 (Tue, 05 Dec 2023)
EllapsedTime: 272.5 seconds
RetCode: 0
Status:   OK  
CheckDir: STATegRa.Rcheck
Warnings: 0

Command output

##############################################################################
##############################################################################
###
### Running command:
###
###   /home/biocbuild/R/R-4.4-devel-2023.11.02/bin/R CMD check --install=check:STATegRa.install-out.txt --library=/home/biocbuild/R/R-4.4-devel-2023.11.02/site-library --no-vignettes --timings STATegRa_1.39.0.tar.gz
###
##############################################################################
##############################################################################


* using log directory ‘/home/biocbuild/bbs-3.19-bioc/meat/STATegRa.Rcheck’
* using R Under development (unstable) (2023-11-01 r85459)
* using platform: aarch64-unknown-linux-gnu
* R was compiled by
    gcc (GCC) 10.3.1
    GNU Fortran (GCC) 10.3.1
* running under: openEuler 22.03 (LTS-SP1)
* using session charset: UTF-8
* using option ‘--no-vignettes’
* checking for file ‘STATegRa/DESCRIPTION’ ... OK
* checking extension type ... Package
* this is package ‘STATegRa’ version ‘1.39.0’
* package encoding: UTF-8
* checking package namespace information ... OK
* checking package dependencies ... OK
* checking if this is a source package ... OK
* checking if there is a namespace ... OK
* checking for hidden files and directories ... OK
* checking for portable file names ... OK
* checking for sufficient/correct file permissions ... OK
* checking whether package ‘STATegRa’ can be installed ... OK
* checking installed package size ... OK
* checking package directory ... OK
* checking ‘build’ directory ... OK
* checking DESCRIPTION meta-information ... OK
* checking top-level files ... OK
* checking for left-over files ... OK
* checking index information ... OK
* checking package subdirectories ... OK
* checking R files for non-ASCII characters ... OK
* checking R files for syntax errors ... OK
* checking whether the package can be loaded ... OK
* checking whether the package can be loaded with stated dependencies ... OK
* checking whether the package can be unloaded cleanly ... OK
* checking whether the namespace can be loaded with stated dependencies ... OK
* checking whether the namespace can be unloaded cleanly ... OK
* checking loading without being on the library search path ... OK
* checking dependencies in R code ... OK
* checking S3 generic/method consistency ... OK
* checking replacement functions ... OK
* checking foreign function calls ... OK
* checking R code for possible problems ... NOTE
modelSelection,list-numeric-character: no visible binding for global
  variable ‘components’
modelSelection,list-numeric-character: no visible binding for global
  variable ‘mylabel’
plotVAF,caClass: no visible binding for global variable ‘comp’
plotVAF,caClass: no visible binding for global variable ‘VAF’
plotVAF,caClass: no visible binding for global variable ‘block’
selectCommonComps,list-numeric: no visible binding for global variable
  ‘comps’
selectCommonComps,list-numeric: no visible binding for global variable
  ‘block’
selectCommonComps,list-numeric: no visible binding for global variable
  ‘comp’
selectCommonComps,list-numeric: no visible binding for global variable
  ‘ratio’
Undefined global functions or variables:
  VAF block comp components comps mylabel ratio
* checking Rd files ... OK
* checking Rd metadata ... OK
* checking Rd cross-references ... OK
* checking for missing documentation entries ... OK
* checking for code/documentation mismatches ... OK
* checking Rd \usage sections ... OK
* checking Rd contents ... OK
* checking for unstated dependencies in examples ... OK
* checking contents of ‘data’ directory ... OK
* checking data for non-ASCII characters ... OK
* checking data for ASCII and uncompressed saves ... OK
* checking files in ‘vignettes’ ... OK
* checking examples ... OK
Examples with CPU (user + system) or elapsed time > 5s
         user system elapsed
plotRes 4.982  0.067   5.056
* checking for unstated dependencies in ‘tests’ ... OK
* checking tests ...
  Running ‘STATEgRa_Example.omicsCLUST.R’
  Running ‘STATEgRa_Example.omicsPCA.R’
  Running ‘STATegRa_Example.omicsNPC.R’
  Running ‘runTests.R’
 OK
* checking for unstated dependencies in vignettes ... OK
* checking package vignettes in ‘inst/doc’ ... OK
* checking running R code from vignettes ... SKIPPED
* checking re-building of vignette outputs ... SKIPPED
* checking PDF version of manual ... OK
* DONE

Status: 1 NOTE
See
  ‘/home/biocbuild/bbs-3.19-bioc/meat/STATegRa.Rcheck/00check.log’
for details.



Installation output

STATegRa.Rcheck/00install.out

##############################################################################
##############################################################################
###
### Running command:
###
###   /home/biocbuild/R/R-4.4-devel-2023.11.02/bin/R CMD INSTALL STATegRa
###
##############################################################################
##############################################################################


* installing to library ‘/home/biocbuild/R/R-4.4-devel-2023.11.02/site-library’
* installing *source* package ‘STATegRa’ ...
** using staged installation
** R
** data
** inst
** byte-compile and prepare package for lazy loading
** help
*** installing help indices
** building package indices
** installing vignettes
** testing if installed package can be loaded from temporary location
** testing if installed package can be loaded from final location
** testing if installed package keeps a record of temporary installation path
* DONE (STATegRa)

Tests output

STATegRa.Rcheck/tests/runTests.Rout


R Under development (unstable) (2023-11-01 r85459) -- "Unsuffered Consequences"
Copyright (C) 2023 The R Foundation for Statistical Computing
Platform: aarch64-unknown-linux-gnu

R is free software and comes with ABSOLUTELY NO WARRANTY.
You are welcome to redistribute it under certain conditions.
Type 'license()' or 'licence()' for distribution details.

R is a collaborative project with many contributors.
Type 'contributors()' for more information and
'citation()' on how to cite R or R packages in publications.

Type 'demo()' for some demos, 'help()' for on-line help, or
'help.start()' for an HTML browser interface to help.
Type 'q()' to quit R.

> BiocGenerics:::testPackage("STATegRa")
Common components
[1] 2

Distinctive components
[[1]]
[1] 0

[[2]]
[1] 0

Common components
[1] 2

Distinctive components
[[1]]
[1] 1

[[2]]
[1] 1

Common components
[1] 2

Distinctive components
[[1]]
[1] 2

[[2]]
[1] 2



RUNIT TEST PROTOCOL -- Tue Dec  5 08:22:36 2023 
*********************************************** 
Number of test functions: 4 
Number of errors: 0 
Number of failures: 0 

 
1 Test Suite : 
STATegRa RUnit Tests - 4 test functions, 0 errors, 0 failures
Number of test functions: 4 
Number of errors: 0 
Number of failures: 0 
Warning messages:
1: In rownames(pData) == colnames(exprs) :
  longer object length is not a multiple of shorter object length
2: In modelSelection(Input = list(B1, B2), Rmax = 4, fac.sel = "%accum",  :
  Rmax cannot be higher than the minimum of components selected for each block. Rmax fixed to: 2
3: In modelSelection(Input = list(B1, B2), Rmax = 4, fac.sel = "fixed.num",  :
  Rmax cannot be higher than the minimum of components selected for each block. Rmax fixed to: 3
> 
> proc.time()
   user  system elapsed 
  3.494   0.149   3.637 

STATegRa.Rcheck/tests/STATEgRa_Example.omicsCLUST.Rout


R Under development (unstable) (2023-11-01 r85459) -- "Unsuffered Consequences"
Copyright (C) 2023 The R Foundation for Statistical Computing
Platform: aarch64-unknown-linux-gnu

R is free software and comes with ABSOLUTELY NO WARRANTY.
You are welcome to redistribute it under certain conditions.
Type 'license()' or 'licence()' for distribution details.

R is a collaborative project with many contributors.
Type 'contributors()' for more information and
'citation()' on how to cite R or R packages in publications.

Type 'demo()' for some demos, 'help()' for on-line help, or
'help.start()' for an HTML browser interface to help.
Type 'q()' to quit R.

> ###########################################
> ########### EXAMPLE OF THE OMICSCLUSTERING
> ###########################################
> require(STATegRa)
Loading required package: STATegRa
> 
> #############################################
> ## PART 1: CREATING a bioMap CLASS
> #############################################
> ####### This part creates or reads the map between features.
> ####### In the present example the map is downloaded from a resource.
> #######   then the class is created.
> 
> #load("../data/STATegRa_S2.rda")
> data(STATegRa_S2)
> 
> MAP.SYMBOL<-bioMap(name = "Symbol-miRNA",
+                 metadata =  list(type_v1="Gene",type_v2="miRNA",
+                                  source_database="targetscan.Hs.eg.db",
+                                  data_extraction="July2014"),
+                 map=mapdata)
> 
> 
> #############################################
> ## PART 2: CREATING a bioDist CLASS
> #############################################
> ##### In the second part given a set of main features and surrogate feautres,
> #####    the profile of the main features is computed through the surrogate features.
> 
> # Load Data
> data(STATegRa_S1)
>   #load("../data/STATegRa.S1.Rdata")
> 
> ## Create ExpressionSets
> #  source("../R/STATegRa_omicsPCA_classes_and_methods.R")
> # Block1 - Expression data
> mRNA.ds <- createOmicsExpressionSet(Data=Block1,pData=ed,pDataDescr=c("classname"))
> # Block2 - miRNA expression data
> miRNA.ds <- createOmicsExpressionSet(Data=Block2,pData=ed,pDataDescr=c("classname"))
> 
> # Create Gene-gene distance computed through miRNA data
> bioDistmiRNA<-bioDist(referenceFeatures = rownames(Block1),     
+              reference = "Var1",
+              mapping = MAP.SYMBOL,
+              surrogateData = miRNA.ds,  ### miRNA data
+              referenceData = mRNA.ds,  ### mRNA data
+              maxitems=2,
+              selectionRule="sd",
+              expfac=NULL,
+              aggregation = "sum",
+              distance = "spearman",
+              noMappingDist = 0,
+              filtering = NULL,
+              name = "mRNAbymiRNA")
> 
> require(Biobase)
Loading required package: Biobase
Loading required package: BiocGenerics

Attaching package: 'BiocGenerics'

The following objects are masked from 'package:stats':

    IQR, mad, sd, var, xtabs

The following objects are masked from 'package:base':

    Filter, Find, Map, Position, Reduce, anyDuplicated, aperm, append,
    as.data.frame, basename, cbind, colnames, dirname, do.call,
    duplicated, eval, evalq, get, grep, grepl, intersect, is.unsorted,
    lapply, mapply, match, mget, order, paste, pmax, pmax.int, pmin,
    pmin.int, rank, rbind, rownames, sapply, setdiff, table, tapply,
    union, unique, unsplit, which.max, which.min

Welcome to Bioconductor

    Vignettes contain introductory material; view with
    'browseVignettes()'. To cite Bioconductor, see
    'citation("Biobase")', and for packages 'citation("pkgname")'.

> 
> # Create Gene-gene distance through mRNA data
> bioDistmRNA<-bioDistclass(name = "mRNAbymRNA",
+                  distance = cor(t(exprs(mRNA.ds)),method="spearman"),
+                  map.name = "id",
+                  map.metadata = list(),
+                  params = list())
> 
> #############################################
> ## PART 3: CREATING a LISTOF WEIGTHED DISTANCES MATRICES: bioDistWList
> #############################################
> 
> bioDistList<-list(bioDistmRNA,bioDistmiRNA)
> weights<-matrix(0,4,2)
> weights[,1]<-c(0,0.33,0.67,1)
> weights[,2]<-c(1,0.67,0.33,0)#
> 
> bioDistWList<-bioDistW(referenceFeatures = rownames(Block1),
+                        bioDistList = bioDistList,
+                        weights=weights)
> length(bioDistWList)
[1] 4
> 
> #############################################
> ## PART 4: DEFINING THE STRENGTH OF ASSOCIATIONS IN GENERAL
> #############################################
> 
> bioDistWPlot(referenceFeatures = rownames(Block1) ,
+                listDistW = bioDistWList,
+                method.cor="spearman")
Warning messages:
1: In cor.test.default(getDist(listDistW[[i]])[referenceFeatures, referenceFeatures],  :
  Cannot compute exact p-value with ties
2: In cor.test.default(getDist(listDistW[[i]])[referenceFeatures, referenceFeatures],  :
  Cannot compute exact p-value with ties
3: In cor.test.default(getDist(listDistW[[i]])[referenceFeatures, referenceFeatures],  :
  Cannot compute exact p-value with ties
> 
> #############################################
> ## PART 5: DEFINING THE ASSOCIATIONS FOR A GIVEN GENE
> #############################################
> 
> ## IDH1
> 
> IDH1.F<-bioDistFeature(Feature = "IDH1" ,
+                        listDistW = bioDistWList,
+                        threshold.cor=0.7)
> bioDistFeaturePlot(data=IDH1.F)
> 
> ## PDGFRA
> 
> #PDGFRA.F<-bioDistFeature(Feature = "PDGFRA" ,
> #                       listDistW = bioDistWList,
> #                       threshold.cor=0.7)
> #bioDistFeaturePlot(data=PDGFRA.F,name="../vignettes/PDGFRA.png")
> 
> ## EGFR
> #EGFR.F<-bioDistFeature(Feature = "EGFR" ,
> #                         listDistW = bioDistWList,
> #                         threshold.cor=0.7)
> #bioDistFeaturePlot(data=EGFR.F,name="../vignettes/EGFR.png")
> 
> ## MGMT
> #MGMT.F<-bioDistFeature(Feature = "MGMT" ,
> #                         listDistW = bioDistWList,
> #                         threshold.cor=0.5)
> #bioDistFeaturePlot(data=MGMT.F,name="../vignettes/MGMT.png")
> 
> 
> 
> 
> 
> proc.time()
   user  system elapsed 
 64.917   0.249  65.245 

STATegRa.Rcheck/tests/STATegRa_Example.omicsNPC.Rout


R Under development (unstable) (2023-11-01 r85459) -- "Unsuffered Consequences"
Copyright (C) 2023 The R Foundation for Statistical Computing
Platform: aarch64-unknown-linux-gnu

R is free software and comes with ABSOLUTELY NO WARRANTY.
You are welcome to redistribute it under certain conditions.
Type 'license()' or 'licence()' for distribution details.

R is a collaborative project with many contributors.
Type 'contributors()' for more information and
'citation()' on how to cite R or R packages in publications.

Type 'demo()' for some demos, 'help()' for on-line help, or
'help.start()' for an HTML browser interface to help.
Type 'q()' to quit R.

> rm(list = ls())
> require("STATegRa")
Loading required package: STATegRa
> # Load the data
> data("TCGA_BRCA_Batch_93")
> # Setting dataTypes
> dataTypes <- c("count", "count", "continuous")
> # Setting methods to combine pvalues
> combMethods = c("Fisher", "Liptak", "Tippett")
> # Setting number of permutations
> numPerms = 1000
> # Setting number of cores
> numCores = 1
> # Setting holistOmics to print out the steps that it performs.
> verbose = TRUE
> # Run holistOmics analysis.
> output <- omicsNPC(dataInput = TCGA_BRCA_Data, dataTypes = dataTypes, combMethods = combMethods, numPerms = numPerms, numCores = numCores, verbose = verbose)
Compute initial statistics on data
Building NULL distributions by permuting data
Compute pseudo p-values based on NULL distributions...
NPC p-values calculation...
> 
> proc.time()
   user  system elapsed 
 95.257   0.511  96.948 

STATegRa.Rcheck/tests/STATEgRa_Example.omicsPCA.Rout


R Under development (unstable) (2023-11-01 r85459) -- "Unsuffered Consequences"
Copyright (C) 2023 The R Foundation for Statistical Computing
Platform: aarch64-unknown-linux-gnu

R is free software and comes with ABSOLUTELY NO WARRANTY.
You are welcome to redistribute it under certain conditions.
Type 'license()' or 'licence()' for distribution details.

R is a collaborative project with many contributors.
Type 'contributors()' for more information and
'citation()' on how to cite R or R packages in publications.

Type 'demo()' for some demos, 'help()' for on-line help, or
'help.start()' for an HTML browser interface to help.
Type 'q()' to quit R.

> ###########################################
> ########### EXAMPLE OF THE OMICSPCA
> ###########################################
> require(STATegRa)
Loading required package: STATegRa
> 
> # g_legend (not exported by STATegRa any more)
> ## code from https://github.com/hadley/ggplot2/wiki/Share-a-legend-between-two-ggplot2-graphs
> g_legend<-function(a.gplot){
+     tmp <- ggplot_gtable(ggplot_build(a.gplot))
+     leg <- which(sapply(tmp$grobs, function(x) x$name) == "guide-box")
+     legend <- tmp$grobs[[leg]]
+     return(legend)}
> 
> #########################
> ## PART 1. Load data
> 
> ## Load data
> data(STATegRa_S3)
> 
> ls()
[1] "Block1.PCA" "Block2.PCA" "ed.PCA"     "g_legend"  
> 
> ## Create ExpressionSets
> # Block1 - Expression data
> B1 <- createOmicsExpressionSet(Data=Block1.PCA,pData=ed.PCA,pDataDescr=c("classname"))
> # Block2 - miRNA expression data
> B2 <- createOmicsExpressionSet(Data=Block2.PCA,pData=ed.PCA,pDataDescr=c("classname"))
> 
> #########################
> ## PART 2.  Model Selection
> 
> require(grid)
Loading required package: grid
> require(gridExtra)
Loading required package: gridExtra
> require(ggplot2)
Loading required package: ggplot2
> 
> ## Select the optimal components
> ms <- modelSelection(Input=list(B1,B2),Rmax=4,fac.sel="single%",varthreshold=0.03,center=TRUE,scale=TRUE,weight=TRUE)
Common components
[1] 2

Distinctive components
[[1]]
[1] 2

[[2]]
[1] 2

> 
> 
> #########################
> ## PART 3. Component Analysis
> 
> ## 3.1 Component analysis of the three methods
> discoRes <- omicsCompAnalysis(Input=list(B1,B2),Names=c("expr","mirna"),method="DISCOSCA",Rcommon=2,Rspecific=c(2,2),center=TRUE,
+                               scale=TRUE,weight=TRUE)
> jiveRes <- omicsCompAnalysis(Input=list(B1,B2),Names=c("expr","mirna"),method="JIVE",Rcommon=2,Rspecific=c(2,2),center=TRUE,
+                              scale=TRUE,weight=TRUE)
> o2plsRes <- omicsCompAnalysis(Input=list(B1,B2),Names=c("expr","mirna"),method="O2PLS",Rcommon=2,Rspecific=c(2,2),center=TRUE,
+                               scale=TRUE,weight=TRUE)
> 
> ## 3.2 Exploring scores structures
> 
> # Exploring DISCO-SCA scores structure
> discoRes@scores$common ## Common scores
                      1             2
sample1   -0.0781575627  0.0431549680
sample2    0.1192221421 -0.0294020352
sample3    0.0531408640  0.0746837536
sample4   -0.0292971729  0.0006035613
sample5   -0.0202090734 -0.0110455102
sample6   -0.1226088450 -0.1053493788
sample7   -0.1078931391  0.0322417816
sample8   -0.1782891088 -0.1449329666
sample9   -0.0468697269  0.0455171706
sample10   0.0036032722 -0.0420077041
sample11   0.0035566370  0.0566284992
sample12  -0.1006129686 -0.0641394237
sample13   0.1174412863 -0.0907475119
sample14  -0.0981203571 -0.0617764176
sample15  -0.0085337300  0.0086954880
sample16  -0.0783146801 -0.1581334388
sample17   0.1483610673 -0.0638580092
sample18   0.0963084355 -0.0556689103
sample19   0.0217243066  0.0720129571
sample20   0.0635633899  0.0779609242
sample21   0.0201844038 -0.1566381809
sample22  -0.0218273919  0.0764054633
sample23  -0.0852038991  0.0032766857
sample24   0.1287181667 -0.1924423333
sample25   0.0430575671  0.0456640338
sample26   0.1453899834 -0.0541457479
sample27   0.0197483536  0.1185591278
sample28   0.1025339471 -0.0650654585
sample29  -0.0706022508  0.0682931689
sample30   0.1295622897  0.0066675329
sample31  -0.1147449327 -0.1232728273
sample32   0.0374308162 -0.0380251372
sample33  -0.0599520851 -0.0136937881
sample34   0.0984199279 -0.0375365684
sample35   0.0543096378  0.0378033413
sample36  -0.1403628111  0.0343635975
sample37  -0.0228947795  0.0732685604
sample38   0.0222072971  0.0962566595
sample39   0.0941739234 -0.0215180058
sample40  -0.0643807195  0.0687716001
sample41   0.0327634939  0.1232187177
sample42   0.0500431633  0.0292514745
sample43   0.0184497152 -0.0233045257
sample44  -0.1487889201 -0.1171206558
sample45   0.1050778865 -0.1123138847
sample46   0.1151191537  0.1093994931
sample47   0.0962591491  0.0288416907
sample48  -0.0004832525  0.0310381997
sample49  -0.1135203827 -0.1213935764
sample50   0.0123549900  0.1740763534
sample51  -0.0550527415 -0.1258931887
sample52  -0.0499118455 -0.0728581862
sample53  -0.1119772666 -0.1588065554
sample54   0.0360055712 -0.0228585932
sample55  -0.0210418827 -0.0006751202
sample56   0.0434171525 -0.0633131405
sample57  -0.0197820643 -0.1150754953
sample58  -0.0030440725 -0.0326128335
sample59  -0.0500256816 -0.0129524289
sample60  -0.0184280126 -0.0136221404
sample61  -0.0150298925 -0.0635098726
sample62   0.0304758661  0.0201233981
sample63  -0.1102250081 -0.1285968062
sample64  -0.1552586810 -0.0971185593
sample65   0.0058503836 -0.0207102381
sample66   0.0025607503 -0.0424283728
sample67  -0.1546638756  0.0661574638
sample68  -0.0536374341  0.0923602020
sample69  -0.0640333039 -0.0082004386
sample70  -0.0163521792  0.0663227147
sample71   0.0102536106  0.1345966031
sample72   0.0654191673  0.0196034027
sample73   0.1048553193 -0.0221001611
sample74  -0.0123800527 -0.0586157960
sample75  -0.0392079765  0.0209725454
sample76  -0.0648954604  0.0524759252
sample77  -0.1172922668  0.0201200578
sample78   0.1463072693 -0.0708397713
sample79  -0.0265208777  0.1603428432
sample80  -0.0279739245  0.0214152108
sample81  -0.0079212152  0.0738496625
sample82   0.1544234562  0.0361450099
sample83   0.0494205303  0.0049936039
sample84   0.0259039758  0.0346592625
sample85  -0.1116487516  0.0031401701
sample86   0.1306478980  0.0377154416
sample87   0.0554777851  0.0459739330
sample88   0.0301626556 -0.0382207025
sample89   0.1016866169 -0.0694079398
sample90  -0.0086821673  0.0201323844
sample91  -0.1578629819  0.2097791505
sample92  -0.0170933432  0.1655939702
sample93   0.0979805075  0.0121500196
sample94  -0.0131486246  0.0114929431
sample95  -0.0315682446  0.0758918616
sample96  -0.0024125833  0.0470186434
sample97  -0.0634545806 -0.0270302974
sample98   0.0359372524  0.0135465972
sample99   0.1009167684 -0.1124710967
sample100 -0.0551754114 -0.0246502435
sample101  0.0080115971  0.1627408295
sample102  0.0046451312 -0.0095469022
sample103  0.0472520837  0.0940383296
sample104 -0.0198157415  0.0591148569
sample105  0.0400239008  0.0160949937
sample106  0.0923810164 -0.0369003535
sample107  0.1019372344 -0.0224967614
sample108  0.0877091515  0.0128850114
sample109 -0.0864820184  0.0901084455
sample110  0.1223116495  0.0096109049
sample111 -0.0257352375  0.0936283917
sample112  0.0765285903 -0.0270380140
sample113 -0.0258799786 -0.0377436956
sample114 -0.0021141119  0.0882040747
sample115 -0.0303455186  0.0723738895
sample116 -0.0780504388  0.0685164645
sample117 -0.0536893992  0.0912028129
sample118 -0.0666649870  0.0236261807
sample119 -0.1021872552  0.2325005561
sample120 -0.0750216324 -0.0243344842
sample121  0.0756937907 -0.0942970825
sample122  0.0259632131 -0.0731919638
sample123  0.1037844655  0.0369178245
sample124 -0.0611205116 -0.0421645218
sample125  0.0738472613 -0.0066944213
sample126 -0.0972919177 -0.0762700174
sample127 -0.0824699462  0.0096644877
sample128  0.1249411596 -0.0929252344
sample129  0.0734063625  0.0434312368
sample130  0.0003500223  0.0309857268
sample131 -0.0930184072 -0.0155970864
sample132 -0.0736220564 -0.0732970767
sample133  0.0498398368  0.0462456349
sample134 -0.1644872622 -0.0720047882
sample135  0.0752295005 -0.0003870810
sample136 -0.0227150039  0.0495468564
sample137 -0.0564721784  0.0288859271
sample138 -0.0255986449  0.0610932279
sample139 -0.0621218814 -0.0235859064
sample140  0.0604148887  0.0435530962
sample141 -0.0246743031 -0.0532629938
sample142  0.0409563926 -0.0316233223
sample143  0.0077356409  0.0476909105
sample144 -0.0173241004  0.0156786060
sample145 -0.0485467603 -0.1202737135
sample146 -0.0419650052  0.0811239972
sample147  0.0977304574  0.0274769582
sample148 -0.0368253245 -0.0803969313
sample149  0.0072864866  0.1533017687
sample150 -0.1020825528 -0.0624823680
sample151 -0.0305397123  0.0289338401
sample152  0.0533595230  0.0638335735
sample153  0.0891639637 -0.1799450132
sample154  0.0727554348  0.0834128672
sample155  0.0880665772  0.0220769206
sample156  0.0276558819  0.0326601323
sample157  0.1155031552 -0.0183635938
sample158  0.0281506687  0.0104911336
sample159 -0.0663233751 -0.0443809140
sample160  0.0302644004 -0.0404302179
sample161 -0.0114712908  0.0591084438
sample162  0.1337091064 -0.1398131243
sample163 -0.1330120693 -0.1688768979
sample164  0.0150338182 -0.0028374472
sample165 -0.0076518812  0.0164146218
sample166 -0.0367791448 -0.0630613127
sample167 -0.1111989833 -0.0030066626
sample168  0.0672982994 -0.0446266488
sample169  0.0413003607 -0.0224448303
> discoRes@scores$dist[[1]] ## Distinctive scores for Block 1
                      1             2
sample1    0.0420462389  0.0867866129
sample2    0.0820849772 -0.0410968687
sample3   -0.0155966331 -0.0195186449
sample4    0.1001342818 -0.0410776226
sample5    0.0153479762 -0.0253257696
sample6   -0.0340238884 -0.0408223322
sample7   -0.0722602441  0.0002323795
sample8    0.0457619773 -0.0370006731
sample9    0.0086216557  0.0820184476
sample10   0.0423631270 -0.0083917547
sample11  -0.0022593615  0.0787764067
sample12  -0.0322076211  0.1479823403
sample13   0.0293970412 -0.0306742770
sample14  -0.0337430754 -0.0367508351
sample15  -0.0815560351  0.1275613719
sample16  -0.0508331796  0.0540604415
sample17  -0.0062555155  0.0041024904
sample18  -0.0705600765 -0.0351053419
sample19   0.0476783617 -0.0509595439
sample20  -0.0523027343  0.0715513923
sample21   0.0119251303 -0.0376086937
sample22  -0.0724458127 -0.0095635088
sample23   0.0992529528  0.0134299113
sample24   0.1595265777  0.0728684615
sample25   0.0920661071 -0.0749749170
sample26   0.0595566997  0.0848973789
sample27  -0.0826577232 -0.0086747786
sample28   0.0384833685  0.0440972840
sample29  -0.0777741180  0.1735298330
sample30  -0.1229474287 -0.0819018686
sample31  -0.0579750316 -0.0238646835
sample32  -0.0970365689 -0.0111435260
sample33  -0.1017580049 -0.0630452742
sample34  -0.0637902659  0.0377936136
sample35  -0.0790003402 -0.0229732644
sample36  -0.1224932942 -0.1274968557
sample37  -0.1798847371 -0.1673448385
sample38  -0.0466394128  0.0888153006
sample39   0.0168694686  0.0421536082
sample40  -0.1756417873 -0.1526662700
sample41  -0.0042469532  0.0004924441
sample42   0.0447825516 -0.0651501349
sample43  -0.0482291965 -0.0253533598
sample44   0.1986819691 -0.0545753323
sample45   0.0741918226  0.0054714429
sample46  -0.0478862276 -0.0007080574
sample47  -0.0608216700  0.0481615308
sample48   0.1381464654  0.0578301221
sample49   0.0530631238 -0.1405523386
sample50   0.0173646141  0.1602385985
sample51  -0.0462456469  0.0303473086
sample52  -0.0279995922  0.0280387903
sample53  -0.0667498500  0.0237700188
sample54  -0.0121811617 -0.0521354906
sample55  -0.0182392225  0.0221326609
sample56   0.0001308985  0.0030909356
sample57  -0.0316574639  0.0530190720
sample58  -0.0393890947 -0.0297801827
sample59  -0.1278271312 -0.0546540795
sample60  -0.1486964660  0.1069141631
sample61  -0.0793067483  0.0569790345
sample62  -0.1172821905 -0.0149211402
sample63   0.0028812690  0.1300524266
sample64  -0.0237296232  0.1073288454
sample65   0.0126543601  0.0589810399
sample66   0.0468233992 -0.0771066490
sample67  -0.1494285913 -0.0769877687
sample68  -0.0978023528 -0.0577364079
sample69  -0.0403090502  0.0156038186
sample70  -0.0221598103  0.0315436509
sample71   0.0546329931 -0.0272395005
sample72  -0.1107501008 -0.0537331599
sample73  -0.0906756729  0.0579957735
sample74  -0.0586513368  0.0121417413
sample75  -0.0390512704  0.0349278127
sample76   0.0022939683 -0.1676560141
sample77   0.0232101654 -0.2067300920
sample78   0.0929809907 -0.0434927732
sample79   0.1619380727 -0.0378102363
sample80  -0.0680392928  0.1424655786
sample81   0.0530725508 -0.0358347662
sample82  -0.0266850436 -0.0577449194
sample83  -0.1517242022 -0.0448570382
sample84   0.0570943204 -0.0273808398
sample85  -0.1086271388 -0.1228130609
sample86  -0.0833891653 -0.0442925009
sample87  -0.0022040717 -0.0943908556
sample88   0.0078276987 -0.1140504482
sample89  -0.0611005828 -0.0094589438
sample90  -0.0022941561 -0.0936254901
sample91  -0.0433773678  0.3205971874
sample92   0.1815217629 -0.0334666537
sample93  -0.0267654153  0.0614425731
sample94  -0.0181901564  0.0605088115
sample95   0.0720314238 -0.0013040525
sample96   0.0559672633 -0.0118787099
sample97   0.0217420627  0.0195417263
sample98  -0.0379199360  0.0588352671
sample99   0.0792508345 -0.0151262140
sample100 -0.0222100311 -0.0023322947
sample101  0.0387083908  0.1224225095
sample102  0.2094626079 -0.0516420502
sample103 -0.0138558118  0.0301047511
sample104  0.0807947978 -0.0162712311
sample105  0.0520491965 -0.1229660287
sample106  0.0192643033 -0.0185235103
sample107 -0.0319014409  0.0405120529
sample108  0.0140674128  0.0163422339
sample109  0.1831856767  0.0613023902
sample110  0.0292782622 -0.0199846452
sample111  0.1423173607  0.0327352227
sample112 -0.0426313231 -0.0029087106
sample113  0.0771932173  0.0268742909
sample114  0.0241567787 -0.0184080707
sample115  0.1958955921  0.0460148848
sample116  0.1394437344 -0.0530793322
sample117  0.1672311733 -0.1386521762
sample118  0.0448331571 -0.0117617929
sample119  0.0910192007  0.2217435689
sample120  0.0331405002 -0.0057270253
sample121 -0.0307516326  0.1392506240
sample122  0.0839838176 -0.0291983402
sample123 -0.0239675446 -0.0642167489
sample124  0.0909176556  0.0130430321
sample125  0.0065362563 -0.1092631008
sample126 -0.0935273085  0.1368276745
sample127 -0.0035405875  0.0292754990
sample128  0.0660350627  0.1018575985
sample129 -0.0693671379 -0.0695430431
sample130 -0.0008517289 -0.0669705429
sample131 -0.0431011842  0.0174060953
sample132  0.0637089512  0.0029383690
sample133  0.0289464340 -0.0390817300
sample134 -0.0446141427  0.0456332315
sample135 -0.0712343899  0.0521627470
sample136 -0.0596319012  0.0197291528
sample137 -0.0793175744 -0.0380637464
sample138  0.0973505158 -0.0454210018
sample139 -0.0539865523 -0.1534332172
sample140 -0.0850872712  0.0955804234
sample141  0.0192724401 -0.0554446385
sample142  0.0672294821 -0.0461312925
sample143  0.0303706908 -0.0519258532
sample144  0.0089350393  0.0145815368
sample145  0.0638878161  0.0122268983
sample146 -0.0585923396  0.0063074706
sample147 -0.0894146877 -0.1124625991
sample148  0.0216440560 -0.0615962279
sample149  0.0515315282 -0.0839902923
sample150 -0.0568228101 -0.0124472765
sample151  0.0789513464 -0.0261823833
sample152  0.0330692495  0.1306444989
sample153  0.1752066811  0.1497756007
sample154 -0.0421490565 -0.0037017284
sample155 -0.0680199087  0.0095703356
sample156 -0.0388950794  0.1057557842
sample157 -0.0314765095  0.0561364599
sample158 -0.0329630404  0.0353943549
sample159  0.0398462269 -0.1007368165
sample160 -0.0424905377  0.0108493018
sample161  0.0888339925 -0.0679692719
sample162  0.0027571924  0.1237848432
sample163  0.0126230927  0.0725441093
sample164  0.0566787335 -0.0458318188
sample165  0.0315331523 -0.0236359536
sample166  0.0612109950 -0.0425224652
sample167 -0.0142729563  0.0179306975
sample168  0.0169543572 -0.0769614799
sample169 -0.0675063189  0.0131498971
> discoRes@scores$dist[[2]] ## Distinctive scores for Block 2
                      1             2
sample1    0.0012331711  1.635716e-01
sample2    0.0724353278  6.022144e-03
sample3    0.0188459932  1.080029e-01
sample4   -0.0390143083 -3.106394e-04
sample5   -0.1774810607  2.996430e-02
sample6    0.0451446504  3.455899e-02
sample7    0.0226463426  7.019194e-03
sample8    0.1033684650  9.857968e-03
sample9   -0.1350014270 -8.979114e-02
sample10  -0.1259884358  5.097939e-02
sample11  -0.0979790978 -7.086567e-02
sample12   0.0863021030  8.620322e-02
sample13   0.1381401843 -1.827998e-01
sample14   0.0615074757  2.642808e-02
sample15  -0.0381600619  3.101600e-02
sample16   0.0048779452 -1.271009e-03
sample17   0.0788483274  1.547607e-02
sample18   0.0884189512  3.795477e-02
sample19  -0.0703043499  1.084003e-01
sample20   0.0025581263 -7.975971e-02
sample21  -0.0941596528  4.126896e-02
sample22   0.0550270807  7.806615e-02
sample23  -0.0679492764  4.102078e-02
sample24   0.1310969585 -1.649282e-01
sample25  -0.0113583530  4.426901e-02
sample26   0.1402948975 -2.016458e-02
sample27  -0.0261566153 -1.589986e-03
sample28   0.0724200829 -5.850509e-02
sample29   0.0330054691 -2.062099e-03
sample30   0.0228750282  2.015343e-02
sample31   0.0635070464  6.670369e-02
sample32  -0.0685100011  4.955246e-02
sample33   0.0777764922  1.272070e-01
sample34  -0.0157842078  3.024311e-02
sample35   0.0529627824 -1.500981e-01
sample36  -0.0070908140 -2.025321e-01
sample37   0.0442411607 -1.802109e-01
sample38   0.0781508314  3.676296e-02
sample39  -0.0120330029  3.388884e-02
sample40   0.0473283655 -1.471582e-01
sample41  -0.0228192252  2.673457e-02
sample42   0.0245361894  7.960878e-02
sample43  -0.1036361996  8.229578e-02
sample44   0.1012234910 -7.049237e-02
sample45  -0.0013726578  2.451072e-02
sample46   0.0558506372 -2.948603e-03
sample47   0.0380478661 -4.554238e-02
sample48  -0.0784340428 -4.888890e-02
sample49   0.0605168160  1.162473e-02
sample50  -0.0530082993  2.737812e-02
sample51  -0.1514645325 -5.678259e-02
sample52  -0.1860936028 -1.246711e-01
sample53   0.0064179766  2.701061e-02
sample54  -0.0697037547  2.308413e-02
sample55  -0.1633577720 -1.366432e-02
sample56  -0.1011483973 -4.682132e-02
sample57  -0.1730374409 -1.609594e-01
sample58   0.0071384893  1.666951e-02
sample59   0.0030458404 -3.005377e-02
sample60  -0.0215842344 -2.665887e-01
sample61  -0.1510585370 -1.002384e-01
sample62   0.0925531533  4.845726e-02
sample63   0.0596315523  4.137110e-02
sample64   0.0449227319  2.600967e-03
sample65  -0.0939382214  4.406951e-02
sample66  -0.1063397672  5.710079e-02
sample67   0.0201580612 -2.361746e-01
sample68  -0.0037208503 -2.418545e-02
sample69   0.0645162016  1.155618e-01
sample70   0.1013439743  1.351780e-01
sample71   0.0016466064  2.976772e-02
sample72  -0.0328895460  2.835770e-02
sample73  -0.0275080395  5.148152e-02
sample74  -0.1341718338  7.895303e-02
sample75  -0.0951576664  3.943147e-02
sample76   0.0864719899 -3.035054e-02
sample77   0.1035749500  2.545324e-02
sample78   0.1575647948 -4.939473e-02
sample79  -0.0189138407 -4.874690e-02
sample80  -0.1384142815 -4.315716e-05
sample81   0.0118846668  6.357908e-02
sample82   0.1675306602 -3.533970e-02
sample83   0.0065671105  7.812496e-02
sample84  -0.1486890640  3.109097e-02
sample85   0.0532720255 -7.417990e-02
sample86   0.1138474862  1.818721e-05
sample87  -0.0432865995 -6.080500e-02
sample88  -0.0433451217 -1.402486e-01
sample89  -0.0331204781  1.395429e-02
sample90   0.0607413490  8.610385e-02
sample91   0.0566263566 -1.303770e-01
sample92   0.0359580655 -1.061605e-01
sample93   0.0433646459  4.443609e-02
sample94   0.0477292148  1.059571e-01
sample95   0.0249595927  3.980509e-02
sample96  -0.0035217550  9.293931e-02
sample97   0.0066052074  1.527234e-01
sample98  -0.0020367068  5.579515e-02
sample99   0.0886621847  3.728376e-02
sample100  0.1091259614  3.560401e-02
sample101  0.0739723778  4.317883e-02
sample102 -0.0574455598  2.784088e-02
sample103 -0.0142733808 -9.706364e-03
sample104 -0.0710395592 -4.068330e-02
sample105 -0.0980829916  3.452997e-02
sample106  0.0254260517 -3.628932e-02
sample107  0.0160655074  9.173398e-02
sample108  0.0200988324  2.379699e-02
sample109  0.0389781968 -1.692311e-02
sample110  0.0326305257 -2.988087e-02
sample111 -0.0676935904  6.038250e-02
sample112 -0.0167883513 -5.336924e-03
sample113 -0.0969213891  2.757705e-02
sample114  0.0026397967  9.209101e-02
sample115  0.0308049611 -1.603743e-02
sample116  0.1240306375 -1.272998e-01
sample117 -0.0334728647 -5.392662e-02
sample118  0.1037152141 -6.252440e-02
sample119  0.1064170463 -1.196217e-01
sample120  0.0771357764  1.004935e-01
sample121  0.0129352350 -3.181914e-02
sample122 -0.0847487462  5.568466e-02
sample123  0.0041335489 -7.693558e-03
sample124  0.0583462291  8.396477e-02
sample125 -0.0634843228  5.232568e-02
sample126  0.0662582127  1.091730e-01
sample127  0.0865025638  1.094172e-01
sample128  0.0627822125  1.471095e-02
sample129  0.0336274549  4.007774e-02
sample130  0.0293518120  8.046086e-02
sample131  0.0469196777  2.209380e-03
sample132  0.0241745736  1.248608e-01
sample133 -0.0907303814 -1.466698e-02
sample134  0.0350841217 -7.539660e-02
sample135 -0.0001334911 -9.185824e-03
sample136  0.0335874782  9.860180e-02
sample137  0.0640147238  7.554370e-02
sample138 -0.0060964034  1.742783e-02
sample139  0.0592082725 -5.615007e-02
sample140 -0.0427988657  1.099465e-02
sample141 -0.0618793210  9.301103e-02
sample142 -0.0898552471 -3.573323e-02
sample143 -0.0817391104 -8.880528e-02
sample144 -0.0787754468  3.821395e-02
sample145 -0.1085819469 -1.569460e-01
sample146  0.0589554944  4.373235e-02
sample147  0.0495327858 -7.278071e-03
sample148 -0.1161590441 -9.078124e-03
sample149  0.0121575421 -7.788463e-02
sample150  0.0314511968 -3.520220e-02
sample151 -0.0575380922  1.945393e-02
sample152  0.0494540325 -7.025566e-02
sample153  0.0941338654 -2.153269e-01
sample154  0.0335928765 -2.078826e-02
sample155 -0.0690459073  2.780361e-02
sample156 -0.1039902314  6.292488e-02
sample157  0.0408645843 -8.065530e-03
sample158 -0.1018106362 -7.817023e-03
sample159  0.0281732566  1.207261e-02
sample160 -0.1643052860 -2.977806e-03
sample161 -0.0374330102 -8.524588e-02
sample162  0.0804538327 -8.349634e-02
sample163  0.0743232487  1.406348e-02
sample164 -0.1208804248  2.139525e-02
sample165 -0.1608115956 -2.025158e-02
sample166  0.0425947997  2.660802e-02
sample167  0.0226849509  4.464258e-02
sample168  0.0180737400  7.471609e-04
sample169 -0.0190780231 -2.645427e-02
> # Exploring O2PLS scores structure
> o2plsRes@scores$common[[1]] ## Common scores for Block 1
                   [,1]          [,2]
sample1   -0.0572060227 -1.729087e-02
sample2    0.0875245208  1.112588e-02
sample3    0.0403482602 -3.168994e-02
sample4   -0.0218345996  4.052760e-06
sample5   -0.0150905011  4.795041e-03
sample6   -0.0924362933  4.511003e-02
sample7   -0.0793066751 -1.243823e-02
sample8   -0.1342997187  6.215220e-02
sample9   -0.0338886944 -1.854401e-02
sample10   0.0020547173  1.749421e-02
sample11   0.0037275602 -2.364116e-02
sample12  -0.0753094533  2.772698e-02
sample13   0.0856160091  3.679963e-02
sample14  -0.0737457307  2.668452e-02
sample15  -0.0062111746 -3.554864e-03
sample16  -0.0602355268  6.675115e-02
sample17   0.1086768843  2.524534e-02
sample18   0.0702999472  2.231671e-02
sample19   0.0173785882 -3.024846e-02
sample20   0.0484173812 -3.310904e-02
sample21   0.0124657042  6.517144e-02
sample22  -0.0140989936 -3.159137e-02
sample23  -0.0627028403 -5.393710e-04
sample24   0.0919972100  7.909297e-02
sample25   0.0326998483 -1.945206e-02
sample26   0.1064741246  2.120849e-02
sample27   0.0166058995 -4.964993e-02
sample28   0.0743504770  2.614211e-02
sample29  -0.0511008491 -2.782647e-02
sample30   0.0962250842 -3.974893e-03
sample31  -0.0869563008  5.250819e-02
sample32   0.0271858919  1.552005e-02
sample33  -0.0448364581  6.243160e-03
sample34   0.0718415218  1.469396e-02
sample35   0.0403086451 -1.632629e-02
sample36  -0.1036402827 -1.304320e-02
sample37  -0.0159385744 -3.036525e-02
sample38   0.0182198369 -4.034805e-02
sample39   0.0690363619  8.058350e-03
sample40  -0.0467312750 -2.810325e-02
sample41   0.0263674438 -5.171216e-02
sample42   0.0374578960 -1.268634e-02
sample43   0.0132336869  9.536642e-03
sample44  -0.1119154428  5.028683e-02
sample45   0.0759639367  4.587903e-02
sample46   0.0871885519 -4.670385e-02
sample47   0.0721490571 -1.288540e-02
sample48   0.0005086144 -1.290565e-02
sample49  -0.0858177028  5.173760e-02
sample50   0.0118992665 -7.276215e-02
sample51  -0.0426446855  5.306205e-02
sample52  -0.0381605826  3.086785e-02
sample53  -0.0855757630  6.730043e-02
sample54   0.0261723092  9.184260e-03
sample55  -0.0156418304  4.682404e-04
sample56   0.0307831193  2.597550e-02
sample57  -0.0157242103  4.829381e-02
sample58  -0.0031174404  1.359898e-02
sample59  -0.0373001859  5.868397e-03
sample60  -0.0142609099  5.831654e-03
sample61  -0.0122255144  2.663579e-02
sample62   0.0228002942 -8.692265e-03
sample63  -0.0833127581  5.473229e-02
sample64  -0.1166548159  4.196500e-02
sample65   0.0038808902  8.568590e-03
sample66   0.0011561811  1.766612e-02
sample67  -0.1129311062 -2.608702e-02
sample68  -0.0382526429 -3.804045e-02
sample69  -0.0476502440  4.003241e-03
sample70  -0.0110329882 -2.752719e-02
sample71   0.0096850282 -5.627056e-02
sample72   0.0487124704 -8.800131e-03
sample73   0.0773058132  8.239864e-03
sample74  -0.0102488176  2.454957e-02
sample75  -0.0286613976 -8.387293e-03
sample76  -0.0472655595 -2.129315e-02
sample77  -0.0865043074 -7.296820e-03
sample78   0.1070293698  2.818346e-02
sample79  -0.0165060681 -6.659721e-02
sample80  -0.0206765949 -8.712112e-03
sample81  -0.0050943615 -3.079175e-02
sample82   0.1153622361 -1.647054e-02
sample83   0.0367979217 -2.538114e-03
sample84   0.0199463070 -1.468961e-02
sample85  -0.0827122185 -2.709824e-04
sample86   0.0969487314 -1.699897e-02
sample87   0.0421957457 -1.965953e-02
sample88   0.0215934743  1.566050e-02
sample89   0.0751559502  2.811652e-02
sample90  -0.0057328000 -8.283795e-03
sample91  -0.1134005268 -8.603522e-02
sample92  -0.0101689918 -6.894992e-02
sample93   0.0725967502 -6.003176e-03
sample94  -0.0096878852 -4.693081e-03
sample95  -0.0223502239 -3.139636e-02
sample96  -0.0013232863 -1.963604e-02
sample97  -0.0476541710  1.183660e-02
sample98   0.0269546160 -5.978398e-03
sample99   0.0728179461  4.597884e-02
sample100 -0.0413398038  1.079347e-02
sample101  0.0087536994 -6.796076e-02
sample102  0.0032509529  3.932612e-03
sample103  0.0360342395 -3.973263e-02
sample104 -0.0141722563 -2.453107e-02
sample105  0.0294940465 -7.140722e-03
sample106  0.0686472054  1.462895e-02
sample107  0.0748635927  8.401339e-03
sample108  0.0650175850 -6.211942e-03
sample109 -0.0628017242 -3.681224e-02
sample110  0.0905513691 -5.169053e-03
sample111 -0.0176679473 -3.884777e-02
sample112  0.0570870472  1.066018e-02
sample113 -0.0200110554  1.596044e-02
sample114 -0.0001474542 -3.679272e-02
sample115 -0.0213333038 -2.991667e-02
sample116 -0.0567675453 -2.785636e-02
sample117 -0.0379865990 -3.752078e-02
sample118 -0.0484878786 -9.173691e-03
sample119 -0.0713511831 -9.598634e-02
sample120 -0.0555093586  1.089843e-02
sample121  0.0542443861  3.861344e-02
sample122  0.0178575357  3.027138e-02
sample123  0.0775020581 -1.636852e-02
sample124 -0.0460701050  1.814758e-02
sample125  0.0543846585  2.075898e-03
sample126 -0.0729417144  3.276659e-02
sample127 -0.0609509157 -3.270814e-03
sample128  0.0908136899  3.758801e-02
sample129  0.0552445878 -1.879062e-02
sample130  0.0007128089 -1.294308e-02
sample131 -0.0693311345  7.357082e-03
sample132 -0.0556565156  3.126995e-02
sample133  0.0375870104 -1.977240e-02
sample134 -0.1229130924  3.159495e-02
sample135  0.0555550315 -5.563250e-04
sample136 -0.0159768414 -2.046339e-02
sample137 -0.0412337694 -1.151652e-02
sample138 -0.0180604476 -2.526505e-02
sample139 -0.0465649201  1.040683e-02
sample140  0.0452288969 -1.876279e-02
sample141 -0.0189142561  2.247042e-02
sample142  0.0297545566  1.280524e-02
sample143  0.0064292003 -1.997706e-02
sample144 -0.0124284903 -6.369733e-03
sample145 -0.0377141491  5.066743e-02
sample146 -0.0296240067 -3.344465e-02
sample147  0.0726083535 -1.239968e-02
sample148 -0.0284795794  3.389732e-02
sample149  0.0082261455 -6.399305e-02
sample150 -0.0765013197  2.704021e-02
sample151 -0.0220567356 -1.178159e-02
sample152  0.0403422737 -2.714879e-02
sample153  0.0629117719  7.425085e-02
sample154  0.0551622927 -3.548984e-02
sample155  0.0654439133 -1.005306e-02
sample156  0.0209310714 -1.390213e-02
sample157  0.0851522597  6.577150e-03
sample158  0.0208354599 -4.663078e-03
sample159 -0.0498794349  1.913257e-02
sample160  0.0216074437  1.656579e-02
sample161 -0.0075742328 -2.455676e-02
sample162  0.0963663017  5.705881e-02
sample163 -0.1009542191  7.174224e-02
sample164  0.0109881996  1.026806e-03
sample165 -0.0053146157 -6.772855e-03
sample166 -0.0275757357  2.673084e-02
sample167 -0.0825048036  2.278863e-03
sample168  0.0486147429  1.793843e-02
sample169  0.0302506727  8.984253e-03
> o2plsRes@scores$common[[2]] ## Common scores for Block 2
                   [,1]          [,2]
sample1   -0.0621842115 -1.364509e-02
sample2    0.0944623785  9.720892e-03
sample3    0.0406196267 -2.236338e-02
sample4   -0.0229316496 -3.932487e-04
sample5   -0.0157330047  3.231033e-03
sample6   -0.0945794025  3.120720e-02
sample7   -0.0854427118 -1.052880e-02
sample8   -0.1376625920  4.286608e-02
sample9   -0.0377115311 -1.415134e-02
sample10   0.0035244506  1.280825e-02
sample11   0.0016639987 -1.717895e-02
sample12  -0.0781403168  1.884368e-02
sample13   0.0938400516  2.838858e-02
sample14  -0.0759839772  1.810989e-02
sample15  -0.0068340837 -2.705361e-03
sample16  -0.0590150849  4.757848e-02
sample17   0.1178805097  2.040526e-02
sample18   0.0767858320  1.756604e-02
sample19   0.0157112113 -2.172867e-02
sample20   0.0485318300 -2.327033e-02
sample21   0.0185928176  4.777095e-02
sample22  -0.0191358702 -2.329775e-02
sample23  -0.0672994194 -1.535656e-03
sample24   0.1047476642  5.935707e-02
sample25   0.0329844953 -1.358036e-02
sample26   0.1154952052  1.741529e-02
sample27   0.0133849853 -3.590922e-02
sample28   0.0821554039  2.042376e-02
sample29  -0.0567643690 -2.123848e-02
sample30   0.1016073931 -1.134728e-03
sample31  -0.0880396372  3.670548e-02
sample32   0.0300363338  1.182406e-02
sample33  -0.0467252272  3.739254e-03
sample34   0.0783666394  1.203777e-02
sample35   0.0424227097 -1.118559e-02
sample36  -0.1107646166 -1.143464e-02
sample37  -0.0191667664 -2.246060e-02
sample38   0.0155968095 -2.909621e-02
sample39   0.0746847148  7.148218e-03
sample40  -0.0517028178 -2.137267e-02
sample41   0.0234979494 -3.723018e-02
sample42   0.0388797356 -8.557228e-03
sample43   0.0149555568  7.210002e-03
sample44  -0.1150305613  3.461805e-02
sample45   0.0846146236  3.486020e-02
sample46   0.0884426404 -3.246853e-02
sample47   0.0748644971 -8.083045e-03
sample48  -0.0012033198 -9.403647e-03
sample49  -0.0872662737  3.616245e-02
sample50   0.0066941314 -5.284863e-02
sample51  -0.0411777630  3.791830e-02
sample52  -0.0379355780  2.180834e-02
sample53  -0.0851639886  4.751761e-02
sample54   0.0288006248  7.184424e-03
sample55  -0.0164920835  5.919925e-05
sample56   0.0355115616  1.951043e-02
sample57  -0.0141146068  3.492409e-02
sample58  -0.0015636132  9.862883e-03
sample59  -0.0390656483  3.590929e-03
sample60  -0.0139454780  3.963030e-03
sample61  -0.0106410274  1.919705e-02
sample62   0.0236748439 -5.922677e-03
sample63  -0.0846790877  3.839102e-02
sample64  -0.1202581015  2.846469e-02
sample65   0.0050548584  6.328644e-03
sample66   0.0028013072  1.291807e-02
sample67  -0.1231623009 -2.112565e-02
sample68  -0.0437782161 -2.845072e-02
sample69  -0.0501199692  2.053469e-03
sample70  -0.0140278645 -2.027157e-02
sample71   0.0057489505 -4.085977e-02
sample72   0.0511212704 -5.522408e-03
sample73   0.0828141409  7.431582e-03
sample74  -0.0085959456  1.772951e-02
sample75  -0.0312180394 -6.636869e-03
sample76  -0.0519051781 -1.640191e-02
sample77  -0.0925924762 -6.907800e-03
sample78   0.1163971046  2.251122e-02
sample79  -0.0240906926 -4.887766e-02
sample80  -0.0221327065 -6.730703e-03
sample81  -0.0072114968 -2.254399e-02
sample82   0.1204416674 -9.907422e-03
sample83   0.0386739485 -1.171663e-03
sample84   0.0195988488 -1.033806e-02
sample85  -0.0877680171 -1.725057e-03
sample86   0.1023541048 -1.062501e-02
sample87   0.0425213089 -1.356865e-02
sample88   0.0244788514  1.180820e-02
sample89   0.0804276691  2.188588e-02
sample90  -0.0074639871 -6.140721e-03
sample91  -0.1278832404 -6.485140e-02
sample92  -0.0162199697 -5.048358e-02
sample93   0.0769344893 -3.045135e-03
sample94  -0.0104345587 -3.593172e-03
sample95  -0.0260058453 -2.330475e-02
sample96  -0.0025018700 -1.433516e-02
sample97  -0.0492358305  7.774183e-03
sample98   0.0279220220 -3.862141e-03
sample99   0.0813921923  3.487339e-02
sample100 -0.0428797405  7.112807e-03
sample101  0.0032855240 -4.940743e-02
sample102  0.0038439317  2.938008e-03
sample103  0.0358511139 -2.831881e-02
sample104 -0.0162784000 -1.815061e-02
sample105  0.0314853405 -4.656633e-03
sample106  0.0726456731  1.192390e-02
sample107  0.0807342975  7.508627e-03
sample108  0.0688338003 -3.336161e-03
sample109 -0.0694151950 -2.800146e-02
sample110  0.0961218924 -2.111997e-03
sample111 -0.0217900036 -2.864702e-02
sample112  0.0599954082  8.820317e-03
sample113 -0.0195006577  1.128215e-02
sample114 -0.0032126533 -2.682851e-02
sample115 -0.0251101087 -2.221077e-02
sample116 -0.0625141551 -2.137258e-02
sample117 -0.0440473375 -2.806256e-02
sample118 -0.0532042630 -7.590494e-03
sample119 -0.0848603028 -7.133574e-02
sample120 -0.0588832131  6.937326e-03
sample121  0.0613899126  2.915307e-02
sample122  0.0218424338  2.241775e-02
sample123  0.0809008460 -1.051759e-02
sample124 -0.0472109313  1.239887e-02
sample125  0.0583180947  2.521167e-03
sample126 -0.0753941872  2.256455e-02
sample127 -0.0649774209 -3.496964e-03
sample128  0.1000212216  2.908091e-02
sample129  0.0568033049 -1.269016e-02
sample130 -0.0002370832 -9.419675e-03
sample131 -0.0727030877  4.091672e-03
sample132 -0.0566219024  2.179861e-02
sample133  0.0384172955 -1.372840e-02
sample134 -0.1280862736  2.077912e-02
sample135  0.0592633273  6.106685e-04
sample136 -0.0187635410 -1.521173e-02
sample137 -0.0449958970 -9.152840e-03
sample138 -0.0211348699 -1.875415e-02
sample139 -0.0482882861  6.729304e-03
sample140  0.0468926306 -1.285498e-02
sample141 -0.0186248693  1.605439e-02
sample142  0.0328031246  9.887746e-03
sample143  0.0052919839 -1.445666e-02
sample144 -0.0140067923 -4.867248e-03
sample145 -0.0361804310  3.625323e-02
sample146 -0.0345286735 -2.493652e-02
sample147  0.0765025670 -7.714769e-03
sample148 -0.0276016641  2.420589e-02
sample149  0.0027545308 -4.653007e-02
sample150 -0.0792296010  1.831289e-02
sample151 -0.0245894512 -8.991738e-03
sample152  0.0409796547 -1.907063e-02
sample153  0.0734301757  5.528780e-02
sample154  0.0557740684 -2.487723e-02
sample155  0.0689436560 -6.127635e-03
sample156  0.0212272938 -9.747423e-03
sample157  0.0911931194  6.355708e-03
sample158  0.0220840645 -3.016357e-03
sample159 -0.0513244242  1.304175e-02
sample160  0.0246213576  1.248444e-02
sample161 -0.0100369130 -1.805391e-02
sample162  0.1078802043  4.337260e-02
sample163 -0.1017965082  5.047171e-02
sample164  0.0119430799  9.593002e-04
sample165 -0.0063708014 -5.032148e-03
sample166 -0.0283181180  1.899222e-02
sample167 -0.0872832229  1.516582e-04
sample168  0.0540714512  1.397701e-02
sample169  0.0328432652  7.104347e-03
> o2plsRes@scores$dist[[1]] ## Distinctive scores for Block 1
                   [,1]          [,2]
sample1    0.0133684846  2.195848e-02
sample2    0.0254157197 -1.058416e-02
sample3   -0.0049551479 -4.840017e-03
sample4    0.0310390570 -1.063929e-02
sample5    0.0046941318 -6.488426e-03
sample6   -0.0107406753 -1.026702e-02
sample7   -0.0225157631  2.624712e-04
sample8    0.0141320952 -9.505821e-03
sample9    0.0029681280  2.078210e-02
sample10   0.0131729174 -2.275042e-03
sample11  -0.0004164298  1.994019e-02
sample12  -0.0095211620  3.759883e-02
sample13   0.0091018604 -7.953956e-03
sample14  -0.0106557524 -9.181659e-03
sample15  -0.0249924121  3.262724e-02
sample16  -0.0156216400  1.375700e-02
sample17  -0.0019382446  1.073994e-03
sample18  -0.0221072481 -8.703592e-03
sample19   0.0146917619 -1.311712e-02
sample20  -0.0160353760  1.826290e-02
sample21   0.0035947899 -9.616341e-03
sample22  -0.0225060762 -2.532589e-03
sample23   0.0310000683  3.033060e-03
sample24   0.0499544372  1.809450e-02
sample25   0.0284442301 -1.932558e-02
sample26   0.0188220043  2.146985e-02
sample27  -0.0257763219 -1.999228e-03
sample28   0.0120888648  1.125834e-02
sample29  -0.0236482520  4.426726e-02
sample30  -0.0385486305 -2.055935e-02
sample31  -0.0181539336 -5.877838e-03
sample32  -0.0302630460 -2.607192e-03
sample33  -0.0319565715 -1.562628e-02
sample34  -0.0197970124  9.906813e-03
sample35  -0.0247412713 -5.434440e-03
sample36  -0.0386259060 -3.190394e-02
sample37  -0.0566199273 -4.192574e-02
sample38  -0.0142060273  2.259644e-02
sample39   0.0053589035  1.076485e-02
sample40  -0.0552546493 -3.819896e-02
sample41  -0.0013089975  9.278818e-05
sample42   0.0137252142 -1.664652e-02
sample43  -0.0151259626 -6.290953e-03
sample44   0.0617391754 -1.442883e-02
sample45   0.0231410886  1.163143e-03
sample46  -0.0148898209 -1.384176e-04
sample47  -0.0187252536  1.221690e-02
sample48   0.0432839432  1.416671e-02
sample49   0.0160818605 -3.588745e-02
sample50   0.0059333545  4.067003e-02
sample51  -0.0142914866  7.776270e-03
sample52  -0.0086339952  7.208917e-03
sample53  -0.0207386980  6.272432e-03
sample54  -0.0039856719 -1.316934e-02
sample55  -0.0056217017  5.692315e-03
sample56   0.0000123292  8.978290e-04
sample57  -0.0095805555  1.324253e-02
sample58  -0.0124160295 -7.326376e-03
sample59  -0.0400195442 -1.349736e-02
sample60  -0.0460063358  2.770091e-02
sample61  -0.0245266456  1.470710e-02
sample62  -0.0366022783 -3.437352e-03
sample63   0.0013742171  3.288796e-02
sample64  -0.0070599859  2.739588e-02
sample65   0.0041201911  1.498268e-02
sample66   0.0143173351 -1.968812e-02
sample67  -0.0467477531 -1.929938e-02
sample68  -0.0306751978 -1.436184e-02
sample69  -0.0125317217  4.130407e-03
sample70  -0.0068071487  8.080857e-03
sample71   0.0169170264 -7.027348e-03
sample72  -0.0346909749 -1.333770e-02
sample73  -0.0280506153  1.493843e-02
sample74  -0.0182611498  3.294697e-03
sample75  -0.0120563964  8.974612e-03
sample76   0.0001437236 -4.253184e-02
sample77   0.0065330299 -5.252886e-02
sample78   0.0288278141 -1.127782e-02
sample79   0.0503961481 -1.023318e-02
sample80  -0.0207693429  3.648391e-02
sample81   0.0163562768 -9.074596e-03
sample82  -0.0084317129 -1.478976e-02
sample83  -0.0474097918 -1.103126e-02
sample84   0.0177181395 -7.191197e-03
sample85  -0.0342718548 -3.082360e-02
sample86  -0.0261671791 -1.089491e-02
sample87  -0.0009486358 -2.411514e-02
sample88   0.0020528931 -2.894615e-02
sample89  -0.0189361111 -2.638639e-03
sample90  -0.0009863658 -2.390075e-02
sample91  -0.0124352695  8.153234e-02
sample92   0.0564264106 -8.909537e-03
sample93  -0.0081461774  1.570851e-02
sample94  -0.0054896581  1.547251e-02
sample95   0.0224073150 -4.374348e-04
sample96   0.0173528924 -3.050441e-03
sample97   0.0067948115  5.008237e-03
sample98  -0.0116030825  1.498764e-02
sample99   0.0246422688 -4.054795e-03
sample100 -0.0069420745 -4.846343e-04
sample101  0.0124923691  3.091503e-02
sample102  0.0650835386 -1.367400e-02
sample103 -0.0042741828  7.855985e-03
sample104  0.0250591040 -4.171938e-03
sample105  0.0157516368 -3.121990e-02
sample106  0.0060593853 -5.101693e-03
sample107 -0.0098329626  1.044506e-02
sample108  0.0044269853  4.142036e-03
sample109  0.0572473486  1.517542e-02
sample110  0.0090474827 -5.119868e-03
sample111  0.0444263015  7.983232e-03
sample112 -0.0131765484 -9.696342e-04
sample113  0.0241047399  6.706740e-03
sample114  0.0074558775 -4.728652e-03
sample115  0.0611851433  1.117210e-02
sample116  0.0432646951 -1.380556e-02
sample117  0.0516750066 -3.575617e-02
sample118  0.0139942100 -3.279138e-03
sample119  0.0291722987  5.587946e-02
sample120  0.0103515853 -1.690016e-03
sample121 -0.0091396331  3.552116e-02
sample122  0.0260431679 -7.583975e-03
sample123 -0.0076666389 -1.628489e-02
sample124  0.0283466326  3.127845e-03
sample125  0.0016472378 -2.770692e-02
sample126 -0.0286529417  3.489336e-02
sample127 -0.0010224500  7.483214e-03
sample128  0.0209049296  2.572016e-02
sample129 -0.0218184878 -1.755347e-02
sample130 -0.0005009620 -1.697978e-02
sample131 -0.0134032968  4.637390e-03
sample132  0.0198526786  5.723983e-04
sample133  0.0088812957 -9.988115e-03
sample134 -0.0137484514  1.172591e-02
sample135 -0.0220314568  1.347465e-02
sample136 -0.0185173353  5.168079e-03
sample137 -0.0248352123 -9.472788e-03
sample138  0.0301635767 -1.175283e-02
sample139 -0.0173576929 -3.872592e-02
sample140 -0.0262157762  2.456863e-02
sample141  0.0058369763 -1.420854e-02
sample142  0.0207886071 -1.188764e-02
sample143  0.0092832598 -1.324238e-02
sample144  0.0028442140  3.627979e-03
sample145  0.0199749569  2.862202e-03
sample146 -0.0182236697  1.726556e-03
sample147 -0.0282519995 -2.825595e-02
sample148  0.0065435868 -1.572917e-02
sample149  0.0158233820 -2.159451e-02
sample150 -0.0177383738 -3.020633e-03
sample151  0.0245166984 -6.888241e-03
sample152  0.0107259913  3.314630e-02
sample153  0.0550963965  3.758760e-02
sample154 -0.0131452472 -8.153903e-04
sample155 -0.0211742574  2.642246e-03
sample156 -0.0117803505  2.698265e-02
sample157 -0.0096167165  1.433840e-02
sample158 -0.0101754772  9.137620e-03
sample159  0.0120662931 -2.565236e-02
sample160 -0.0132238202  2.916023e-03
sample161  0.0274491966 -1.748284e-02
sample162  0.0012482909  3.152261e-02
sample163  0.0042031315  1.830701e-02
sample164  0.0174896157 -1.175915e-02
sample165  0.0097517662 -6.119019e-03
sample166  0.0190134679 -1.121582e-02
sample167 -0.0044140836  4.665585e-03
sample168  0.0049689168 -1.941822e-02
sample169 -0.0209802098  3.498729e-03
> o2plsRes@scores$dist[[2]] ## Distinctive scores for Block 2
                   [,1]          [,2]
sample1   -0.0515543627 -0.0305856787
sample2   -0.0144993256  0.0236342950
sample3   -0.0371833108 -0.0140263348
sample4    0.0068945388 -0.0132539692
sample5    0.0215035333 -0.0663338101
sample6   -0.0187055152  0.0088773016
sample7   -0.0061521552  0.0064029054
sample8   -0.0210874459  0.0334652901
sample9    0.0516865043 -0.0291142799
sample10   0.0059440366 -0.0527217447
sample11   0.0393010793 -0.0200624712
sample12  -0.0420837100  0.0131331362
sample13   0.0333252565  0.0818552509
sample14  -0.0190062644  0.0160202175
sample15  -0.0030968049 -0.0189230681
sample16  -0.0004452158  0.0018880102
sample17  -0.0185848615  0.0240170131
sample18  -0.0273093598  0.0230213640
sample19  -0.0217761111 -0.0445894441
sample20   0.0245820821  0.0159812738
sample21   0.0034527644 -0.0400016054
sample22  -0.0340789054  0.0039289109
sample23  -0.0010344929 -0.0310161212
sample24   0.0289468503  0.0760962436
sample25  -0.0119098496 -0.0122798760
sample26  -0.0181001057  0.0517892852
sample27   0.0050465417 -0.0086515844
sample28   0.0057491502  0.0358830107
sample29  -0.0051104246  0.0116605117
sample30  -0.0103085904  0.0039678538
sample31  -0.0319929858  0.0090606113
sample32  -0.0036232521 -0.0328202010
sample33  -0.0534742153  0.0024751837
sample34  -0.0067495749 -0.0111000311
sample35   0.0378745721  0.0465929296
sample36   0.0647886800  0.0359987924
sample37   0.0488441236  0.0492906912
sample38  -0.0251514062  0.0197110110
sample39  -0.0085428066 -0.0105117852
sample40   0.0379324087  0.0440810741
sample41  -0.0044199152 -0.0128820644
sample42  -0.0292553573 -0.0067045265
sample43  -0.0077829155 -0.0510178219
sample44   0.0045122248  0.0479660309
sample45  -0.0074444298 -0.0051116726
sample46  -0.0088025512  0.0196186661
sample47   0.0076696301  0.0215947965
sample48   0.0290108585 -0.0175568376
sample49  -0.0141754858  0.0184717099
sample50   0.0006282201 -0.0233054373
sample51   0.0441995177 -0.0410022921
sample52   0.0715329391 -0.0399499475
sample53  -0.0095954087 -0.0029140909
sample54   0.0048933768 -0.0281884386
sample55   0.0327325487 -0.0532290012
sample56   0.0323068984 -0.0256595538
sample57   0.0806603122 -0.0286748097
sample58  -0.0064792049 -0.0006945349
sample59   0.0088958941  0.0067389649
sample60   0.0874124612  0.0431964341
sample61   0.0577604571 -0.0326112099
sample62  -0.0313318464  0.0224391756
sample63  -0.0233625220  0.0125110562
sample64  -0.0086426068  0.0148770341
sample65   0.0025256193 -0.0404466327
sample66   0.0006014071 -0.0471576264
sample67   0.0706087042  0.0516228406
sample68   0.0082301011  0.0033109509
sample69  -0.0475076743  0.0001452708
sample70  -0.0600773716  0.0089986962
sample71  -0.0096321627 -0.0050761187
sample72  -0.0031773546 -0.0166221542
sample73  -0.0113700517 -0.0191726684
sample74  -0.0014179662 -0.0608101325
sample75   0.0041911740 -0.0399981269
sample76  -0.0055326449  0.0353114263
sample77  -0.0260214459  0.0305731380
sample78  -0.0119267436  0.0632236007
sample79   0.0186017239  0.0027402910
sample80   0.0241047889 -0.0472697181
sample81  -0.0220288317 -0.0079577210
sample82  -0.0180751258  0.0639051029
sample83  -0.0256671713 -0.0125898269
sample84   0.0161392598 -0.0567222449
sample85   0.0139988188  0.0322763454
sample86  -0.0198382995  0.0389225776
sample87   0.0266270281 -0.0032979996
sample88   0.0515677078  0.0117902495
sample89   0.0014022125 -0.0140510488
sample90  -0.0375949749  0.0044004551
sample91   0.0310397965  0.0440610926
sample92   0.0270570567  0.0324380452
sample93  -0.0215009202  0.0063993941
sample94  -0.0415702912 -0.0037692077
sample95  -0.0168416047  0.0010019120
sample96  -0.0285582661 -0.0187991000
sample97  -0.0490843868 -0.0266760748
sample98  -0.0171579033 -0.0112897471
sample99  -0.0271316525  0.0232395583
sample100 -0.0301789816  0.0305498693
sample101 -0.0264371151  0.0170723968
sample102  0.0012767734 -0.0248949597
sample103  0.0055214687 -0.0030040587
sample104  0.0251346074 -0.0165212671
sample105  0.0062424215 -0.0400309901
sample106  0.0069768684  0.0154982315
sample107 -0.0315912602 -0.0118883820
sample108 -0.0109690679  0.0023637162
sample109 -0.0014762845  0.0165583675
sample110  0.0036971063  0.0168260726
sample111 -0.0071624739 -0.0345651461
sample112  0.0046098120 -0.0048009350
sample113  0.0082236008 -0.0383233357
sample114 -0.0293642209 -0.0165595240
sample115 -0.0003260453  0.0135805368
sample116  0.0183575759  0.0665377581
sample117  0.0227640036 -0.0012287760
sample118  0.0015695248  0.0472617382
sample119  0.0190084932  0.0590034062
sample120 -0.0449645755  0.0072755697
sample121  0.0077307184  0.0104738937
sample122 -0.0027132063 -0.0394983138
sample123  0.0016959300  0.0028593594
sample124 -0.0365091615  0.0040382925
sample125 -0.0053658663 -0.0316029164
sample126 -0.0458032408  0.0019165544
sample127 -0.0494064872  0.0088209044
sample128 -0.0155454766  0.0186819802
sample129 -0.0184340400  0.0038684312
sample130 -0.0303640987 -0.0052225766
sample131 -0.0088697422  0.0156339713
sample132 -0.0433916471 -0.0154075483
sample133  0.0204029276 -0.0282209049
sample134  0.0175513332  0.0262883962
sample135  0.0029009925  0.0017003151
sample136 -0.0367997573 -0.0072249751
sample137 -0.0348600323  0.0075400273
sample138 -0.0044063824 -0.0053752428
sample139  0.0073103935  0.0308956174
sample140  0.0039925654 -0.0167019605
sample141 -0.0184093462 -0.0387953445
sample142  0.0268670676 -0.0239229634
sample143  0.0421049126 -0.0110888235
sample144  0.0017253664 -0.0341766012
sample145  0.0681741320 -0.0073526377
sample146 -0.0239965222  0.0118396767
sample147 -0.0063453522  0.0183130585
sample148  0.0230825251 -0.0379753037
sample149  0.0223298673  0.0188909118
sample150  0.0055709108  0.0174179009
sample151  0.0039177786 -0.0233533275
sample152  0.0134325667  0.0302344591
sample153  0.0511990309  0.0730230140
sample154  0.0006698324  0.0154177486
sample155  0.0032926626 -0.0288651601
sample156 -0.0016463495 -0.0474657733
sample157 -0.0045857599  0.0154934573
sample158  0.0201775524 -0.0332982124
sample159 -0.0086909001  0.0073496711
sample160  0.0295437331 -0.0555734536
sample161  0.0332754288  0.0033779619
sample162  0.0121954537  0.0433540412
sample163 -0.0173490933  0.0227219128
sample164  0.0143374783 -0.0453542590
sample165  0.0343612593 -0.0511194536
sample166 -0.0157536004  0.0094621170
sample167 -0.0179654624 -0.0006982358
sample168 -0.0033829919  0.0060747155
sample169  0.0116231468 -0.0015112800
> 
> ## 3.3 Plotting VAF
> 
> # DISCO-SCA plotVAF
> plotVAF(discoRes)
> 
> # JIVE plotVAF
> plotVAF(jiveRes)
> 
> 
> #########################
> ## PART 4. Plot Results
> 
> # Scores for common part. DISCO-SCA
> plotRes(object=discoRes,comps=c(1,2),what="scores",type="common",
+              combined=FALSE,block=NULL,color="classname",shape=NULL,labels=NULL,
+              background=TRUE,palette=NULL,pointSize=4,labelSize=NULL,
+              axisSize=NULL,titleSize=NULL)
> 
> # Scores for common part. JIVE
> plotRes(object=jiveRes,comps=c(1,2),what="scores",type="common",
+              combined=FALSE,block=NULL,color="classname",shape=NULL,labels=NULL,
+              background=TRUE,palette=NULL,pointSize=4,labelSize=NULL,
+              axisSize=NULL,titleSize=NULL)
> 
> # Scores for common part. O2PLS.
> p1 <- plotRes(object=o2plsRes,comps=c(1,2),what="scores",type="common",
+               combined=FALSE,block="expr",color="classname",shape=NULL,
+               labels=NULL,background=TRUE,palette=NULL,pointSize=4,
+               labelSize=NULL,axisSize=NULL,titleSize=NULL)
> p2 <- plotRes(object=o2plsRes,comps=c(1,2),what="scores",type="common",
+               combined=FALSE,block="mirna",color="classname",shape=NULL,
+               labels=NULL,background=TRUE,palette=NULL,pointSize=4,
+               labelSize=NULL,axisSize=NULL,titleSize=NULL)
> legend <- g_legend(p1)
> grid.arrange(arrangeGrob(p1+theme(legend.position="none"),
+                          p2+theme(legend.position="none"),nrow=1),
+              legend,heights=c(6/7,1/7))
> 
> # Combined plot of scores for common part. O2PLS.
> plotRes(object=o2plsRes,comps=c(1,1),what="scores",type="common",
+              combined=TRUE,block=NULL,color="classname",shape=NULL,
+              labels=NULL,background=TRUE,palette=NULL,pointSize=4,
+              labelSize=NULL,axisSize=NULL,titleSize=NULL)
> 
> 
> # Scores for distinctive part. DISCO-SCA. (two plots one for each block)
> p1 <- plotRes(object=discoRes,comps=c(1,2),what="scores",type="individual",
+               combined=FALSE,block="expr",color="classname",shape=NULL,
+               labels=NULL,background=TRUE,palette=NULL,pointSize=4,
+               labelSize=NULL,axisSize=NULL,titleSize=NULL)
> p2 <- plotRes(object=discoRes,comps=c(1,2),what="scores",type="individual",
+               combined=FALSE,block="mirna",color="classname",shape=NULL,
+               labels=NULL,background=TRUE,palette=NULL,pointSize=4,
+               labelSize=NULL,axisSize=NULL,titleSize=NULL)
> legend <- g_legend(p1)
> grid.arrange(arrangeGrob(p1+theme(legend.position="none"),
+                          p2+theme(legend.position="none"),nrow=1),
+              legend,heights=c(6/7,1/7))
> 
> # Combined plot of scores for distinctive part. DISCO-SCA
> plotRes(object=discoRes,comps=c(1,1),what="scores",type="individual",
+              combined=TRUE,block=NULL,color="classname",shape=NULL,
+              labels=NULL,background=TRUE,palette=NULL,pointSize=4,
+              labelSize=NULL,axisSize=NULL,titleSize=NULL)
> 
> # Combined plot of scores for common and distinctive part. O2PLS (two plots one for each block)
> p1 <- plotRes(object=o2plsRes,comps=c(1,1),what="scores",type="both",
+               combined=FALSE,block="expr",color="classname",shape=NULL,
+               labels=NULL,background=TRUE,palette=NULL,pointSize=4,
+               labelSize=NULL,axisSize=NULL,titleSize=NULL)
> p2 <- plotRes(object=o2plsRes,comps=c(1,1),what="scores",type="both",
+               combined=FALSE,block="mirna",color="classname",shape=NULL,
+               labels=NULL,background=TRUE,palette=NULL,pointSize=4,
+               labelSize=NULL,axisSize=NULL,titleSize=NULL)
> legend <- g_legend(p1)
> grid.arrange(arrangeGrob(p1+theme(legend.position="none"),
+                          p2+theme(legend.position="none"),nrow=1),
+              legend,heights=c(6/7,1/7))
> 
> # Combined plot of scores for common and distinctive part. DISCO  (two plots one for each block)
> p1 <- plotRes(object=discoRes,comps=c(1,1),what="scores",type="both",
+               combined=FALSE,block="expr",color="classname",shape=NULL,
+               labels=NULL,background=TRUE,palette=NULL,pointSize=4,
+               labelSize=NULL,axisSize=NULL,titleSize=NULL)
> p2 <- plotRes(object=discoRes,comps=c(1,1),what="scores",type="both",
+               combined=FALSE,block="mirna",color="classname",shape=NULL,
+               labels=NULL,background=TRUE,palette=NULL,pointSize=4,
+               labelSize=NULL,axisSize=NULL,titleSize=NULL)
> legend <- g_legend(p1)
> grid.arrange(arrangeGrob(p1+theme(legend.position="none"),
+                          p2+theme(legend.position="none"),nrow=1),
+              legend,heights=c(6/7,1/7))
> 
> # Loadings for common part. DISCO-SCA. (two plots one for each block)
> p1 <- plotRes(object=discoRes,comps=c(1,2),what="loadings",type="common",
+               combined=FALSE,block="expr",color="classname",shape=NULL,
+               labels=NULL,background=TRUE,palette=NULL,pointSize=4,
+               labelSize=NULL,axisSize=NULL,titleSize=NULL)
> p2 <- plotRes(object=discoRes,comps=c(1,2),what="loadings",type="common",
+               combined=FALSE,block="mirna",color="classname",shape=NULL,
+               labels=NULL,background=TRUE,palette=NULL,pointSize=4,
+               labelSize=NULL,axisSize=NULL,titleSize=NULL)
> grid.arrange(arrangeGrob(p1+theme(legend.position="none"),
+                          p2+theme(legend.position="none"),nrow=1),
+              heights=c(6/7,1/7))
> 
> 
> # Loadings for distinctive part. DISCO-SCA. (two plots one for each block)
> p1 <- plotRes(object=discoRes,comps=c(1,2),what="loadings",type="individual",
+               combined=FALSE,block="expr",color="classname",shape=NULL,
+               labels=NULL,background=TRUE,palette=NULL,pointSize=4,
+               labelSize=NULL,axisSize=NULL,titleSize=NULL)
> p2 <- plotRes(object=discoRes,comps=c(1,2),what="loadings",type="individual",
+               combined=FALSE,block="mirna",color="classname",shape=NULL,
+               labels=NULL,background=TRUE,palette=NULL,pointSize=4,
+               labelSize=NULL,axisSize=NULL,titleSize=NULL)
> grid.arrange(arrangeGrob(p1+theme(legend.position="none"),
+                          p2+theme(legend.position="none"),nrow=1),
+              heights=c(6/7,1/7))
> 
> 
> # Combined plot for loadings from common and distinctive part  (two plots one for each block)
> p1 <- plotRes(object=discoRes,comps=c(1,1),what="loadings",type="both",
+               combined=FALSE,block="expr",color="classname",shape=NULL,
+               labels=NULL,background=TRUE,palette=NULL,pointSize=4,
+               labelSize=NULL,axisSize=NULL,titleSize=NULL)
> p2 <- plotRes(object=discoRes,comps=c(1,1),what="loadings",type="both",
+               combined=FALSE,block="mirna",color="classname",shape=NULL,
+               labels=NULL,background=TRUE,palette=NULL,pointSize=4,
+               labelSize=NULL,axisSize=NULL,titleSize=NULL)
> grid.arrange(arrangeGrob(p1+theme(legend.position="none"),
+                          p2+theme(legend.position="none"),nrow=1),
+              heights=c(6/7,1/7))
> 
> 
> 
> ## Plot scores and loadings togheter: Common components DISCO-SCA
> p1 <- plotRes(object=discoRes,comps=c(1,2),what="both",type="common",
+         combined=FALSE,block="expr",color="classname",shape=NULL,labels=NULL,
+         background=TRUE,palette=NULL,pointSize=4,labelSize=NULL,
+         axisSize=NULL,titleSize=NULL)
> p2 <- plotRes(object=discoRes,comps=c(1,2),what="both",type="common",
+               combined=FALSE,block="mirna",color="classname",shape=NULL,labels=NULL,
+               background=TRUE,palette=NULL,pointSize=4,labelSize=NULL,
+               axisSize=NULL,titleSize=NULL)
> grid.arrange(arrangeGrob(p1+theme(legend.position="none"),
+                          p2+theme(legend.position="none"),nrow=1),
+              heights=c(6/7,1/7))
> 
> 
> ## Plot scores and loadings togheter:  Common components O2PLS
> p1 <- plotRes(object=o2plsRes,comps=c(1,2),what="both",type="common",
+               combined=FALSE,block="expr",color="classname",shape=NULL,labels=NULL,
+               background=TRUE,palette=NULL,pointSize=4,labelSize=NULL,
+               axisSize=NULL,titleSize=NULL)
> p2 <- plotRes(object=o2plsRes,comps=c(1,2),what="both",type="common",
+               combined=FALSE,block="mirna",color="classname",shape=NULL,labels=NULL,
+               background=TRUE,palette=NULL,pointSize=4,labelSize=NULL,
+               axisSize=NULL,titleSize=NULL)
> grid.arrange(arrangeGrob(p1+theme(legend.position="none"),
+                          p2+theme(legend.position="none"),nrow=1),
+              heights=c(6/7,1/7))
> 
> 
> ## Plot scores and loadings togheter: Distintive components DISCO-SCA
> p1 <- plotRes(object=discoRes,comps=c(1,2),what="both",type="individual",
+               combined=FALSE,block="expr",color="classname",shape=NULL,labels=NULL,
+               background=TRUE,palette=NULL,pointSize=4,labelSize=NULL,
+               axisSize=NULL,titleSize=NULL)
> p2 <- plotRes(object=discoRes,comps=c(1,2),what="both",type="individual",
+               combined=FALSE,block="mirna",color="classname",shape=NULL,labels=NULL,
+               background=TRUE,palette=NULL,pointSize=4,labelSize=NULL,
+               axisSize=NULL,titleSize=NULL)
> grid.arrange(arrangeGrob(p1+theme(legend.position="none"),
+                          p2+theme(legend.position="none"),nrow=1),
+              heights=c(6/7,1/7))
> 
> 
> 
> 
> proc.time()
   user  system elapsed 
 14.039   0.243  14.287 

Example timings

STATegRa.Rcheck/STATegRa-Ex.timings

nameusersystemelapsed
STATegRaUsersGuide0.0010.0000.001
STATegRa_data0.1890.0080.197
STATegRa_data_TCGA_BRCA0.0020.0000.002
bioDist0.7230.0200.744
bioDistFeature0.4810.0200.501
bioDistFeaturePlot0.4550.0200.476
bioDistW0.4780.0040.483
bioDistWPlot0.4740.0040.478
bioMap0.0030.0000.003
combiningMappings0.0130.0000.012
createOmicsExpressionSet0.1360.0000.136
getInitialData1.3230.0081.332
getLoadings1.4540.0281.485
getMethodInfo1.3390.0041.344
getPreprocessing1.6080.1241.734
getScores1.3550.0081.365
getVAF1.4500.0281.481
holistOmics0.0020.0000.002
modelSelection1.3650.2601.627
omicsCompAnalysis3.4950.0483.547
omicsNPC0.0030.0000.002
plotRes4.9820.0675.056
plotVAF4.2030.0244.233