Back to Multiple platform build/check report for BioC 3.17: simplified long |
|
This page was generated on 2023-04-01 11:06:16 -0400 (Sat, 01 Apr 2023).
Hostname | OS | Arch (*) | R version | Installed pkgs |
---|---|---|---|---|
nebbiolo1 | Linux (Ubuntu 22.04.1 LTS) | x86_64 | R Under development (unstable) (2023-03-16 r83996) -- "Unsuffered Consequences" | 4551 |
palomino3 | Windows Server 2022 Datacenter | x64 | R Under development (unstable) (2023-03-15 r83984 ucrt) -- "Unsuffered Consequences" | 4312 |
merida1 | macOS 10.14.6 Mojave | x86_64 | R Under development (unstable) (2023-03-16 r83985) -- "Unsuffered Consequences" | 4309 |
Click on any hostname to see more info about the system (e.g. compilers) (*) as reported by 'uname -p', except on Windows and Mac OS X |
To the developers/maintainers of the SAIGEgds package: - Allow up to 24 hours (and sometimes 48 hours) for your latest push to git@git.bioconductor.org:packages/SAIGEgds.git to reflect on this report. See Troubleshooting Build Report for more information. - Use the following Renviron settings to reproduce errors and warnings. Note: If "R CMD check" recently failed on the Linux builder over a missing dependency, add the missing dependency to "Suggests" in your DESCRIPTION file. See the Renviron.bioc for details. |
Package 1777/2199 | Hostname | OS / Arch | INSTALL | BUILD | CHECK | BUILD BIN | ||||||||
SAIGEgds 1.99.1 (landing page) Xiuwen Zheng
| nebbiolo1 | Linux (Ubuntu 22.04.1 LTS) / x86_64 | OK | OK | OK | ![]() | ||||||||
palomino3 | Windows Server 2022 Datacenter / x64 | OK | OK | OK | NA | |||||||||
merida1 | macOS 10.14.6 Mojave / x86_64 | OK | OK | OK | OK | ![]() | ||||||||
Package: SAIGEgds |
Version: 1.99.1 |
Command: rm -rf SAIGEgds.buildbin-libdir && mkdir SAIGEgds.buildbin-libdir && /Users/biocbuild/BBS/utils/build-universal.sh SAIGEgds_1.99.1.tar.gz /Library/Frameworks/R.framework/Resources/bin/R SAIGEgds.buildbin-libdir |
StartedAt: 2023-04-01 09:44:22 -0400 (Sat, 01 Apr 2023) |
EndedAt: 2023-04-01 09:47:51 -0400 (Sat, 01 Apr 2023) |
EllapsedTime: 209.0 seconds |
RetCode: 0 |
Status: OK |
PackageFile: SAIGEgds_1.99.1.tgz |
PackageFileSize: 2.287 MiB |
############################################################################## ############################################################################## ### ### Running command: ### ### rm -rf SAIGEgds.buildbin-libdir && mkdir SAIGEgds.buildbin-libdir && /Users/biocbuild/BBS/utils/build-universal.sh SAIGEgds_1.99.1.tar.gz /Library/Frameworks/R.framework/Resources/bin/R SAIGEgds.buildbin-libdir ### ############################################################################## ############################################################################## >>>>>>> >>>>>>> INSTALLATION WITH 'R CMD INSTALL --preclean --no-multiarch --library=SAIGEgds.buildbin-libdir SAIGEgds_1.99.1.tar.gz' >>>>>>> * installing *source* package ‘SAIGEgds’ ... ** using staged installation ** libs using C++ compiler: ‘Apple clang version 11.0.0 (clang-1100.0.33.17)’ using C++11 using SDK: ‘’ clang++ -mmacosx-version-min=10.13 -std=gnu++11 -I"/Library/Frameworks/R.framework/Resources/include" -DNDEBUG -DARMA_64BIT_WORD=1 -I'/Library/Frameworks/R.framework/Versions/4.3/Resources/library/Rcpp/include' -I'/Library/Frameworks/R.framework/Versions/4.3/Resources/library/RcppArmadillo/include' -I'/Library/Frameworks/R.framework/Versions/4.3/Resources/library/RcppParallel/include' -I/usr/local/include -fPIC -Wall -g -O2 -c SPATest.cpp -o SPATest.o clang++ -mmacosx-version-min=10.13 -std=gnu++11 -I"/Library/Frameworks/R.framework/Resources/include" -DNDEBUG -DARMA_64BIT_WORD=1 -I'/Library/Frameworks/R.framework/Versions/4.3/Resources/library/Rcpp/include' -I'/Library/Frameworks/R.framework/Versions/4.3/Resources/library/RcppArmadillo/include' -I'/Library/Frameworks/R.framework/Versions/4.3/Resources/library/RcppParallel/include' -I/usr/local/include -fPIC -Wall -g -O2 -c saige_fitnull.cpp -o saige_fitnull.o clang++ -mmacosx-version-min=10.13 -std=gnu++11 -I"/Library/Frameworks/R.framework/Resources/include" -DNDEBUG -DARMA_64BIT_WORD=1 -I'/Library/Frameworks/R.framework/Versions/4.3/Resources/library/Rcpp/include' -I'/Library/Frameworks/R.framework/Versions/4.3/Resources/library/RcppArmadillo/include' -I'/Library/Frameworks/R.framework/Versions/4.3/Resources/library/RcppParallel/include' -I/usr/local/include -fPIC -Wall -g -O2 -c saige_main.cpp -o saige_main.o clang++ -mmacosx-version-min=10.13 -std=gnu++11 -I"/Library/Frameworks/R.framework/Resources/include" -DNDEBUG -DARMA_64BIT_WORD=1 -I'/Library/Frameworks/R.framework/Versions/4.3/Resources/library/Rcpp/include' -I'/Library/Frameworks/R.framework/Versions/4.3/Resources/library/RcppArmadillo/include' -I'/Library/Frameworks/R.framework/Versions/4.3/Resources/library/RcppParallel/include' -I/usr/local/include -fPIC -Wall -g -O2 -c saige_misc.cpp -o saige_misc.o clang++ -mmacosx-version-min=10.13 -std=gnu++11 -I"/Library/Frameworks/R.framework/Resources/include" -DNDEBUG -DARMA_64BIT_WORD=1 -I'/Library/Frameworks/R.framework/Versions/4.3/Resources/library/Rcpp/include' -I'/Library/Frameworks/R.framework/Versions/4.3/Resources/library/RcppArmadillo/include' -I'/Library/Frameworks/R.framework/Versions/4.3/Resources/library/RcppParallel/include' -I/usr/local/include -fPIC -Wall -g -O2 -c vec_ext_avx2.cpp -o vec_ext_avx2.o clang++ -mmacosx-version-min=10.13 -std=gnu++11 -I"/Library/Frameworks/R.framework/Resources/include" -DNDEBUG -DARMA_64BIT_WORD=1 -I'/Library/Frameworks/R.framework/Versions/4.3/Resources/library/Rcpp/include' -I'/Library/Frameworks/R.framework/Versions/4.3/Resources/library/RcppArmadillo/include' -I'/Library/Frameworks/R.framework/Versions/4.3/Resources/library/RcppParallel/include' -I/usr/local/include -fPIC -Wall -g -O2 -c vec_ext_avx512bw.cpp -o vec_ext_avx512bw.o clang++ -mmacosx-version-min=10.13 -std=gnu++11 -I"/Library/Frameworks/R.framework/Resources/include" -DNDEBUG -DARMA_64BIT_WORD=1 -I'/Library/Frameworks/R.framework/Versions/4.3/Resources/library/Rcpp/include' -I'/Library/Frameworks/R.framework/Versions/4.3/Resources/library/RcppArmadillo/include' -I'/Library/Frameworks/R.framework/Versions/4.3/Resources/library/RcppParallel/include' -I/usr/local/include -fPIC -Wall -g -O2 -c vec_ext_def.cpp -o vec_ext_def.o clang++ -mmacosx-version-min=10.13 -std=gnu++11 -I"/Library/Frameworks/R.framework/Resources/include" -DNDEBUG -DARMA_64BIT_WORD=1 -I'/Library/Frameworks/R.framework/Versions/4.3/Resources/library/Rcpp/include' -I'/Library/Frameworks/R.framework/Versions/4.3/Resources/library/RcppArmadillo/include' -I'/Library/Frameworks/R.framework/Versions/4.3/Resources/library/RcppParallel/include' -I/usr/local/include -fPIC -Wall -g -O2 -c vectorization.cpp -o vectorization.o clang++ -mmacosx-version-min=10.13 -std=gnu++11 -dynamiclib -Wl,-headerpad_max_install_names -undefined dynamic_lookup -single_module -multiply_defined suppress -L/Library/Frameworks/R.framework/Resources/lib -L/usr/local/lib -o SAIGEgds.so SPATest.o saige_fitnull.o saige_main.o saige_misc.o vec_ext_avx2.o vec_ext_avx512bw.o vec_ext_def.o vectorization.o -lm -L/Library/Frameworks/R.framework/Resources/lib -lRlapack -L/Library/Frameworks/R.framework/Resources/lib -lRblas -L/usr/local/gfortran/lib/gcc/x86_64-apple-darwin18/8.2.0 -L/usr/local/gfortran/lib -lgfortran -lquadmath -lm -F/Library/Frameworks/R.framework/.. -framework R -Wl,-framework -Wl,CoreFoundation installing to /Users/biocbuild/bbs-3.17-bioc/meat/SAIGEgds.buildbin-libdir/00LOCK-SAIGEgds/00new/SAIGEgds/libs ** R ** inst ** byte-compile and prepare package for lazy loading ** help *** installing help indices ** building package indices ** installing vignettes ** testing if installed package can be loaded from temporary location ** checking absolute paths in shared objects and dynamic libraries ** testing if installed package can be loaded from final location ** testing if installed package keeps a record of temporary installation path * DONE (SAIGEgds) >>>>>>> >>>>>>> FIXING LINKS FOR SAIGEgds.buildbin-libdir/SAIGEgds/libs/SAIGEgds.so >>>>>>> install_name_tool -change "/usr/local/lib/libgcc_s.1.dylib" "/Library/Frameworks/R.framework/Versions/4.3/Resources/lib/libgcc_s.1.dylib" "SAIGEgds.buildbin-libdir/SAIGEgds/libs/SAIGEgds.so" install_name_tool -change "/usr/local/lib/libgfortran.5.dylib" "/Library/Frameworks/R.framework/Versions/4.3/Resources/lib/libgfortran.5.dylib" "SAIGEgds.buildbin-libdir/SAIGEgds/libs/SAIGEgds.so" install_name_tool -change "/usr/local/lib/libquadmath.0.dylib" "/Library/Frameworks/R.framework/Versions/4.3/Resources/lib/libquadmath.0.dylib" "SAIGEgds.buildbin-libdir/SAIGEgds/libs/SAIGEgds.so" install_name_tool -change "/usr/local/gfortran/lib/libgfortran.5.dylib" "/Library/Frameworks/R.framework/Versions/4.3/Resources/lib/libgfortran.5.dylib" "SAIGEgds.buildbin-libdir/SAIGEgds/libs/SAIGEgds.so" install_name_tool -change "/usr/local/gfortran/lib/libquadmath.0.dylib" "/Library/Frameworks/R.framework/Versions/4.3/Resources/lib/libquadmath.0.dylib" "SAIGEgds.buildbin-libdir/SAIGEgds/libs/SAIGEgds.so"