Index of /checkResults/devel/bioc-LATEST/RNAsense/raw-results

[ICO]NameLast modifiedSizeDescription

[DIR]Parent Directory  -  
[   ]info.dcf03-Feb-2023 01:10 279  
[DIR]merida1/03-Feb-2023 01:10 -  
[DIR]nebbiolo1/03-Feb-2023 01:06 -  
[DIR]palomino3/03-Feb-2023 01:08 -