![]() | Name | Last modified | Size | Description |
---|---|---|---|---|
![]() | Parent Directory | - | ||
![]() | buildsrc-out.txt | 04-Oct-2023 00:37 | 873 | |
![]() | buildsrc-summary.dcf | 04-Oct-2023 00:37 | 421 | |
![]() | checksrc-out.txt | 04-Oct-2023 00:37 | 6.0K | |
![]() | checksrc-summary.dcf | 04-Oct-2023 00:37 | 424 | |
![]() | install-out.txt | 04-Oct-2023 00:37 | 955 | |
![]() | install-summary.dcf | 04-Oct-2023 00:37 | 261 | |