![]() | Name | Last modified | Size | Description |
---|---|---|---|---|
![]() | Parent Directory | - | ||
![]() | buildsrc-out.txt | 04-Oct-2023 00:41 | 867 | |
![]() | buildsrc-summary.dcf | 04-Oct-2023 00:41 | 415 | |
![]() | checksrc-out.txt | 04-Oct-2023 00:41 | 5.9K | |
![]() | checksrc-summary.dcf | 04-Oct-2023 00:41 | 413 | |
![]() | install-out.txt | 04-Oct-2023 00:41 | 943 | |
![]() | install-summary.dcf | 04-Oct-2023 00:41 | 255 | |