Index of /checkResults/devel/bioc-LATEST/RNAsense/raw-results/merida1

[ICO]NameLast modifiedSizeDescription

[DIR]Parent Directory  -  
[TXT]buildbin-out.txt27-Feb-2024 04:01 1.2K 
[   ]buildbin-summary.dcf27-Feb-2024 04:01 534  
[TXT]buildsrc-out.txt27-Feb-2024 04:01 883  
[   ]buildsrc-summary.dcf27-Feb-2024 04:01 431  
[TXT]checksrc-out.txt27-Feb-2024 04:01 5.9K 
[   ]checksrc-summary.dcf27-Feb-2024 04:01 455  
[TXT]install-out.txt27-Feb-2024 04:01 1.0K 
[   ]install-summary.dcf27-Feb-2024 04:01 271