Index of /checkResults/devel/bioc-LATEST/RNAsense/raw-results/palomino4

[ICO]NameLast modifiedSizeDescription

[DIR]Parent Directory  -  
[TXT]buildbin-out.txt04-Oct-2023 00:38 1.1K 
[   ]buildbin-summary.dcf04-Oct-2023 00:38 521  
[TXT]buildsrc-out.txt04-Oct-2023 00:38 904  
[   ]buildsrc-summary.dcf04-Oct-2023 00:38 455  
[TXT]checksrc-out.txt04-Oct-2023 00:38 5.8K 
[   ]checksrc-summary.dcf04-Oct-2023 00:38 457  
[TXT]install-out.txt04-Oct-2023 00:38 965  
[   ]install-summary.dcf04-Oct-2023 00:38 270