Back to Multiple platform build/check report for BioC 3.17:   simplified   long
[A]BCDEFGHIJKLMNOPQRSTUVWXYZ

This page was generated on 2023-03-21 11:05:04 -0400 (Tue, 21 Mar 2023).

HostnameOSArch (*)R versionInstalled pkgs
nebbiolo1Linux (Ubuntu 22.04.1 LTS)x86_64R Under development (unstable) (2023-03-16 r83996) -- "Unsuffered Consequences" 4305
palomino3Windows Server 2022 Datacenterx64R Under development (unstable) (2023-03-15 r83984 ucrt) -- "Unsuffered Consequences" 4287
merida1macOS 10.14.6 Mojavex86_64R Under development (unstable) (2023-03-16 r83985) -- "Unsuffered Consequences" 4286
Click on any hostname to see more info about the system (e.g. compilers)      (*) as reported by 'uname -p', except on Windows and Mac OS X

CHECK results for ACE on nebbiolo1


To the developers/maintainers of the ACE package:
- Please allow up to 24 hours (and sometimes 48 hours) for your latest push to git@git.bioconductor.org:packages/ACE.git to
reflect on this report. See How and When does the builder pull? When will my changes propagate? for more information.
- Make sure to use the following settings in order to reproduce any error or warning you see on this page.

raw results

Package 11/2189HostnameOS / ArchINSTALLBUILDCHECKBUILD BIN
ACE 1.17.0  (landing page)
Jos B Poell
Snapshot Date: 2023-03-20 14:00:22 -0400 (Mon, 20 Mar 2023)
git_url: https://git.bioconductor.org/packages/ACE
git_branch: master
git_last_commit: b290d38
git_last_commit_date: 2022-11-01 11:18:08 -0400 (Tue, 01 Nov 2022)
nebbiolo1Linux (Ubuntu 22.04.1 LTS) / x86_64  OK    OK    OK  UNNEEDED, same version is already published
palomino3Windows Server 2022 Datacenter / x64  OK    OK    OK    OK  UNNEEDED, same version is already published
merida1macOS 10.14.6 Mojave / x86_64  OK    OK    OK    OK  UNNEEDED, same version is already published

Summary

Package: ACE
Version: 1.17.0
Command: /home/biocbuild/bbs-3.17-bioc/R/bin/R CMD check --install=check:ACE.install-out.txt --library=/home/biocbuild/bbs-3.17-bioc/R/site-library --timings ACE_1.17.0.tar.gz
StartedAt: 2023-03-20 18:37:54 -0400 (Mon, 20 Mar 2023)
EndedAt: 2023-03-20 18:40:59 -0400 (Mon, 20 Mar 2023)
EllapsedTime: 184.4 seconds
RetCode: 0
Status:   OK  
CheckDir: ACE.Rcheck
Warnings: 0

Command output

##############################################################################
##############################################################################
###
### Running command:
###
###   /home/biocbuild/bbs-3.17-bioc/R/bin/R CMD check --install=check:ACE.install-out.txt --library=/home/biocbuild/bbs-3.17-bioc/R/site-library --timings ACE_1.17.0.tar.gz
###
##############################################################################
##############################################################################


* using log directory ‘/home/biocbuild/bbs-3.17-bioc/meat/ACE.Rcheck’
* using R Under development (unstable) (2023-03-16 r83996)
* using platform: x86_64-pc-linux-gnu (64-bit)
* R was compiled by
    gcc (Ubuntu 11.3.0-1ubuntu1~22.04) 11.3.0
    GNU Fortran (Ubuntu 11.3.0-1ubuntu1~22.04) 11.3.0
* running under: Ubuntu 22.04.2 LTS
* using session charset: UTF-8
* checking for file ‘ACE/DESCRIPTION’ ... OK
* this is package ‘ACE’ version ‘1.17.0’
* package encoding: UTF-8
* checking package namespace information ... OK
* checking package dependencies ... OK
* checking if this is a source package ... OK
* checking if there is a namespace ... OK
* checking for hidden files and directories ... OK
* checking for portable file names ... OK
* checking for sufficient/correct file permissions ... OK
* checking whether package ‘ACE’ can be installed ... OK
* checking installed package size ... OK
* checking package directory ... OK
* checking ‘build’ directory ... OK
* checking DESCRIPTION meta-information ... OK
* checking top-level files ... OK
* checking for left-over files ... OK
* checking index information ... OK
* checking package subdirectories ... OK
* checking R files for non-ASCII characters ... OK
* checking R files for syntax errors ... OK
* checking whether the package can be loaded ... OK
* checking whether the package can be loaded with stated dependencies ... OK
* checking whether the package can be unloaded cleanly ... OK
* checking whether the namespace can be loaded with stated dependencies ... OK
* checking whether the namespace can be unloaded cleanly ... OK
* checking loading without being on the library search path ... OK
* checking dependencies in R code ... NOTE
Unexported object imported by a ':::' call: ‘QDNAseq:::sdDiffTrim’
  See the note in ?`:::` about the use of this operator.
* checking S3 generic/method consistency ... OK
* checking replacement functions ... OK
* checking foreign function calls ... OK
* checking R code for possible problems ... NOTE
squaremodel: no visible binding for global variable ‘cellularity’
Undefined global functions or variables:
  cellularity
* checking Rd files ... OK
* checking Rd metadata ... OK
* checking Rd cross-references ... OK
* checking for missing documentation entries ... OK
* checking for code/documentation mismatches ... OK
* checking Rd \usage sections ... OK
* checking Rd contents ... OK
* checking for unstated dependencies in examples ... OK
* checking contents of ‘data’ directory ... OK
* checking data for non-ASCII characters ... OK
* checking LazyData ... OK
* checking data for ASCII and uncompressed saves ... OK
* checking files in ‘vignettes’ ... OK
* checking examples ... OK
Examples with CPU (user + system) or elapsed time > 5s
                    user system elapsed
squaremodelsummary 7.148   0.12   7.268
squaremodel        6.939   0.10   7.039
* checking for unstated dependencies in vignettes ... OK
* checking package vignettes in ‘inst/doc’ ... OK
* checking running R code from vignettes ...
  ‘ACE_vignette.Rmd’ using ‘UTF-8’... OK
 NONE
* checking re-building of vignette outputs ... OK
* checking PDF version of manual ... OK
* DONE

Status: 2 NOTEs
See
  ‘/home/biocbuild/bbs-3.17-bioc/meat/ACE.Rcheck/00check.log’
for details.



Installation output

ACE.Rcheck/00install.out

##############################################################################
##############################################################################
###
### Running command:
###
###   /home/biocbuild/bbs-3.17-bioc/R/bin/R CMD INSTALL ACE
###
##############################################################################
##############################################################################


* installing to library ‘/home/biocbuild/bbs-3.17-bioc/R/site-library’
* installing *source* package ‘ACE’ ...
** using staged installation
** R
** data
*** moving datasets to lazyload DB
** inst
** byte-compile and prepare package for lazy loading
** help
*** installing help indices
** building package indices
** installing vignettes
** testing if installed package can be loaded from temporary location
** testing if installed package can be loaded from final location
** testing if installed package keeps a record of temporary installation path
* DONE (ACE)

Tests output


Example timings

ACE.Rcheck/ACE-Ex.timings

nameusersystemelapsed
ACEcall1.4840.4391.924
analyzegenomiclocations0.0170.0010.017
compresstemplate0.0310.0040.034
copyNumbersSegmented0.9950.0631.058
correlationmatrix0.1030.0150.120
forcesegmentsontemplate0.4020.0040.405
getadjustedsegments0.1940.0120.206
linkvariants0.0260.0000.027
loopsquaremodel3.5130.0323.546
objectsampletotemplate0.0050.0020.008
postanalysisloop0.0000.0000.001
runACE000
singlemodel0.8450.0360.881
singleplot1.2230.0041.227
squaremodel6.9390.1007.039
squaremodelsummary7.1480.1207.268
templatefromequalsegments0.0220.0000.023
twosamplecompare2.5510.0242.576