Back to Multiple platform build/check report for BioC 3.15
ABCDEFGHIJKLMNO[P]QRSTUVWXYZ

This page was generated on 2021-11-30 13:55:36 -0500 (Tue, 30 Nov 2021).

BUILD results for PharmacoGx on merida1

To the developers/maintainers of the PharmacoGx package:
- Please allow up to 24 hours (and sometimes 48 hours) for your latest push to git@git.bioconductor.org:packages/PharmacoGx.git to
reflect on this report. See How and When does the builder pull? When will my changes propagate? here for more information.
- Make sure to use the following settings in order to reproduce any error or warning you see on this page.

raw results

Package 1393/2068HostnameOS / ArchINSTALLBUILDCHECKBUILD BIN
PharmacoGx 2.7.0  (landing page)
Benjamin Haibe-Kains
Snapshot Date: 2021-11-29 14:50:17 -0500 (Mon, 29 Nov 2021)
git_url: https://git.bioconductor.org/packages/PharmacoGx
git_branch: master
git_last_commit: f3d1fbf
git_last_commit_date: 2021-10-26 12:29:36 -0500 (Tue, 26 Oct 2021)
nebbiolo1Linux (Ubuntu 20.04.3 LTS) / x86_64  OK    OK    OK  UNNEEDED, same version is already published
riesling1Windows Server 2019 Standard / x64  OK    OK    OK    OK  
merida1macOS 10.14.6 Mojave / x86_64  OK    OK    OK    OK  NO, package depends on 'CoreGx' which is not available

Summary

Package: PharmacoGx
Version: 2.7.0
Command: /Library/Frameworks/R.framework/Resources/bin/R CMD build --keep-empty-dirs --no-resave-data PharmacoGx
StartedAt: 2021-11-29 22:08:06 -0500 (Mon, 29 Nov 2021)
EndedAt: 2021-11-29 22:11:22 -0500 (Mon, 29 Nov 2021)
EllapsedTime: 196.8 seconds
RetCode: 0
Status:   OK  
PackageFile: PharmacoGx_2.7.0.tar.gz
PackageFileSize: 4.191 MiB

Command output

##############################################################################
##############################################################################
###
### Running command:
###
###   /Library/Frameworks/R.framework/Resources/bin/R CMD build --keep-empty-dirs --no-resave-data PharmacoGx
###
##############################################################################
##############################################################################


* checking for file ‘PharmacoGx/DESCRIPTION’ ... OK
* preparing ‘PharmacoGx’:
* checking DESCRIPTION meta-information ... OK
* installing the package to build vignettes
* creating vignettes ... OK
* checking for LF line-endings in source and make files and shell scripts
* checking for empty or unneeded directories
* looking to see if a ‘data/datalist’ file should be added
* building ‘PharmacoGx_2.7.0.tar.gz’